BEGIN:VCALENDAR
VERSION:2.0
PRODID:-//Diocese of San Jose - ECPv6.15.20//NONSGML v1.0//EN
CALSCALE:GREGORIAN
METHOD:PUBLISH
X-ORIGINAL-URL:https://www.dsj.org
X-WR-CALDESC:Events for Diocese of San Jose
REFRESH-INTERVAL;VALUE=DURATION:PT1H
X-Robots-Tag:noindex
X-PUBLISHED-TTL:PT1H
BEGIN:VTIMEZONE
TZID:UTC
BEGIN:STANDARD
TZOFFSETFROM:+0000
TZOFFSETTO:+0000
TZNAME:UTC
DTSTART:20240101T000000
END:STANDARD
END:VTIMEZONE
BEGIN:VEVENT
DTSTART;TZID=UTC:20251012T140000
DTEND;TZID=UTC:20251012T160000
DTSTAMP:20260419T211819
CREATED:20251004T203820Z
LAST-MODIFIED:20251004T203820Z
UID:10031660-1760277600-1760284800@www.dsj.org
SUMMARY:Santa Teresa Parish Young Adult Bocce Ball Social
DESCRIPTION:Santa Teresa & Beyond Young Adult Group bocce ball social! Come have fun and meet some friendly faces. More events to come!\nWho: any young adult and their friends\nDate and Time: 2PM on Sunday October 12\, 2025\nOptional: join Fr. Edgar’s installation Mass at 11:30AM\, followed by lunch at The Plex prior to our lane reservation\nLocation: The Plex (800 Embedded Way\, San Jose\, CA 95138)\nCost: donations accepted\nRSVP: at QR code in flyer or email youngadults@santateresachurch.com
URL:https://www.dsj.org/event/santa-teresa-parish-young-adult-bocce-ball-social/
LOCATION:The Plex\, 800 Embedded Way\, San Jose\, CA\, 95138\, United States
CATEGORIES:Social
END:VEVENT
END:VCALENDAR