BEGIN:VCALENDAR
VERSION:2.0
PRODID:-//Diocese of San Jose - ECPv6.15.20//NONSGML v1.0//EN
CALSCALE:GREGORIAN
METHOD:PUBLISH
X-WR-CALNAME:Diocese of San Jose
X-ORIGINAL-URL:https://www.dsj.org
X-WR-CALDESC:Events for Diocese of San Jose
REFRESH-INTERVAL;VALUE=DURATION:PT1H
X-Robots-Tag:noindex
X-PUBLISHED-TTL:PT1H
BEGIN:VTIMEZONE
TZID:America/Los_Angeles
BEGIN:DAYLIGHT
TZOFFSETFROM:-0800
TZOFFSETTO:-0700
TZNAME:PDT
DTSTART:20130310T100000
END:DAYLIGHT
BEGIN:STANDARD
TZOFFSETFROM:-0700
TZOFFSETTO:-0800
TZNAME:PST
DTSTART:20131103T090000
END:STANDARD
BEGIN:DAYLIGHT
TZOFFSETFROM:-0800
TZOFFSETTO:-0700
TZNAME:PDT
DTSTART:20140309T100000
END:DAYLIGHT
BEGIN:STANDARD
TZOFFSETFROM:-0700
TZOFFSETTO:-0800
TZNAME:PST
DTSTART:20141102T090000
END:STANDARD
BEGIN:DAYLIGHT
TZOFFSETFROM:-0800
TZOFFSETTO:-0700
TZNAME:PDT
DTSTART:20150308T100000
END:DAYLIGHT
BEGIN:STANDARD
TZOFFSETFROM:-0700
TZOFFSETTO:-0800
TZNAME:PST
DTSTART:20151101T090000
END:STANDARD
BEGIN:DAYLIGHT
TZOFFSETFROM:-0800
TZOFFSETTO:-0700
TZNAME:PDT
DTSTART:20160313T100000
END:DAYLIGHT
BEGIN:STANDARD
TZOFFSETFROM:-0700
TZOFFSETTO:-0800
TZNAME:PST
DTSTART:20161106T090000
END:STANDARD
BEGIN:DAYLIGHT
TZOFFSETFROM:-0800
TZOFFSETTO:-0700
TZNAME:PDT
DTSTART:20170312T100000
END:DAYLIGHT
BEGIN:STANDARD
TZOFFSETFROM:-0700
TZOFFSETTO:-0800
TZNAME:PST
DTSTART:20171105T090000
END:STANDARD
END:VTIMEZONE
BEGIN:VEVENT
DTSTART;TZID=America/Los_Angeles:20161014T180000
DTEND;TZID=America/Los_Angeles:20161014T223000
DTSTAMP:20260423T104159
CREATED:20160909T103628Z
LAST-MODIFIED:20160909T103628Z
UID:10018648-1476468000-1476484200@www.dsj.org
SUMMARY:St. Julie's 6th "A Night to Remember" Gala
DESCRIPTION:St. Julie’s 6th Annual “A Night to Remember” Auction Gala. Join us for a evening of fun and games and take home a treasure or two. \nFlyer
URL:https://www.dsj.org/event/st-julies-6th-night-remember-gala/
LOCATION:St. Julie Billiart Parish – Sullivan Center\, 366 St Julie Drive\, San Jose\, CA\, United States
GEO:37.2273624;-121.8032247
X-APPLE-STRUCTURED-LOCATION;VALUE=URI;X-ADDRESS=St. Julie Billiart Parish – Sullivan Center 366 St Julie Drive San Jose CA United States;X-APPLE-RADIUS=500;X-TITLE=366 St Julie Drive:geo:-121.8032247,37.2273624
END:VEVENT
BEGIN:VEVENT
DTSTART;TZID=America/Los_Angeles:20151016T180000
DTEND;TZID=America/Los_Angeles:20151016T220000
DTSTAMP:20260423T104159
CREATED:20150810T011054Z
LAST-MODIFIED:20150810T011054Z
UID:10018852-1445018400-1445032800@www.dsj.org
SUMMARY:5th Annual A Night to Remember Gala
DESCRIPTION:A Night To Remember – Celebrating a Giving Harvest  Charity Auction ~ Cocktails ~ Hors D ’Oeuvres \n TICKETS :  Early Bird Special : $35.00 each (till August 31) \nClick here to buy tickets.
URL:https://www.dsj.org/event/5th-annual-a-night-to-remember-gala/
LOCATION:St. Julie Billiart Parish – Sullivan Center\, 366 St Julie Drive\, San Jose\, CA\, United States
GEO:37.2273624;-121.8032247
X-APPLE-STRUCTURED-LOCATION;VALUE=URI;X-ADDRESS=St. Julie Billiart Parish – Sullivan Center 366 St Julie Drive San Jose CA United States;X-APPLE-RADIUS=500;X-TITLE=366 St Julie Drive:geo:-121.8032247,37.2273624
END:VEVENT
BEGIN:VEVENT
DTSTART;TZID=America/Los_Angeles:20140320T180000
DTEND;TZID=America/Los_Angeles:20140320T193000
DTSTAMP:20260423T104159
CREATED:20140303T092803Z
LAST-MODIFIED:20140303T092803Z
UID:10018244-1395338400-1395343800@www.dsj.org
SUMMARY:The Catholic Community Foundation of Santa Clara County: Grant Application Workshop
DESCRIPTION:Grant Application Workshops \nPlease make note of the changes to the workshop schedule. \n– March 3rd\,   Saint Justin\, 6:00pm – 7:30pm in the Parish Ministry Center– March 20th\, Saint Julie Billiart\, 6:00pm – 7:30pm in the Sullivan Center \nAs a reminder\, attending a workshop is high encouraged\, but is not necessary to obtain a grant. \nWe apologize for any inconvenience the changes to the schedule may cause. \nIf you have any questions\, please contact:Brianna MartinGrants Program Manager408.995.5219\, x21777 North First Street\, Suite 490San Jose\, California 95112 \nClick here to download this announcement.
URL:https://www.dsj.org/event/the-catholic-community-foundation-of-santa-clara-county-grant-application-workshop-2/
LOCATION:St. Julie Billiart Parish – Sullivan Center\, 366 St Julie Drive\, San Jose\, CA\, United States
GEO:37.2273624;-121.8032247
X-APPLE-STRUCTURED-LOCATION;VALUE=URI;X-ADDRESS=St. Julie Billiart Parish – Sullivan Center 366 St Julie Drive San Jose CA United States;X-APPLE-RADIUS=500;X-TITLE=366 St Julie Drive:geo:-121.8032247,37.2273624
END:VEVENT
END:VCALENDAR