BEGIN:VCALENDAR
VERSION:2.0
PRODID:-//Diocese of San Jose - ECPv6.15.20//NONSGML v1.0//EN
CALSCALE:GREGORIAN
METHOD:PUBLISH
X-WR-CALNAME:Diocese of San Jose
X-ORIGINAL-URL:https://www.dsj.org
X-WR-CALDESC:Events for Diocese of San Jose
REFRESH-INTERVAL;VALUE=DURATION:PT1H
X-Robots-Tag:noindex
X-PUBLISHED-TTL:PT1H
BEGIN:VTIMEZONE
TZID:UTC
BEGIN:STANDARD
TZOFFSETFROM:+0000
TZOFFSETTO:+0000
TZNAME:UTC
DTSTART:20240101T000000
END:STANDARD
END:VTIMEZONE
BEGIN:VEVENT
DTSTART;TZID=UTC:20250420T080000
DTEND;TZID=UTC:20250420T170000
DTSTAMP:20260420T060654
CREATED:20250313T232624Z
LAST-MODIFIED:20250314T150156Z
UID:10030150-1745136000-1745168400@www.dsj.org
SUMMARY:Holy Week Retreat with the MSJ Dominicans
DESCRIPTION:The Dominican Sister of Mission San Jose are hosting a Holy Week Retreat for Single Catholic Women 18-39\, who are curious about Religious life.\nIf you are interested in experiencing Holy Week with the Sisters\, please send and Email to S. Dulce. dulce@msjdominicans.org. \n \n 
URL:https://www.dsj.org/event/holy-week-retreat-with-the-msj-dominicans-2/2025-04-20/
LOCATION:CA
CATEGORIES:Retreats
END:VEVENT
BEGIN:VEVENT
DTSTART;TZID=UTC:20250420T120000
DTEND;TZID=UTC:20250420T150000
DTSTAMP:20260420T060654
CREATED:20250404T224159Z
LAST-MODIFIED:20250404T224258Z
UID:10030171-1745150400-1745161200@www.dsj.org
SUMMARY:Easter Egg Hunt
DESCRIPTION:April 20\, 2025\, 12:30 p.m. – 3:00 p.m.\, St. Joseph of Cupertino Church. \nCome and join the fun as we celebrate Easter Sunday with families. The Easter Egg hunt includes arts and crafts\, games\, face painting\, balloon twisting\, storytelling\, magic bubbles\, and food trucks. Easter egg hunt schedules are as follows: 12:30 p.m. (ages 3-5)\, 1:00 p.m. (ages 6-8)\, and 1:30 p.m. (ages 9-12). Parking for the Easter egg hunt opens at 11:30 p.m. \nRegister here to participate. \n \n  \n 
URL:https://www.dsj.org/event/easter-egg-hunt/
LOCATION:St. Joseph Cupertino\, 10110 N. De Anza Boulevard\, Cupertino\, CA\, United States
CATEGORIES:Social
GEO:37.3242634;-122.0307695
X-APPLE-STRUCTURED-LOCATION;VALUE=URI;X-ADDRESS=St. Joseph Cupertino 10110 N. De Anza Boulevard Cupertino CA United States;X-APPLE-RADIUS=500;X-TITLE=10110 N. De Anza Boulevard:geo:-122.0307695,37.3242634
END:VEVENT
BEGIN:VEVENT
DTSTART;TZID=UTC:20250423T130000
DTEND;TZID=UTC:20250425T150000
DTSTAMP:20260420T060654
CREATED:20241104T165840Z
LAST-MODIFIED:20241104T165840Z
UID:10026942-1745413200-1745593200@www.dsj.org
SUMMARY:Cathedral Basilica of St. Joseph Tour
DESCRIPTION:Enjoy a guided tour of St. Joseph’s Cathedral Basilica in downtown San Jose. Discover the statue carved from the mast of a ship\, who donated many stained glass windows and much more! Tours are Wednesday through Friday from 1-3pm. \n \n 
URL:https://www.dsj.org/event/cathedral-basilica-of-st-joseph-tour/2025-04-23/
LOCATION:CA
END:VEVENT
BEGIN:VEVENT
DTSTART;TZID=UTC:20250426T080000
DTEND;TZID=UTC:20250426T170000
DTSTAMP:20260420T060654
CREATED:20250224T005131Z
LAST-MODIFIED:20250224T005632Z
UID:10030117-1745654400-1745686800@www.dsj.org
SUMMARY:Marche des Hommes; Men's Retreat with the Catholic French Community
DESCRIPTION:Men’s hiking retreat with the French Community; April Saturday 26th to Sunday 27th\, Angel Island; Theme : ‘Because you are precious and honored in my sight’ Isaih 43.4- For every men – Marche des Hommes; Week-end campé à Angel Island sur le thème ‘Tu as du prix à mes yeux’ Isaie 43.4- Pour tous les Hommes !\nRegistration necessary; contact marc.beudet@gmail.com for more info.
URL:https://www.dsj.org/event/marche-des-hommes-mens-retreat-with-the-french-community/2025-04-26/
LOCATION:CA
CATEGORIES:Retreats
END:VEVENT
END:VCALENDAR