BEGIN:VCALENDAR
VERSION:2.0
PRODID:-//Diocese of San Jose - ECPv6.15.20//NONSGML v1.0//EN
CALSCALE:GREGORIAN
METHOD:PUBLISH
X-WR-CALNAME:Diocese of San Jose
X-ORIGINAL-URL:https://www.dsj.org
X-WR-CALDESC:Events for Diocese of San Jose
REFRESH-INTERVAL;VALUE=DURATION:PT1H
X-Robots-Tag:noindex
X-PUBLISHED-TTL:PT1H
BEGIN:VTIMEZONE
TZID:UTC
BEGIN:STANDARD
TZOFFSETFROM:+0000
TZOFFSETTO:+0000
TZNAME:UTC
DTSTART:20240101T000000
END:STANDARD
END:VTIMEZONE
BEGIN:VEVENT
DTSTART;TZID=UTC:20250406T073000
DTEND;TZID=UTC:20250406T183000
DTSTAMP:20260419T213521
CREATED:20250302T213328Z
LAST-MODIFIED:20250302T213427Z
UID:10030124-1743924600-1743964200@www.dsj.org
SUMMARY:Weekend Healing Retreat
DESCRIPTION:Weekend Healing Retreat\, April 4-6\, 2025\, St. Joseph of Cupertino Church: April 4\, 3:30 p.m.-9:30 p.m..; April 5\, 7:30 a.m.-9:30 p.m.; April 6\, 7:30 a.m. – 6:30 p.m. \nLike so many in the Gospel\, in an atmosphere of prayer and adoration\, we encounter Jesus and courageously ask him for healing. Jesus comes and visits us in our woundedness. His simple presence transforms our darkness into light; the lies we believe about ourselves into truth; and the coldness of our isolation into the warmth of His love. Set free from lies\, resentment\, and self-reliance\, we can live in freedom to love God and neighbor. Do you want to be healed? \nClick here for more info and registration.
URL:https://www.dsj.org/event/weekend-healing-retreat/2025-04-06/
LOCATION:St. Joseph of Cupertino Parish\, 10110 N. De Anza Blvd.\, \, Cupertino\, CA\, 95014\, United States
CATEGORIES:Retreats
GEO:37.3242634;-122.0307695
X-APPLE-STRUCTURED-LOCATION;VALUE=URI;X-ADDRESS=St. Joseph of Cupertino Parish 10110 N. De Anza Blvd.  Cupertino CA 95014 United States;X-APPLE-RADIUS=500;X-TITLE=10110 N. De Anza Blvd.\,:geo:-122.0307695,37.3242634
END:VEVENT
BEGIN:VEVENT
DTSTART;TZID=UTC:20250408T190000
DTEND;TZID=UTC:20250408T200000
DTSTAMP:20260419T213521
CREATED:20241127T165356Z
LAST-MODIFIED:20250319T160110Z
UID:10028501-1744138800-1744142400@www.dsj.org
SUMMARY:Chrism Mass 2025
DESCRIPTION:At this annual diocesan liturgy\, Bishop Cantú will bless the Oil of the Sick (used for the Sacrament of Anointing of the Sick) and the Oil of the Catechumen (used for the Sacrament of Baptism) and consecrated the Sacred Chrism (used for the Sacraments of Baptism\, Confirmation\, and Ordination). \nPriests of the diocese will gather together to renew their priestly promises\, their fidelity to the Bishop and to Jesus Christ. The bishop will consecrate the sacred Chrism and bless the oils used in the sacraments of Baptism\, Confirmation\, Anointing of the Sick\, and Holy Orders. The holy oils serve as an expression of the Church’s unity\, guaranteed by the episcopate\, pointing to Christ\, the true ‘shepherd and guardian’ of our souls. \n\nEach parish will have 3 lay representatives to participate and receive the holy oils.\nLimited seating for the public will be available\, Cathedral doors will open at 6:20pm.\n\nLive streamed Mass at www.facebook.com/DioceseSanJose
URL:https://www.dsj.org/event/chrism-mass-2025/
LOCATION:Cathedral Basilica of Saint Joseph\, 80 South Market St. \, San Jose\, CA\, 95113\, United States
CATEGORIES:Episcopal or other Special Mass
GEO:37.3341564;-121.8905406
X-APPLE-STRUCTURED-LOCATION;VALUE=URI;X-ADDRESS=Cathedral Basilica of Saint Joseph 80 South Market St.  San Jose CA 95113 United States;X-APPLE-RADIUS=500;X-TITLE=80 South Market St.:geo:-121.8905406,37.3341564
END:VEVENT
BEGIN:VEVENT
DTSTART;TZID=UTC:20250409T130000
DTEND;TZID=UTC:20250411T150000
DTSTAMP:20260419T213521
CREATED:20241104T165840Z
LAST-MODIFIED:20241104T165840Z
UID:10026940-1744203600-1744383600@www.dsj.org
SUMMARY:Cathedral Basilica of St. Joseph Tour
DESCRIPTION:Enjoy a guided tour of St. Joseph’s Cathedral Basilica in downtown San Jose. Discover the statue carved from the mast of a ship\, who donated many stained glass windows and much more! Tours are Wednesday through Friday from 1-3pm. \n \n 
URL:https://www.dsj.org/event/cathedral-basilica-of-st-joseph-tour/2025-04-09/
LOCATION:CA
END:VEVENT
BEGIN:VEVENT
DTSTART;TZID=UTC:20250410T070000
DTEND;TZID=UTC:20250410T090000
DTSTAMP:20260419T213521
CREATED:20250324T164728Z
LAST-MODIFIED:20250324T164728Z
UID:10030159-1744268400-1744275600@www.dsj.org
SUMMARY:Youth Ministry Listening\, Engaging and Empowering Youth in the Diocese
DESCRIPTION:Title: Youth Ministry Listening\, Engaging and Empowering Youth in the Diocese\nDate: April 10th\nTime: 7:00-am-9:00am\nLocation: Three Flames Restaurant\, 1547 Meridian Ave\, San José\nHost: San Jose Catholic Professionals\nOverview of Youth Ministry • Current Trends of this Generation of Youth • Update on Youth Assembly • What’s Next? \nClick here for details.
URL:https://www.dsj.org/event/youth-ministry-listening-engaging-and-empowering-youth-in-the-diocese/
LOCATION:Three Flames Restaurant\, 1547 Meridian Ave\, San Jose\, CA\, United States
CATEGORIES:Speakers
END:VEVENT
BEGIN:VEVENT
DTSTART;TZID=UTC:20250411T100000
DTEND;TZID=UTC:20250411T120000
DTSTAMP:20260419T213521
CREATED:20250127T195713Z
LAST-MODIFIED:20250127T195713Z
UID:10029648-1744365600-1744372800@www.dsj.org
SUMMARY:Sacred Healing Womens' Circle - Personal & Global Healing
DESCRIPTION:Breathing Techniques for Balance\, Peace & Harmony – Jan 24\nTapping Techniques to open Channels of Healing Light – Feb 21\nMovement Practices to enhance Circulation & Energy Flow – Mar 21\nSound Healing with vibrations of Tuning Forks\, Drums & Bowls – Apr 11\nCreating Soul Collages to integrate body\, mind & soul – May 16\n\nDate: Jan 24\, Feb 21\, Mar 21\, Apr 11\, May 16\, 2025\nTime: 10am-noon\nLocation: Dominican Sisters\, Mission San Jose (Wellness Room)\nHost: Sister Joan Prohaska\, OP \nwww.msjdominicans.org
URL:https://www.dsj.org/event/sacred-healing-womens-circle-personal-global-healing/2025-04-11/
LOCATION:CA
END:VEVENT
BEGIN:VEVENT
DTSTART;TZID=UTC:20250412T110000
DTEND;TZID=UTC:20250412T120000
DTSTAMP:20260419T213521
CREATED:20250302T214237Z
LAST-MODIFIED:20250324T161306Z
UID:10030126-1744455600-1744459200@www.dsj.org
SUMMARY:Catholic Cemetery Monthly Memorial Masses
DESCRIPTION:
URL:https://www.dsj.org/event/gate-of-heaven-cemetery-monthly-memorial-mass-3/2025-04-12/
LOCATION:CA
CATEGORIES:Episcopal or other Special Mass
END:VEVENT
END:VCALENDAR