BEGIN:VCALENDAR
VERSION:2.0
PRODID:-//Diocese of San Jose - ECPv6.15.20//NONSGML v1.0//EN
CALSCALE:GREGORIAN
METHOD:PUBLISH
X-ORIGINAL-URL:https://www.dsj.org
X-WR-CALDESC:Events for Diocese of San Jose
REFRESH-INTERVAL;VALUE=DURATION:PT1H
X-Robots-Tag:noindex
X-PUBLISHED-TTL:PT1H
BEGIN:VTIMEZONE
TZID:UTC
BEGIN:STANDARD
TZOFFSETFROM:+0000
TZOFFSETTO:+0000
TZNAME:UTC
DTSTART:20240101T000000
END:STANDARD
END:VTIMEZONE
BEGIN:VEVENT
DTSTART;TZID=UTC:20250323T190000
DTEND;TZID=UTC:20250323T210000
DTSTAMP:20260420T073756
CREATED:20250218T012321Z
LAST-MODIFIED:20250218T012321Z
UID:10029728-1742756400-1742763600@www.dsj.org
SUMMARY:Deepen Your Faith as You Walk with Jesus Christ Ignatian Spirituality Workshop
DESCRIPTION:Deepen Your Faith as You Walk with Jesus Christ\nMost Holy Trinity invites you to join the Ignatian Spirituality Workshop: Discernment Series. Led by Fr. Hung Pham S.J.\nAll are welcome! \nEvent Details: \nDates: February 27 & March 23\nTime: 7:00 PM – 9:00 PM\nPlatform: Zoom\nTo register for the Zoom link\, visit: https://tinyurl.com/y4seyrm8\nFor more information\, email: margarita.hua@dsj.org \n \n 
URL:https://www.dsj.org/event/deepen-your-faith-as-you-walk-with-jesus-christ-ignatian-spirituality-workshop/2025-03-23/
LOCATION:Zoom
CATEGORIES:Workshop
END:VEVENT
BEGIN:VEVENT
DTSTART;TZID=UTC:20250326T130000
DTEND;TZID=UTC:20250328T150000
DTSTAMP:20260420T073756
CREATED:20241104T165840Z
LAST-MODIFIED:20241104T165840Z
UID:10026938-1742994000-1743174000@www.dsj.org
SUMMARY:Cathedral Basilica of St. Joseph Tour
DESCRIPTION:Enjoy a guided tour of St. Joseph’s Cathedral Basilica in downtown San Jose. Discover the statue carved from the mast of a ship\, who donated many stained glass windows and much more! Tours are Wednesday through Friday from 1-3pm. \n \n 
URL:https://www.dsj.org/event/cathedral-basilica-of-st-joseph-tour/2025-03-26/
LOCATION:CA
END:VEVENT
BEGIN:VEVENT
DTSTART;TZID=UTC:20250327T090000
DTEND;TZID=UTC:20250327T120000
DTSTAMP:20260420T073756
CREATED:20250324T163509Z
LAST-MODIFIED:20250324T163509Z
UID:10030156-1743066000-1743076800@www.dsj.org
SUMMARY:Parish Leadership Team Meeting
DESCRIPTION:
URL:https://www.dsj.org/event/parish-leadership-team-meeting/2025-03-27/1/
LOCATION:CA
CATEGORIES:Workshop
END:VEVENT
BEGIN:VEVENT
DTSTART;TZID=UTC:20250327T181500
DTEND;TZID=UTC:20250327T200000
DTSTAMP:20260420T073756
CREATED:20250208T000739Z
LAST-MODIFIED:20250208T000739Z
UID:10029655-1743099300-1743105600@www.dsj.org
SUMMARY:Fr. David Michael Moses presents "How the Sacraments Make Us Saints"
DESCRIPTION:THURS\, MARCH 27\n6:15PM Welcome Reception\n7:00PM Talk\nST. WILLIAM CHURCH\, 611 S. EL MONTE AVE\, LOS ALTOS CA 94022 \nFr. David Michael Moses is 31 years old and grew-up in Houston\,\nTexas. He started college when he was just 14 and graduated\nwith his bachelor’s degree at the age of 18. He was accepted\ninto several law schools\, but ultimately felt called to the\npriesthood and entered seminary for the Archdiocese of\nGalveston-Houston. He was ordained in 2019 at the age of 25\nand is now the parochial vicar at Christ the Good Shepherd in\nSpring\, Texas. He enjoys writing music and have a social media presence
URL:https://www.dsj.org/event/fr-david-michael-moses-presents-how-the-sacraments-make-us-saints/
LOCATION:St. William Church\, 611 S. El Monte Ave\, Los Altos\, CA\, 94022\, United States
CATEGORIES:Speakers
END:VEVENT
BEGIN:VEVENT
DTSTART;TZID=UTC:20250327T183000
DTEND;TZID=UTC:20250327T203000
DTSTAMP:20260420T073756
CREATED:20240708T175310Z
LAST-MODIFIED:20241211T163109Z
UID:10026798-1743100200-1743107400@www.dsj.org
SUMMARY:Pastoral Ministry Formation - Virtual Sessions 2025
DESCRIPTION:Foundational theology formation series for ministers that replaces “Faith Beyond 2000 – Part I and II.” Upon completion\, pastoral ministers  will receive a “Pastoral Ministry Certification” issued by the Institute for Leadership in Ministry. This program is held Virtually. \nFor all the ministers: lectors\, Eucharistic ministers\, ushers\, catechists\, youth group leaders\, RCIA team members\, etc.) \nThe course is one of the requirements for Catechist Certification. \nSession Time: 6:30pm – 8:30pm \nThere is no cost for participants. \nClick here for registration and more information. 
URL:https://www.dsj.org/event/pastoral-ministry-formation-virtual-sessions-2025/2025-03-27/
LOCATION:CA
CATEGORIES:Faith Formation
END:VEVENT
BEGIN:VEVENT
DTSTART;TZID=UTC:20250327T183000
DTEND;TZID=UTC:20250327T210000
DTSTAMP:20260420T073756
CREATED:20250324T163509Z
LAST-MODIFIED:20250324T163509Z
UID:10030157-1743100200-1743109200@www.dsj.org
SUMMARY:Parish Leadership Team Meeting
DESCRIPTION:
URL:https://www.dsj.org/event/parish-leadership-team-meeting/2025-03-27/2/
LOCATION:CA
CATEGORIES:Workshop
END:VEVENT
BEGIN:VEVENT
DTSTART;TZID=UTC:20250329T090000
DTEND;TZID=UTC:20250329T170000
DTSTAMP:20260420T073756
CREATED:20240328T203241Z
LAST-MODIFIED:20250128T223216Z
UID:10023953-1743238800-1743267600@www.dsj.org
SUMMARY:Diocesan Synod Youth Assembly
DESCRIPTION:
URL:https://www.dsj.org/event/diocesan-synod-youth-assembly/
LOCATION:St. Francis High School\, 1885 Miramonte Avenue\, Mountain View\, CA\, 94040\, United States
CATEGORIES:Social,Workshop
GEO:37.3696044;-122.0847981
X-APPLE-STRUCTURED-LOCATION;VALUE=URI;X-ADDRESS=St. Francis High School 1885 Miramonte Avenue Mountain View CA 94040 United States;X-APPLE-RADIUS=500;X-TITLE=1885 Miramonte Avenue:geo:-122.0847981,37.3696044
END:VEVENT
BEGIN:VEVENT
DTSTART;TZID=UTC:20250329T130000
DTEND;TZID=UTC:20250329T180000
DTSTAMP:20260420T073756
CREATED:20250328T212714Z
LAST-MODIFIED:20250328T212714Z
UID:10030162-1743253200-1743271200@www.dsj.org
SUMMARY:Young Catholic Professional Retreat
DESCRIPTION:Young Catholic Professional Retreat with Optional Dinner at Sala Thai at 6:30 p.m. \n\nTalks by Fr. Matthew\, small group discussion and Adoration\n\nShrine of St. Joseph Shrine\nWest Cliff Drive 544\, Santa Cruz \nTo register:  https://ycp.glueup.com/event/metanoia-a-deep-change-of-heart-134293/?pk_campaign=widget-event-list
URL:https://www.dsj.org/event/young-catholic-professional-retreat/
LOCATION:CA
END:VEVENT
END:VCALENDAR