BEGIN:VCALENDAR
VERSION:2.0
PRODID:-//Diocese of San Jose - ECPv6.15.20//NONSGML v1.0//EN
CALSCALE:GREGORIAN
METHOD:PUBLISH
X-ORIGINAL-URL:https://www.dsj.org
X-WR-CALDESC:Events for Diocese of San Jose
REFRESH-INTERVAL;VALUE=DURATION:PT1H
X-Robots-Tag:noindex
X-PUBLISHED-TTL:PT1H
BEGIN:VTIMEZONE
TZID:UTC
BEGIN:STANDARD
TZOFFSETFROM:+0000
TZOFFSETTO:+0000
TZNAME:UTC
DTSTART:20240101T000000
END:STANDARD
END:VTIMEZONE
BEGIN:VEVENT
DTSTART;TZID=UTC:20250126T170000
DTEND;TZID=UTC:20250126T193000
DTSTAMP:20260420T132242
CREATED:20241114T200010Z
LAST-MODIFIED:20241211T163929Z
UID:10028470-1737910800-1737919800@www.dsj.org
SUMMARY:Revs vs Sems Basketball Challenge
DESCRIPTION:
URL:https://www.dsj.org/event/revs-vs-sems-basketball-challenge-2/
LOCATION:Santa Clara University – Leavey Center\, 500 El Camino Real\, Santa Clara\, CA\, 95050\, United States
CATEGORIES:Fundraiser,Social
GEO:37.3491619;-121.9378352
X-APPLE-STRUCTURED-LOCATION;VALUE=URI;X-ADDRESS=Santa Clara University – Leavey Center 500 El Camino Real Santa Clara CA 95050 United States;X-APPLE-RADIUS=500;X-TITLE=500 El Camino Real:geo:-121.9378352,37.3491619
END:VEVENT
BEGIN:VEVENT
DTSTART;TZID=UTC:20250128T181500
DTEND;TZID=UTC:20250128T200000
DTSTAMP:20260420T132242
CREATED:20250106T032020Z
LAST-MODIFIED:20250106T032416Z
UID:10028900-1738088100-1738094400@www.dsj.org
SUMMARY:Speaker Event by Damon Owens "Intimacy and Awe: Marriage as the Sign of Salvation"
DESCRIPTION:“Intimacy & Awe: Marriage as the Sign of Salvation”\nPresented by Damon Owens\nMade for love\, every human person has stamped in his or her body a sign that is a call to communion. Marriage is both a reality of that love\, and an icon of an even more profound communion with God Himself. In the mystery of love\, there is a necessary tension between intimacy that pulls in\, and awe that pushes away. Location: St. William Church\, 611 S. El Monte\, Los Altos\n01/28/2025  6:15PM Cheese and Wine reception /7PM Talk.
URL:https://www.dsj.org/event/speaker-event-by-damon-owens-intimacy-and-awe-marriage-as-the-sign-of-salvation/
LOCATION:CA
CATEGORIES:Speakers
END:VEVENT
BEGIN:VEVENT
DTSTART;TZID=UTC:20250128T183000
DTEND;TZID=UTC:20250128T203000
DTSTAMP:20260420T132243
CREATED:20240708T173152Z
LAST-MODIFIED:20241211T164352Z
UID:10026778-1738089000-1738096200@www.dsj.org
SUMMARY:Introduction to Catechetical Ministry Virtual Sessions
DESCRIPTION:A 6-session course covering the Nature and Purpose of Catechesis\, and Methodology. \nThe 3 sessions in the Fall and 3 sessions in the Winter fulfill one of the requirements for Catechist Certification. \nSession Time: 6:30pm – 8:30pm
URL:https://www.dsj.org/event/introduction-to-catechetical-ministry-virtual-sessions/2025-01-28/
LOCATION:CA
CATEGORIES:Training,Workshop
END:VEVENT
BEGIN:VEVENT
DTSTART;TZID=UTC:20250129T130000
DTEND;TZID=UTC:20250131T150000
DTSTAMP:20260420T132243
CREATED:20241104T165840Z
LAST-MODIFIED:20241104T165840Z
UID:10026930-1738155600-1738335600@www.dsj.org
SUMMARY:Cathedral Basilica of St. Joseph Tour
DESCRIPTION:Enjoy a guided tour of St. Joseph’s Cathedral Basilica in downtown San Jose. Discover the statue carved from the mast of a ship\, who donated many stained glass windows and much more! Tours are Wednesday through Friday from 1-3pm. \n \n 
URL:https://www.dsj.org/event/cathedral-basilica-of-st-joseph-tour/2025-01-29/
LOCATION:CA
END:VEVENT
BEGIN:VEVENT
DTSTART;TZID=UTC:20250129T183000
DTEND;TZID=UTC:20250129T203000
DTSTAMP:20260420T132243
CREATED:20240708T173152Z
LAST-MODIFIED:20241211T164352Z
UID:10026779-1738175400-1738182600@www.dsj.org
SUMMARY:Introduction to Catechetical Ministry Virtual Sessions
DESCRIPTION:A 6-session course covering the Nature and Purpose of Catechesis\, and Methodology. \nThe 3 sessions in the Fall and 3 sessions in the Winter fulfill one of the requirements for Catechist Certification. \nSession Time: 6:30pm – 8:30pm
URL:https://www.dsj.org/event/introduction-to-catechetical-ministry-virtual-sessions/2025-01-29/
LOCATION:CA
CATEGORIES:Training,Workshop
END:VEVENT
BEGIN:VEVENT
DTSTART;TZID=UTC:20250130T183000
DTEND;TZID=UTC:20250130T203000
DTSTAMP:20260420T132243
CREATED:20240708T173152Z
LAST-MODIFIED:20241211T164352Z
UID:10026780-1738261800-1738269000@www.dsj.org
SUMMARY:Introduction to Catechetical Ministry Virtual Sessions
DESCRIPTION:A 6-session course covering the Nature and Purpose of Catechesis\, and Methodology. \nThe 3 sessions in the Fall and 3 sessions in the Winter fulfill one of the requirements for Catechist Certification. \nSession Time: 6:30pm – 8:30pm
URL:https://www.dsj.org/event/introduction-to-catechetical-ministry-virtual-sessions/2025-01-30/
LOCATION:CA
CATEGORIES:Training,Workshop
END:VEVENT
END:VCALENDAR