BEGIN:VCALENDAR
VERSION:2.0
PRODID:-//Diocese of San Jose - ECPv6.15.20//NONSGML v1.0//EN
CALSCALE:GREGORIAN
METHOD:PUBLISH
X-WR-CALNAME:Diocese of San Jose
X-ORIGINAL-URL:https://www.dsj.org
X-WR-CALDESC:Events for Diocese of San Jose
REFRESH-INTERVAL;VALUE=DURATION:PT1H
X-Robots-Tag:noindex
X-PUBLISHED-TTL:PT1H
BEGIN:VTIMEZONE
TZID:America/Los_Angeles
BEGIN:DAYLIGHT
TZOFFSETFROM:-0800
TZOFFSETTO:-0700
TZNAME:PDT
DTSTART:20230312T100000
END:DAYLIGHT
BEGIN:STANDARD
TZOFFSETFROM:-0700
TZOFFSETTO:-0800
TZNAME:PST
DTSTART:20231105T090000
END:STANDARD
BEGIN:DAYLIGHT
TZOFFSETFROM:-0800
TZOFFSETTO:-0700
TZNAME:PDT
DTSTART:20240310T100000
END:DAYLIGHT
BEGIN:STANDARD
TZOFFSETFROM:-0700
TZOFFSETTO:-0800
TZNAME:PST
DTSTART:20241103T090000
END:STANDARD
BEGIN:DAYLIGHT
TZOFFSETFROM:-0800
TZOFFSETTO:-0700
TZNAME:PDT
DTSTART:20250309T100000
END:DAYLIGHT
BEGIN:STANDARD
TZOFFSETFROM:-0700
TZOFFSETTO:-0800
TZNAME:PST
DTSTART:20251102T090000
END:STANDARD
END:VTIMEZONE
BEGIN:VTIMEZONE
TZID:UTC
BEGIN:STANDARD
TZOFFSETFROM:+0000
TZOFFSETTO:+0000
TZNAME:UTC
DTSTART:20230101T000000
END:STANDARD
END:VTIMEZONE
BEGIN:VEVENT
DTSTART;VALUE=DATE:20241224
DTEND;VALUE=DATE:20241225
DTSTAMP:20260420T040101
CREATED:20160213T152327Z
LAST-MODIFIED:20210825T032029Z
UID:10018529-1734998400-1735084799@www.dsj.org
SUMMARY:Solemnity of the Vigil of the Nativity of the Lord
DESCRIPTION:
URL:https://www.dsj.org/event/solemnity-of-the-vigil-of-the-nativity-of-the-lord/2024-12-24/
LOCATION:CA
END:VEVENT
BEGIN:VEVENT
DTSTART;VALUE=DATE:20241225
DTEND;VALUE=DATE:20241226
DTSTAMP:20260420T040101
CREATED:20160213T152417Z
LAST-MODIFIED:20210825T032029Z
UID:10018540-1735084800-1735171199@www.dsj.org
SUMMARY:Solemnity of the Nativity of the Lord (Christmas)
DESCRIPTION:
URL:https://www.dsj.org/event/solemnity-of-the-nativity-of-the-lord-christmas/2024-12-25/
LOCATION:CA
END:VEVENT
BEGIN:VEVENT
DTSTART;TZID=UTC:20241225T130000
DTEND;TZID=UTC:20241227T150000
DTSTAMP:20260420T040101
CREATED:20241104T165840Z
LAST-MODIFIED:20241104T165840Z
UID:10026925-1735131600-1735311600@www.dsj.org
SUMMARY:Cathedral Basilica of St. Joseph Tour
DESCRIPTION:Enjoy a guided tour of St. Joseph’s Cathedral Basilica in downtown San Jose. Discover the statue carved from the mast of a ship\, who donated many stained glass windows and much more! Tours are Wednesday through Friday from 1-3pm. \n \n 
URL:https://www.dsj.org/event/cathedral-basilica-of-st-joseph-tour/2024-12-25/
LOCATION:CA
END:VEVENT
END:VCALENDAR