BEGIN:VCALENDAR
VERSION:2.0
PRODID:-//Diocese of San Jose - ECPv6.15.20//NONSGML v1.0//EN
CALSCALE:GREGORIAN
METHOD:PUBLISH
X-ORIGINAL-URL:https://www.dsj.org
X-WR-CALDESC:Events for Diocese of San Jose
REFRESH-INTERVAL;VALUE=DURATION:PT1H
X-Robots-Tag:noindex
X-PUBLISHED-TTL:PT1H
BEGIN:VTIMEZONE
TZID:UTC
BEGIN:STANDARD
TZOFFSETFROM:+0000
TZOFFSETTO:+0000
TZNAME:UTC
DTSTART:20230101T000000
END:STANDARD
END:VTIMEZONE
BEGIN:VEVENT
DTSTART;TZID=UTC:20241118T183000
DTEND;TZID=UTC:20241118T203000
DTSTAMP:20260420T043435
CREATED:20240805T203610Z
LAST-MODIFIED:20241014T183700Z
UID:10026826-1731954600-1731961800@www.dsj.org
SUMMARY:Faith and Racial Justice: Changing Systems and Structures
DESCRIPTION:Join an 8 session JustFaith Ministries program to explore the key obstacles to racial justice that are embedded with our institutions\, systems and structures.\nprivilege manifests in our daily live.\n• Sessions include Racial Wealth Gap Simulation and tools to bring to our parishes and communities.\n• In-person Sessions hosted at St. Clare Parish held every other week on Mondays\, Sept 9 thru Dec 16 – 6:30pm to 8:30pm\n• RSVP to Kathy at kat@kajon.com. Requested tax deductible donation of $55 per person. Additional donation options are available. \nSee flyer for additional details.
URL:https://www.dsj.org/event/faith-and-racial-justice-changing-systems-and-structures/2024-11-18/
LOCATION:St. Clare Parish\, 725 Washington Street\, Santa Clara\, CA\, United States
GEO:37.347712;-121.942632
X-APPLE-STRUCTURED-LOCATION;VALUE=URI;X-ADDRESS=St. Clare Parish 725 Washington Street Santa Clara CA United States;X-APPLE-RADIUS=500;X-TITLE=725 Washington Street:geo:-121.942632,37.347712
END:VEVENT
BEGIN:VEVENT
DTSTART;TZID=UTC:20241120T130000
DTEND;TZID=UTC:20241122T150000
DTSTAMP:20260420T043435
CREATED:20241104T165840Z
LAST-MODIFIED:20241104T165840Z
UID:10026920-1732107600-1732287600@www.dsj.org
SUMMARY:Cathedral Basilica of St. Joseph Tour
DESCRIPTION:Enjoy a guided tour of St. Joseph’s Cathedral Basilica in downtown San Jose. Discover the statue carved from the mast of a ship\, who donated many stained glass windows and much more! Tours are Wednesday through Friday from 1-3pm. \n \n 
URL:https://www.dsj.org/event/cathedral-basilica-of-st-joseph-tour/2024-11-20/
LOCATION:CA
END:VEVENT
BEGIN:VEVENT
DTSTART;TZID=UTC:20241121T183000
DTEND;TZID=UTC:20241121T203000
DTSTAMP:20260420T043435
CREATED:20240708T173812Z
LAST-MODIFIED:20240708T175432Z
UID:10026787-1732213800-1732221000@www.dsj.org
SUMMARY:Pastoral Ministry Formation - Virtual Sessions
DESCRIPTION:Foundational theology formation series for ministers that replaces “Faith Beyond 2000 – Part I and II.” Upon completion\, pastoral ministers  will receive a “Pastoral Ministry Certification” issued by the Institute for Leadership in Ministry. This program is held Virtually. \nFor all the ministers: lectors\, Eucharistic ministers\, ushers\, catechists\, youth group leaders\, RCIA team members\, etc.) \nThe course is one of the requirements for Catechist Certification. \nSession Time: 6:30pm – 8:30pm \nThere is no cost for participants. \nClick here for registration and more information. 
URL:https://www.dsj.org/event/pastoral-ministry-formation-virtual-sessions/2024-11-21/
LOCATION:Virtual
END:VEVENT
BEGIN:VEVENT
DTSTART;TZID=UTC:20241121T190000
DTEND;TZID=UTC:20241121T210000
DTSTAMP:20260420T043435
CREATED:20241118T175339Z
LAST-MODIFIED:20241118T175516Z
UID:10028479-1732215600-1732222800@www.dsj.org
SUMMARY:Ignatian Spirituality Workshop
DESCRIPTION:Ignatian Spirituality Workshop via ZOOM\nInstructor: FR. HUNG PHAM\, SJ. Phd\nDate: November 21 at 7 – 9 pm (Pacific time)\nTopic: Contemplation on “Call of the King” – Who Do You Choose to Serve? What Kind of Leader Do You Want to Be? \nAs we celebrate the Feast of Christ the King\, let us learn to make choices that respond to the call of King Jesus. All are Welcomes! For Zoom ID\, please register: https://tinyurl.com/y4seyrm8\nFor more questions\, please email to: margarita.hua@dsj.org \nClick here for more info and register.
URL:https://www.dsj.org/event/ignatian-spirituality-workshop-6/
LOCATION:Zoom
END:VEVENT
BEGIN:VEVENT
DTSTART;TZID=UTC:20241123T090000
DTEND;TZID=UTC:20241124T140000
DTSTAMP:20260420T043435
CREATED:20240930T153845Z
LAST-MODIFIED:20241202T234926Z
UID:10026862-1732352400-1732456800@www.dsj.org
SUMMARY:Bridges Young Adult Basketball Tournament Fundraiser
DESCRIPTION:Dates: Nov 23-24\, all day\nLocation: Community Center at St. Lawrence the Martyr Parish\, 1971 St. Lawrence Dr. Santa Clara\nHosted by: Bridges Young Adult Ministry of St. Lawrence the Martyr Parish\nKatrina & Bryan Ballesteros \nFirst 8 teams to register at https://docs.google.com/forms/d/e/1FAIpQLSf5pOSNu2CYXg7cthxfkgNslHgZrcIKNe8HZtRV6zhCAIw7tw/viewform will be accepted\, others will be waitlisted but not guaranteed a spot. Registration is $300/team. General admission tickets are $5/person and will be sold at the door.
URL:https://www.dsj.org/event/bridges-young-adult-basketball-tournament-fundraiser/
LOCATION:St. Lawrence the Martyr Parish
GEO:37.3580106;-121.9947547
END:VEVENT
BEGIN:VEVENT
DTSTART;TZID=UTC:20241123T170000
DTEND;TZID=UTC:20241123T180000
DTSTAMP:20260420T043435
CREATED:20241017T182458Z
LAST-MODIFIED:20241028T155512Z
UID:10026891-1732381200-1732384800@www.dsj.org
SUMMARY:White Mass
DESCRIPTION:Please join us for a mass celebration. \nAll doctors\, nurses and healthcare professionals are invited to a White Mass for Medical Professionals to honor and pray with and for all those who serve in the medical professions.
URL:https://www.dsj.org/event/white-mass/
LOCATION:St. Martin of Tours\, 200 O'Connor Drive\, San Jose\, CA\, 95128\, United States
GEO:37.3252029;-121.9390127
X-APPLE-STRUCTURED-LOCATION;VALUE=URI;X-ADDRESS=St. Martin of Tours 200 O'Connor Drive San Jose CA 95128 United States;X-APPLE-RADIUS=500;X-TITLE=200 O'Connor Drive:geo:-121.9390127,37.3252029
END:VEVENT
END:VCALENDAR