BEGIN:VCALENDAR
VERSION:2.0
PRODID:-//Diocese of San Jose - ECPv6.15.20//NONSGML v1.0//EN
CALSCALE:GREGORIAN
METHOD:PUBLISH
X-WR-CALNAME:Diocese of San Jose
X-ORIGINAL-URL:https://www.dsj.org
X-WR-CALDESC:Events for Diocese of San Jose
REFRESH-INTERVAL;VALUE=DURATION:PT1H
X-Robots-Tag:noindex
X-PUBLISHED-TTL:PT1H
BEGIN:VTIMEZONE
TZID:UTC
BEGIN:STANDARD
TZOFFSETFROM:+0000
TZOFFSETTO:+0000
TZNAME:UTC
DTSTART:20210101T000000
END:STANDARD
END:VTIMEZONE
BEGIN:VTIMEZONE
TZID:America/Los_Angeles
BEGIN:DAYLIGHT
TZOFFSETFROM:-0800
TZOFFSETTO:-0700
TZNAME:PDT
DTSTART:20210314T100000
END:DAYLIGHT
BEGIN:STANDARD
TZOFFSETFROM:-0700
TZOFFSETTO:-0800
TZNAME:PST
DTSTART:20211107T090000
END:STANDARD
BEGIN:DAYLIGHT
TZOFFSETFROM:-0800
TZOFFSETTO:-0700
TZNAME:PDT
DTSTART:20220313T100000
END:DAYLIGHT
BEGIN:STANDARD
TZOFFSETFROM:-0700
TZOFFSETTO:-0800
TZNAME:PST
DTSTART:20221106T090000
END:STANDARD
BEGIN:DAYLIGHT
TZOFFSETFROM:-0800
TZOFFSETTO:-0700
TZNAME:PDT
DTSTART:20230312T100000
END:DAYLIGHT
BEGIN:STANDARD
TZOFFSETFROM:-0700
TZOFFSETTO:-0800
TZNAME:PST
DTSTART:20231105T090000
END:STANDARD
END:VTIMEZONE
BEGIN:VEVENT
DTSTART;VALUE=DATE:20220415
DTEND;VALUE=DATE:20220418
DTSTAMP:20260423T093335
CREATED:20210510T165636Z
LAST-MODIFIED:20210510T165636Z
UID:10024924-1649980800-1650239999@www.dsj.org
SUMMARY:Retrouvaille of San Jose/Silicon Valley Virtual Marriage Program
DESCRIPTION:You Can Help Your Marriage – Do you feel alone? Are you frustrated or angry with each other? Do you argue … or have you just stopped talking to each other? This program has helped 10’s of 1000’s of couples experiencing difficulties in their marriage. The Virtual Retrouvaille Marriage Programs Mission\, approx.48 hours of presentation\, is to help hurting marriages heal\, and bring peace to families\, The program consists of a weekend presented by 3 couples and a Priest\, including 6 Sat. post session \nBulletin-Anouncement-Flyer-6-24-21.pdf
URL:https://www.dsj.org/event/retrouvaille-of-san-jose-silicon-valley-virtual-marriage-program-2/2022-04-15/
LOCATION:Virtual
END:VEVENT
BEGIN:VEVENT
DTSTART;VALUE=DATE:20220416
DTEND;VALUE=DATE:20220419
DTSTAMP:20260423T093335
CREATED:20210510T165636Z
LAST-MODIFIED:20210510T165636Z
UID:10024925-1650067200-1650326399@www.dsj.org
SUMMARY:Retrouvaille of San Jose/Silicon Valley Virtual Marriage Program
DESCRIPTION:You Can Help Your Marriage – Do you feel alone? Are you frustrated or angry with each other? Do you argue … or have you just stopped talking to each other? This program has helped 10’s of 1000’s of couples experiencing difficulties in their marriage. The Virtual Retrouvaille Marriage Programs Mission\, approx.48 hours of presentation\, is to help hurting marriages heal\, and bring peace to families\, The program consists of a weekend presented by 3 couples and a Priest\, including 6 Sat. post session \nBulletin-Anouncement-Flyer-6-24-21.pdf
URL:https://www.dsj.org/event/retrouvaille-of-san-jose-silicon-valley-virtual-marriage-program-2/2022-04-16/
LOCATION:Virtual
END:VEVENT
BEGIN:VEVENT
DTSTART;TZID=America/Los_Angeles:20220416T171500
DTEND;TZID=America/Los_Angeles:20220416T181500
DTSTAMP:20260423T093335
CREATED:20160111T085827Z
LAST-MODIFIED:20210825T155529Z
UID:10021217-1650129300-1650132900@www.dsj.org
SUMMARY:CRS Rice Bowl Personal Testimony - Thomas Awiapo
DESCRIPTION:Don’t miss dynamic Thomas Awiapo\, CRS Director – Africa\, telling his powerful true story of heartbreak\, loss and hope.\nFebruary 20:   St. John Vianney: Saturday Masses (5:15pm\, 7pm – Spanish)\nFebruary 21:   St. John Vianney: All Masses (7:30am\, 9am\, 10:30am\, 12pm – Spanish\, 6pm)\nFebruary 22:   Bellarmine College Prep: (11:20am) School Assembly\nFebruary 22:   St. Simon: (1:30pm) School Assembly\nFebruary 22:   St. Lawrence Parish & Schools: CRS Lenten Prayer Service (7pm) All Are Welcome\n\n– Learn about RICE BOWL and make the connection between your spare change and changing people’s lives. \n– Purchase FAIR TRADE foods and gifts from WORK OF HUMAN HANDS\n– Learn about the CRS Global Mission \nCRS Thomas Awiapo Flyer
URL:https://www.dsj.org/event/crs-rice-bowl-personal-testimony-thomas-awiapo-3/2022-04-16/
LOCATION:St. John Vianney Parish\, 4600 Hyland Avenue\, San Jose\, CA\, United States
GEO:37.3713341;-121.8263161
X-APPLE-STRUCTURED-LOCATION;VALUE=URI;X-ADDRESS=St. John Vianney Parish 4600 Hyland Avenue San Jose CA United States;X-APPLE-RADIUS=500;X-TITLE=4600 Hyland Avenue:geo:-121.8263161,37.3713341
END:VEVENT
BEGIN:VEVENT
DTSTART;VALUE=DATE:20220417
DTEND;VALUE=DATE:20220420
DTSTAMP:20260423T093335
CREATED:20210510T165636Z
LAST-MODIFIED:20210510T165636Z
UID:10024926-1650153600-1650412799@www.dsj.org
SUMMARY:Retrouvaille of San Jose/Silicon Valley Virtual Marriage Program
DESCRIPTION:You Can Help Your Marriage – Do you feel alone? Are you frustrated or angry with each other? Do you argue … or have you just stopped talking to each other? This program has helped 10’s of 1000’s of couples experiencing difficulties in their marriage. The Virtual Retrouvaille Marriage Programs Mission\, approx.48 hours of presentation\, is to help hurting marriages heal\, and bring peace to families\, The program consists of a weekend presented by 3 couples and a Priest\, including 6 Sat. post session \nBulletin-Anouncement-Flyer-6-24-21.pdf
URL:https://www.dsj.org/event/retrouvaille-of-san-jose-silicon-valley-virtual-marriage-program-2/2022-04-17/
LOCATION:Virtual
END:VEVENT
BEGIN:VEVENT
DTSTART;TZID=America/Los_Angeles:20220417T171500
DTEND;TZID=America/Los_Angeles:20220417T181500
DTSTAMP:20260423T093335
CREATED:20160111T085827Z
LAST-MODIFIED:20210825T155529Z
UID:10021218-1650215700-1650219300@www.dsj.org
SUMMARY:CRS Rice Bowl Personal Testimony - Thomas Awiapo
DESCRIPTION:Don’t miss dynamic Thomas Awiapo\, CRS Director – Africa\, telling his powerful true story of heartbreak\, loss and hope.\nFebruary 20:   St. John Vianney: Saturday Masses (5:15pm\, 7pm – Spanish)\nFebruary 21:   St. John Vianney: All Masses (7:30am\, 9am\, 10:30am\, 12pm – Spanish\, 6pm)\nFebruary 22:   Bellarmine College Prep: (11:20am) School Assembly\nFebruary 22:   St. Simon: (1:30pm) School Assembly\nFebruary 22:   St. Lawrence Parish & Schools: CRS Lenten Prayer Service (7pm) All Are Welcome\n\n– Learn about RICE BOWL and make the connection between your spare change and changing people’s lives. \n– Purchase FAIR TRADE foods and gifts from WORK OF HUMAN HANDS\n– Learn about the CRS Global Mission \nCRS Thomas Awiapo Flyer
URL:https://www.dsj.org/event/crs-rice-bowl-personal-testimony-thomas-awiapo-3/2022-04-17/
LOCATION:St. John Vianney Parish\, 4600 Hyland Avenue\, San Jose\, CA\, United States
GEO:37.3713341;-121.8263161
X-APPLE-STRUCTURED-LOCATION;VALUE=URI;X-ADDRESS=St. John Vianney Parish 4600 Hyland Avenue San Jose CA United States;X-APPLE-RADIUS=500;X-TITLE=4600 Hyland Avenue:geo:-121.8263161,37.3713341
END:VEVENT
BEGIN:VEVENT
DTSTART;VALUE=DATE:20220418
DTEND;VALUE=DATE:20220421
DTSTAMP:20260423T093335
CREATED:20210510T165636Z
LAST-MODIFIED:20210510T165636Z
UID:10024927-1650240000-1650499199@www.dsj.org
SUMMARY:Retrouvaille of San Jose/Silicon Valley Virtual Marriage Program
DESCRIPTION:You Can Help Your Marriage – Do you feel alone? Are you frustrated or angry with each other? Do you argue … or have you just stopped talking to each other? This program has helped 10’s of 1000’s of couples experiencing difficulties in their marriage. The Virtual Retrouvaille Marriage Programs Mission\, approx.48 hours of presentation\, is to help hurting marriages heal\, and bring peace to families\, The program consists of a weekend presented by 3 couples and a Priest\, including 6 Sat. post session \nBulletin-Anouncement-Flyer-6-24-21.pdf
URL:https://www.dsj.org/event/retrouvaille-of-san-jose-silicon-valley-virtual-marriage-program-2/2022-04-18/
LOCATION:Virtual
END:VEVENT
BEGIN:VEVENT
DTSTART;TZID=America/Los_Angeles:20220418T171500
DTEND;TZID=America/Los_Angeles:20220418T181500
DTSTAMP:20260423T093335
CREATED:20160111T085827Z
LAST-MODIFIED:20210825T155529Z
UID:10021219-1650302100-1650305700@www.dsj.org
SUMMARY:CRS Rice Bowl Personal Testimony - Thomas Awiapo
DESCRIPTION:Don’t miss dynamic Thomas Awiapo\, CRS Director – Africa\, telling his powerful true story of heartbreak\, loss and hope.\nFebruary 20:   St. John Vianney: Saturday Masses (5:15pm\, 7pm – Spanish)\nFebruary 21:   St. John Vianney: All Masses (7:30am\, 9am\, 10:30am\, 12pm – Spanish\, 6pm)\nFebruary 22:   Bellarmine College Prep: (11:20am) School Assembly\nFebruary 22:   St. Simon: (1:30pm) School Assembly\nFebruary 22:   St. Lawrence Parish & Schools: CRS Lenten Prayer Service (7pm) All Are Welcome\n\n– Learn about RICE BOWL and make the connection between your spare change and changing people’s lives. \n– Purchase FAIR TRADE foods and gifts from WORK OF HUMAN HANDS\n– Learn about the CRS Global Mission \nCRS Thomas Awiapo Flyer
URL:https://www.dsj.org/event/crs-rice-bowl-personal-testimony-thomas-awiapo-3/2022-04-18/
LOCATION:St. John Vianney Parish\, 4600 Hyland Avenue\, San Jose\, CA\, United States
GEO:37.3713341;-121.8263161
X-APPLE-STRUCTURED-LOCATION;VALUE=URI;X-ADDRESS=St. John Vianney Parish 4600 Hyland Avenue San Jose CA United States;X-APPLE-RADIUS=500;X-TITLE=4600 Hyland Avenue:geo:-121.8263161,37.3713341
END:VEVENT
BEGIN:VEVENT
DTSTART;VALUE=DATE:20220419
DTEND;VALUE=DATE:20220422
DTSTAMP:20260423T093336
CREATED:20210510T165636Z
LAST-MODIFIED:20210510T165636Z
UID:10024928-1650326400-1650585599@www.dsj.org
SUMMARY:Retrouvaille of San Jose/Silicon Valley Virtual Marriage Program
DESCRIPTION:You Can Help Your Marriage – Do you feel alone? Are you frustrated or angry with each other? Do you argue … or have you just stopped talking to each other? This program has helped 10’s of 1000’s of couples experiencing difficulties in their marriage. The Virtual Retrouvaille Marriage Programs Mission\, approx.48 hours of presentation\, is to help hurting marriages heal\, and bring peace to families\, The program consists of a weekend presented by 3 couples and a Priest\, including 6 Sat. post session \nBulletin-Anouncement-Flyer-6-24-21.pdf
URL:https://www.dsj.org/event/retrouvaille-of-san-jose-silicon-valley-virtual-marriage-program-2/2022-04-19/
LOCATION:Virtual
END:VEVENT
BEGIN:VEVENT
DTSTART;TZID=America/Los_Angeles:20220419T171500
DTEND;TZID=America/Los_Angeles:20220419T181500
DTSTAMP:20260423T093336
CREATED:20160111T085827Z
LAST-MODIFIED:20210825T155529Z
UID:10021220-1650388500-1650392100@www.dsj.org
SUMMARY:CRS Rice Bowl Personal Testimony - Thomas Awiapo
DESCRIPTION:Don’t miss dynamic Thomas Awiapo\, CRS Director – Africa\, telling his powerful true story of heartbreak\, loss and hope.\nFebruary 20:   St. John Vianney: Saturday Masses (5:15pm\, 7pm – Spanish)\nFebruary 21:   St. John Vianney: All Masses (7:30am\, 9am\, 10:30am\, 12pm – Spanish\, 6pm)\nFebruary 22:   Bellarmine College Prep: (11:20am) School Assembly\nFebruary 22:   St. Simon: (1:30pm) School Assembly\nFebruary 22:   St. Lawrence Parish & Schools: CRS Lenten Prayer Service (7pm) All Are Welcome\n\n– Learn about RICE BOWL and make the connection between your spare change and changing people’s lives. \n– Purchase FAIR TRADE foods and gifts from WORK OF HUMAN HANDS\n– Learn about the CRS Global Mission \nCRS Thomas Awiapo Flyer
URL:https://www.dsj.org/event/crs-rice-bowl-personal-testimony-thomas-awiapo-3/2022-04-19/
LOCATION:St. John Vianney Parish\, 4600 Hyland Avenue\, San Jose\, CA\, United States
GEO:37.3713341;-121.8263161
X-APPLE-STRUCTURED-LOCATION;VALUE=URI;X-ADDRESS=St. John Vianney Parish 4600 Hyland Avenue San Jose CA United States;X-APPLE-RADIUS=500;X-TITLE=4600 Hyland Avenue:geo:-121.8263161,37.3713341
END:VEVENT
BEGIN:VEVENT
DTSTART;TZID=UTC:20220419T190000
DTEND;TZID=UTC:20220419T201500
DTSTAMP:20260423T093336
CREATED:20220118T174251Z
LAST-MODIFIED:20220118T174251Z
UID:10026049-1650394800-1650399300@www.dsj.org
SUMMARY:Ejercicios Espirituales Ignacianas en la vida corriente
DESCRIPTION:Ejercicios Espirituales Ignacianas en la vida corriente (EE Anotación 18) Parroquia de la Santísima Trinidad/ Fr. Brad Mills\, S.J. Estos Ejercicios de 8 semanas comenzarán el 1 de marzo\, y terminarán con una eucaristía el 26 de abril. Serán ofrecidos por Padre Brad Mills SJ\, un sacerdote jesuita de la Parroquia de la Santísima Trinidad. Las reuniones serán presenciales\, los martes de 7:00pm-8:15pm. El lugar de la reunión será: 2040 Nassau Dr.\, San José\, CA 95122\nLa contribución sugerida para este retiro es $50.(MHT/ISC)\nSi se interesa hacer\, envíe un correo electrónico a: bmills@mht-church.org \nPrint flyer.
URL:https://www.dsj.org/event/ejercicios-espirituales-ignacianas-en-la-vida-corriente/2022-04-19/
LOCATION:CA
END:VEVENT
BEGIN:VEVENT
DTSTART;TZID=UTC:20220419T193000
DTEND;TZID=UTC:20220419T210000
DTSTAMP:20260423T093336
CREATED:20211029T205850Z
LAST-MODIFIED:20211029T205954Z
UID:10023151-1650396600-1650402000@www.dsj.org
SUMMARY:Theological Book Virtual Study: "Deification Through the Cross
DESCRIPTION:Want to deepen your Catholic faith? Join us for an online Theological Book Study on Deification Through the Cross by Khaled Anatolios. This 9-week study will have 2-4 hrs/wk of reading followed by an involved discussion of what we have learned over Zoom.\nTuesdays\, beginning Nov. 16th\, 7:30-9pm. Please read the Introduction by the first meeting.\nTo register and find more information\, please email Tricia at tricia@laymissionary.org\nA ministry of the St. Francis Xavier Lay Missionary Society
URL:https://www.dsj.org/event/theological-book-virtual-study-deification-through-the-cross/2022-04-19/
LOCATION:Zoom
END:VEVENT
BEGIN:VEVENT
DTSTART;VALUE=DATE:20220420
DTEND;VALUE=DATE:20220423
DTSTAMP:20260423T093336
CREATED:20210510T165636Z
LAST-MODIFIED:20210510T165636Z
UID:10024929-1650412800-1650671999@www.dsj.org
SUMMARY:Retrouvaille of San Jose/Silicon Valley Virtual Marriage Program
DESCRIPTION:You Can Help Your Marriage – Do you feel alone? Are you frustrated or angry with each other? Do you argue … or have you just stopped talking to each other? This program has helped 10’s of 1000’s of couples experiencing difficulties in their marriage. The Virtual Retrouvaille Marriage Programs Mission\, approx.48 hours of presentation\, is to help hurting marriages heal\, and bring peace to families\, The program consists of a weekend presented by 3 couples and a Priest\, including 6 Sat. post session \nBulletin-Anouncement-Flyer-6-24-21.pdf
URL:https://www.dsj.org/event/retrouvaille-of-san-jose-silicon-valley-virtual-marriage-program-2/2022-04-20/
LOCATION:Virtual
END:VEVENT
BEGIN:VEVENT
DTSTART;TZID=UTC:20220420T170000
DTEND;TZID=UTC:20220420T183000
DTSTAMP:20260423T093336
CREATED:20220408T184057Z
LAST-MODIFIED:20220408T184550Z
UID:10026113-1650474000-1650479400@www.dsj.org
SUMMARY:Mental Health & Suicide Prevention| Salud Mental y Prevención de Suicidio
DESCRIPTION:Suicide is the 2nd leading cause of death for children 10-24. The Sacramento Diocese is providing info for parents to recognize signs of suicidal ideation & how support children experiencing emotional distress. English: April 20 5:00pm – 6:30pm Register Here. \nSalud Mental y Prevención de Suicidio: El suicidio es la segunda causa principal de muerte para ninos 10 a 24. El Diocese de Sacramento es info a los padres reconocer los signos de suicidio y cómo apoyar a sus hijos que pueden estar experimentando angustia emocional.\n• 21 de abril del 2022 de 5 a 6.30 de la tarde Se puede inscribir aqui.
URL:https://www.dsj.org/event/mental-health-suicide-prevention/
LOCATION:CA
END:VEVENT
BEGIN:VEVENT
DTSTART;TZID=America/Los_Angeles:20220420T171500
DTEND;TZID=America/Los_Angeles:20220420T181500
DTSTAMP:20260423T093336
CREATED:20160111T085827Z
LAST-MODIFIED:20210825T155529Z
UID:10021221-1650474900-1650478500@www.dsj.org
SUMMARY:CRS Rice Bowl Personal Testimony - Thomas Awiapo
DESCRIPTION:Don’t miss dynamic Thomas Awiapo\, CRS Director – Africa\, telling his powerful true story of heartbreak\, loss and hope.\nFebruary 20:   St. John Vianney: Saturday Masses (5:15pm\, 7pm – Spanish)\nFebruary 21:   St. John Vianney: All Masses (7:30am\, 9am\, 10:30am\, 12pm – Spanish\, 6pm)\nFebruary 22:   Bellarmine College Prep: (11:20am) School Assembly\nFebruary 22:   St. Simon: (1:30pm) School Assembly\nFebruary 22:   St. Lawrence Parish & Schools: CRS Lenten Prayer Service (7pm) All Are Welcome\n\n– Learn about RICE BOWL and make the connection between your spare change and changing people’s lives. \n– Purchase FAIR TRADE foods and gifts from WORK OF HUMAN HANDS\n– Learn about the CRS Global Mission \nCRS Thomas Awiapo Flyer
URL:https://www.dsj.org/event/crs-rice-bowl-personal-testimony-thomas-awiapo-3/2022-04-20/
LOCATION:St. John Vianney Parish\, 4600 Hyland Avenue\, San Jose\, CA\, United States
GEO:37.3713341;-121.8263161
X-APPLE-STRUCTURED-LOCATION;VALUE=URI;X-ADDRESS=St. John Vianney Parish 4600 Hyland Avenue San Jose CA United States;X-APPLE-RADIUS=500;X-TITLE=4600 Hyland Avenue:geo:-121.8263161,37.3713341
END:VEVENT
BEGIN:VEVENT
DTSTART;VALUE=DATE:20220421
DTEND;VALUE=DATE:20220424
DTSTAMP:20260423T093336
CREATED:20210510T165636Z
LAST-MODIFIED:20210510T165636Z
UID:10024930-1650499200-1650758399@www.dsj.org
SUMMARY:Retrouvaille of San Jose/Silicon Valley Virtual Marriage Program
DESCRIPTION:You Can Help Your Marriage – Do you feel alone? Are you frustrated or angry with each other? Do you argue … or have you just stopped talking to each other? This program has helped 10’s of 1000’s of couples experiencing difficulties in their marriage. The Virtual Retrouvaille Marriage Programs Mission\, approx.48 hours of presentation\, is to help hurting marriages heal\, and bring peace to families\, The program consists of a weekend presented by 3 couples and a Priest\, including 6 Sat. post session \nBulletin-Anouncement-Flyer-6-24-21.pdf
URL:https://www.dsj.org/event/retrouvaille-of-san-jose-silicon-valley-virtual-marriage-program-2/2022-04-21/
LOCATION:Virtual
END:VEVENT
BEGIN:VEVENT
DTSTART;TZID=America/Los_Angeles:20220421T171500
DTEND;TZID=America/Los_Angeles:20220421T181500
DTSTAMP:20260423T093336
CREATED:20160111T085827Z
LAST-MODIFIED:20210825T155529Z
UID:10021222-1650561300-1650564900@www.dsj.org
SUMMARY:CRS Rice Bowl Personal Testimony - Thomas Awiapo
DESCRIPTION:Don’t miss dynamic Thomas Awiapo\, CRS Director – Africa\, telling his powerful true story of heartbreak\, loss and hope.\nFebruary 20:   St. John Vianney: Saturday Masses (5:15pm\, 7pm – Spanish)\nFebruary 21:   St. John Vianney: All Masses (7:30am\, 9am\, 10:30am\, 12pm – Spanish\, 6pm)\nFebruary 22:   Bellarmine College Prep: (11:20am) School Assembly\nFebruary 22:   St. Simon: (1:30pm) School Assembly\nFebruary 22:   St. Lawrence Parish & Schools: CRS Lenten Prayer Service (7pm) All Are Welcome\n\n– Learn about RICE BOWL and make the connection between your spare change and changing people’s lives. \n– Purchase FAIR TRADE foods and gifts from WORK OF HUMAN HANDS\n– Learn about the CRS Global Mission \nCRS Thomas Awiapo Flyer
URL:https://www.dsj.org/event/crs-rice-bowl-personal-testimony-thomas-awiapo-3/2022-04-21/
LOCATION:St. John Vianney Parish\, 4600 Hyland Avenue\, San Jose\, CA\, United States
GEO:37.3713341;-121.8263161
X-APPLE-STRUCTURED-LOCATION;VALUE=URI;X-ADDRESS=St. John Vianney Parish 4600 Hyland Avenue San Jose CA United States;X-APPLE-RADIUS=500;X-TITLE=4600 Hyland Avenue:geo:-121.8263161,37.3713341
END:VEVENT
BEGIN:VEVENT
DTSTART;TZID=UTC:20220421T184500
DTEND;TZID=UTC:20220421T203000
DTSTAMP:20260423T093336
CREATED:20220408T175932Z
LAST-MODIFIED:20220414T185209Z
UID:10026112-1650566700-1650573000@www.dsj.org
SUMMARY:Virtual Young Adult Listening Session
DESCRIPTION:Join virtually on April 21 from 6:45pm – 8:30pm. Young Adults\, come and share your joys\, hopes\, or hurts in the Catholic Church. We want to hear from you; those who are connected to the church\, those who have left the church\, those who are not involved in the church\, and those who are marginalized. \nRegister here
URL:https://www.dsj.org/event/virtual-young-adult-listening-session/
LOCATION:Zoom
END:VEVENT
BEGIN:VEVENT
DTSTART;VALUE=DATE:20220422
DTEND;VALUE=DATE:20220425
DTSTAMP:20260423T093336
CREATED:20210510T165636Z
LAST-MODIFIED:20210510T165636Z
UID:10024931-1650585600-1650844799@www.dsj.org
SUMMARY:Retrouvaille of San Jose/Silicon Valley Virtual Marriage Program
DESCRIPTION:You Can Help Your Marriage – Do you feel alone? Are you frustrated or angry with each other? Do you argue … or have you just stopped talking to each other? This program has helped 10’s of 1000’s of couples experiencing difficulties in their marriage. The Virtual Retrouvaille Marriage Programs Mission\, approx.48 hours of presentation\, is to help hurting marriages heal\, and bring peace to families\, The program consists of a weekend presented by 3 couples and a Priest\, including 6 Sat. post session \nBulletin-Anouncement-Flyer-6-24-21.pdf
URL:https://www.dsj.org/event/retrouvaille-of-san-jose-silicon-valley-virtual-marriage-program-2/2022-04-22/
LOCATION:Virtual
END:VEVENT
BEGIN:VEVENT
DTSTART;TZID=America/Los_Angeles:20220422T171500
DTEND;TZID=America/Los_Angeles:20220422T181500
DTSTAMP:20260423T093336
CREATED:20160111T085827Z
LAST-MODIFIED:20210825T155529Z
UID:10021223-1650647700-1650651300@www.dsj.org
SUMMARY:CRS Rice Bowl Personal Testimony - Thomas Awiapo
DESCRIPTION:Don’t miss dynamic Thomas Awiapo\, CRS Director – Africa\, telling his powerful true story of heartbreak\, loss and hope.\nFebruary 20:   St. John Vianney: Saturday Masses (5:15pm\, 7pm – Spanish)\nFebruary 21:   St. John Vianney: All Masses (7:30am\, 9am\, 10:30am\, 12pm – Spanish\, 6pm)\nFebruary 22:   Bellarmine College Prep: (11:20am) School Assembly\nFebruary 22:   St. Simon: (1:30pm) School Assembly\nFebruary 22:   St. Lawrence Parish & Schools: CRS Lenten Prayer Service (7pm) All Are Welcome\n\n– Learn about RICE BOWL and make the connection between your spare change and changing people’s lives. \n– Purchase FAIR TRADE foods and gifts from WORK OF HUMAN HANDS\n– Learn about the CRS Global Mission \nCRS Thomas Awiapo Flyer
URL:https://www.dsj.org/event/crs-rice-bowl-personal-testimony-thomas-awiapo-3/2022-04-22/
LOCATION:St. John Vianney Parish\, 4600 Hyland Avenue\, San Jose\, CA\, United States
GEO:37.3713341;-121.8263161
X-APPLE-STRUCTURED-LOCATION;VALUE=URI;X-ADDRESS=St. John Vianney Parish 4600 Hyland Avenue San Jose CA United States;X-APPLE-RADIUS=500;X-TITLE=4600 Hyland Avenue:geo:-121.8263161,37.3713341
END:VEVENT
BEGIN:VEVENT
DTSTART;VALUE=DATE:20220423
DTEND;VALUE=DATE:20220426
DTSTAMP:20260423T093336
CREATED:20210510T165636Z
LAST-MODIFIED:20210510T165636Z
UID:10024932-1650672000-1650931199@www.dsj.org
SUMMARY:Retrouvaille of San Jose/Silicon Valley Virtual Marriage Program
DESCRIPTION:You Can Help Your Marriage – Do you feel alone? Are you frustrated or angry with each other? Do you argue … or have you just stopped talking to each other? This program has helped 10’s of 1000’s of couples experiencing difficulties in their marriage. The Virtual Retrouvaille Marriage Programs Mission\, approx.48 hours of presentation\, is to help hurting marriages heal\, and bring peace to families\, The program consists of a weekend presented by 3 couples and a Priest\, including 6 Sat. post session \nBulletin-Anouncement-Flyer-6-24-21.pdf
URL:https://www.dsj.org/event/retrouvaille-of-san-jose-silicon-valley-virtual-marriage-program-2/2022-04-23/
LOCATION:Virtual
END:VEVENT
BEGIN:VEVENT
DTSTART;TZID=UTC:20220423T100000
DTEND;TZID=UTC:20220423T110000
DTSTAMP:20260423T093336
CREATED:20220407T203614Z
LAST-MODIFIED:20220407T204009Z
UID:10026111-1650708000-1650711600@www.dsj.org
SUMMARY:Ching Ming Mass
DESCRIPTION:Date: Saturday\, April 23\, 2022\nTime: 10:00 am Annual Ching Ming Rosary\n10:30 am Mass of Remembrance of the Ancestors\nLocation: Gate of Heaven Catholic Cemetery – All Saints Chapel\n22555 Cristo Rey Dr\, Los Altos\,\nCelebrant: Fr. Carlos Alberto Olivera \n感謝天主的恩典\, 我們今年四月二十三日在Gate Heaven 舉行清明追思祭祖彌撒。\n上午十點恭唸玫瑰經，十點半舉行彌撒\n清明時節以感恩彌撒向天主表達崇敬之意\, 秉持慎終追遠的精神\, 為我們的先祖\, 己故的親友\, 獻上我們虔誠的祈禱。歡迎大家一起邀請親友們參加。
URL:https://www.dsj.org/event/ching-ming-mass-4/
LOCATION:All Saints Chapel at Gate Of Heaven Cemetery\, 22555 Cristo Rey Drive\, Los Altos\, CA\, 94024\, United States
GEO:37.326849;-122.084269
X-APPLE-STRUCTURED-LOCATION;VALUE=URI;X-ADDRESS=All Saints Chapel at Gate Of Heaven Cemetery 22555 Cristo Rey Drive Los Altos CA 94024 United States;X-APPLE-RADIUS=500;X-TITLE=22555 Cristo Rey Drive:geo:-122.084269,37.326849
END:VEVENT
BEGIN:VEVENT
DTSTART;TZID=UTC:20220423T100000
DTEND;TZID=UTC:20220423T120000
DTSTAMP:20260423T093336
CREATED:20210903T190442Z
LAST-MODIFIED:20210903T195748Z
UID:10022948-1650708000-1650715200@www.dsj.org
SUMMARY:11th Annual Caregivers Count Conference
DESCRIPTION:The Caregivers Count Conference Team\, which consists of local leaders in the aging services sector\, is hosting a free\, multi-day virtual conference for family caregivers of older loved ones and anyone else who would like to attend on the Saturdays of 9/11\, 9/18\, 9/25 and 10/2 from 10 a.m. to 12 p.m. Pacific Standard Time.
URL:https://www.dsj.org/event/11th-annual-caregivers-count-conference/2022-04-23/
LOCATION:Virtual
END:VEVENT
BEGIN:VEVENT
DTSTART;TZID=UTC:20220423T113000
DTEND;TZID=UTC:20220423T123000
DTSTAMP:20260423T093336
CREATED:20220423T000244Z
LAST-MODIFIED:20220423T000244Z
UID:10023278-1650713400-1650717000@www.dsj.org
SUMMARY:AAPI Heritage Mass
DESCRIPTION:
URL:https://www.dsj.org/event/aapi-heritage-mass/
LOCATION:Cathedral Basilica of Saint Joseph\, 80 South Market St. \, San Jose\, CA\, 95113\, United States
GEO:37.3341564;-121.8905406
X-APPLE-STRUCTURED-LOCATION;VALUE=URI;X-ADDRESS=Cathedral Basilica of Saint Joseph 80 South Market St.  San Jose CA 95113 United States;X-APPLE-RADIUS=500;X-TITLE=80 South Market St.:geo:-121.8905406,37.3341564
END:VEVENT
END:VCALENDAR