BEGIN:VCALENDAR
VERSION:2.0
PRODID:-//Diocese of San Jose - ECPv6.15.20//NONSGML v1.0//EN
CALSCALE:GREGORIAN
METHOD:PUBLISH
X-ORIGINAL-URL:https://www.dsj.org
X-WR-CALDESC:Events for Diocese of San Jose
REFRESH-INTERVAL;VALUE=DURATION:PT1H
X-Robots-Tag:noindex
X-PUBLISHED-TTL:PT1H
BEGIN:VTIMEZONE
TZID:UTC
BEGIN:STANDARD
TZOFFSETFROM:+0000
TZOFFSETTO:+0000
TZNAME:UTC
DTSTART:20210101T000000
END:STANDARD
END:VTIMEZONE
BEGIN:VTIMEZONE
TZID:America/Los_Angeles
BEGIN:DAYLIGHT
TZOFFSETFROM:-0800
TZOFFSETTO:-0700
TZNAME:PDT
DTSTART:20210314T100000
END:DAYLIGHT
BEGIN:STANDARD
TZOFFSETFROM:-0700
TZOFFSETTO:-0800
TZNAME:PST
DTSTART:20211107T090000
END:STANDARD
BEGIN:DAYLIGHT
TZOFFSETFROM:-0800
TZOFFSETTO:-0700
TZNAME:PDT
DTSTART:20220313T100000
END:DAYLIGHT
BEGIN:STANDARD
TZOFFSETFROM:-0700
TZOFFSETTO:-0800
TZNAME:PST
DTSTART:20221106T090000
END:STANDARD
BEGIN:DAYLIGHT
TZOFFSETFROM:-0800
TZOFFSETTO:-0700
TZNAME:PDT
DTSTART:20230312T100000
END:DAYLIGHT
BEGIN:STANDARD
TZOFFSETFROM:-0700
TZOFFSETTO:-0800
TZNAME:PST
DTSTART:20231105T090000
END:STANDARD
END:VTIMEZONE
BEGIN:VEVENT
DTSTART;VALUE=DATE:20220121
DTEND;VALUE=DATE:20220124
DTSTAMP:20260420T070346
CREATED:20210510T165636Z
LAST-MODIFIED:20210510T165636Z
UID:10024840-1642723200-1642982399@www.dsj.org
SUMMARY:Retrouvaille of San Jose/Silicon Valley Virtual Marriage Program
DESCRIPTION:You Can Help Your Marriage – Do you feel alone? Are you frustrated or angry with each other? Do you argue … or have you just stopped talking to each other? This program has helped 10’s of 1000’s of couples experiencing difficulties in their marriage. The Virtual Retrouvaille Marriage Programs Mission\, approx.48 hours of presentation\, is to help hurting marriages heal\, and bring peace to families\, The program consists of a weekend presented by 3 couples and a Priest\, including 6 Sat. post session \nBulletin-Anouncement-Flyer-6-24-21.pdf
URL:https://www.dsj.org/event/retrouvaille-of-san-jose-silicon-valley-virtual-marriage-program-2/2022-01-21/
LOCATION:Virtual
END:VEVENT
BEGIN:VEVENT
DTSTART;VALUE=DATE:20220122
DTEND;VALUE=DATE:20220125
DTSTAMP:20260420T070346
CREATED:20210510T165636Z
LAST-MODIFIED:20210510T165636Z
UID:10024841-1642809600-1643068799@www.dsj.org
SUMMARY:Retrouvaille of San Jose/Silicon Valley Virtual Marriage Program
DESCRIPTION:You Can Help Your Marriage – Do you feel alone? Are you frustrated or angry with each other? Do you argue … or have you just stopped talking to each other? This program has helped 10’s of 1000’s of couples experiencing difficulties in their marriage. The Virtual Retrouvaille Marriage Programs Mission\, approx.48 hours of presentation\, is to help hurting marriages heal\, and bring peace to families\, The program consists of a weekend presented by 3 couples and a Priest\, including 6 Sat. post session \nBulletin-Anouncement-Flyer-6-24-21.pdf
URL:https://www.dsj.org/event/retrouvaille-of-san-jose-silicon-valley-virtual-marriage-program-2/2022-01-22/
LOCATION:Virtual
END:VEVENT
BEGIN:VEVENT
DTSTART;TZID=America/Los_Angeles:20220122T171500
DTEND;TZID=America/Los_Angeles:20220122T181500
DTSTAMP:20260420T070346
CREATED:20160111T085827Z
LAST-MODIFIED:20210825T155529Z
UID:10021133-1642871700-1642875300@www.dsj.org
SUMMARY:CRS Rice Bowl Personal Testimony - Thomas Awiapo
DESCRIPTION:Don’t miss dynamic Thomas Awiapo\, CRS Director – Africa\, telling his powerful true story of heartbreak\, loss and hope.\nFebruary 20:   St. John Vianney: Saturday Masses (5:15pm\, 7pm – Spanish)\nFebruary 21:   St. John Vianney: All Masses (7:30am\, 9am\, 10:30am\, 12pm – Spanish\, 6pm)\nFebruary 22:   Bellarmine College Prep: (11:20am) School Assembly\nFebruary 22:   St. Simon: (1:30pm) School Assembly\nFebruary 22:   St. Lawrence Parish & Schools: CRS Lenten Prayer Service (7pm) All Are Welcome\n\n– Learn about RICE BOWL and make the connection between your spare change and changing people’s lives. \n– Purchase FAIR TRADE foods and gifts from WORK OF HUMAN HANDS\n– Learn about the CRS Global Mission \nCRS Thomas Awiapo Flyer
URL:https://www.dsj.org/event/crs-rice-bowl-personal-testimony-thomas-awiapo-3/2022-01-22/
LOCATION:St. John Vianney Parish\, 4600 Hyland Avenue\, San Jose\, CA\, United States
GEO:37.3713341;-121.8263161
X-APPLE-STRUCTURED-LOCATION;VALUE=URI;X-ADDRESS=St. John Vianney Parish 4600 Hyland Avenue San Jose CA United States;X-APPLE-RADIUS=500;X-TITLE=4600 Hyland Avenue:geo:-121.8263161,37.3713341
END:VEVENT
BEGIN:VEVENT
DTSTART;VALUE=DATE:20220123
DTEND;VALUE=DATE:20220126
DTSTAMP:20260420T070346
CREATED:20210510T165636Z
LAST-MODIFIED:20210510T165636Z
UID:10024842-1642896000-1643155199@www.dsj.org
SUMMARY:Retrouvaille of San Jose/Silicon Valley Virtual Marriage Program
DESCRIPTION:You Can Help Your Marriage – Do you feel alone? Are you frustrated or angry with each other? Do you argue … or have you just stopped talking to each other? This program has helped 10’s of 1000’s of couples experiencing difficulties in their marriage. The Virtual Retrouvaille Marriage Programs Mission\, approx.48 hours of presentation\, is to help hurting marriages heal\, and bring peace to families\, The program consists of a weekend presented by 3 couples and a Priest\, including 6 Sat. post session \nBulletin-Anouncement-Flyer-6-24-21.pdf
URL:https://www.dsj.org/event/retrouvaille-of-san-jose-silicon-valley-virtual-marriage-program-2/2022-01-23/
LOCATION:Virtual
END:VEVENT
BEGIN:VEVENT
DTSTART;TZID=UTC:20220123T080000
DTEND;TZID=UTC:20220123T170000
DTSTAMP:20260420T070346
CREATED:20211203T170121Z
LAST-MODIFIED:20211203T180355Z
UID:10026001-1642924800-1642957200@www.dsj.org
SUMMARY:Retrouvaille of San Jose/Silicon Valley Marriage Program
DESCRIPTION:You Can Help Your Marriage – Do you feel alone? Are you frustrated or angry with each other? Do you argue … or have you just stopped talking to each other? This program has helped 10’s of 1000’s of couples experiencing difficulties in their marriage. The Retrouvaille Marriage Programs Mission is to help hurting marriages heal\, and bring peace to families\, The program consists of a weekend starting Friday at 7 pm and ends Sunday at 5pm. Presented by 3 couples and a Priest\, including 6 Sat. post sessions\, approx.48 hours of presentation. Click here for flyer
URL:https://www.dsj.org/event/retrouvaille-of-san-jose-silicon-valley-marriage-program-2/2022-01-23/
LOCATION:CA
END:VEVENT
BEGIN:VEVENT
DTSTART;TZID=America/Los_Angeles:20220123T171500
DTEND;TZID=America/Los_Angeles:20220123T181500
DTSTAMP:20260420T070346
CREATED:20160111T085827Z
LAST-MODIFIED:20210825T155529Z
UID:10021134-1642958100-1642961700@www.dsj.org
SUMMARY:CRS Rice Bowl Personal Testimony - Thomas Awiapo
DESCRIPTION:Don’t miss dynamic Thomas Awiapo\, CRS Director – Africa\, telling his powerful true story of heartbreak\, loss and hope.\nFebruary 20:   St. John Vianney: Saturday Masses (5:15pm\, 7pm – Spanish)\nFebruary 21:   St. John Vianney: All Masses (7:30am\, 9am\, 10:30am\, 12pm – Spanish\, 6pm)\nFebruary 22:   Bellarmine College Prep: (11:20am) School Assembly\nFebruary 22:   St. Simon: (1:30pm) School Assembly\nFebruary 22:   St. Lawrence Parish & Schools: CRS Lenten Prayer Service (7pm) All Are Welcome\n\n– Learn about RICE BOWL and make the connection between your spare change and changing people’s lives. \n– Purchase FAIR TRADE foods and gifts from WORK OF HUMAN HANDS\n– Learn about the CRS Global Mission \nCRS Thomas Awiapo Flyer
URL:https://www.dsj.org/event/crs-rice-bowl-personal-testimony-thomas-awiapo-3/2022-01-23/
LOCATION:St. John Vianney Parish\, 4600 Hyland Avenue\, San Jose\, CA\, United States
GEO:37.3713341;-121.8263161
X-APPLE-STRUCTURED-LOCATION;VALUE=URI;X-ADDRESS=St. John Vianney Parish 4600 Hyland Avenue San Jose CA United States;X-APPLE-RADIUS=500;X-TITLE=4600 Hyland Avenue:geo:-121.8263161,37.3713341
END:VEVENT
BEGIN:VEVENT
DTSTART;VALUE=DATE:20220124
DTEND;VALUE=DATE:20220127
DTSTAMP:20260420T070346
CREATED:20210510T165636Z
LAST-MODIFIED:20210510T165636Z
UID:10024843-1642982400-1643241599@www.dsj.org
SUMMARY:Retrouvaille of San Jose/Silicon Valley Virtual Marriage Program
DESCRIPTION:You Can Help Your Marriage – Do you feel alone? Are you frustrated or angry with each other? Do you argue … or have you just stopped talking to each other? This program has helped 10’s of 1000’s of couples experiencing difficulties in their marriage. The Virtual Retrouvaille Marriage Programs Mission\, approx.48 hours of presentation\, is to help hurting marriages heal\, and bring peace to families\, The program consists of a weekend presented by 3 couples and a Priest\, including 6 Sat. post session \nBulletin-Anouncement-Flyer-6-24-21.pdf
URL:https://www.dsj.org/event/retrouvaille-of-san-jose-silicon-valley-virtual-marriage-program-2/2022-01-24/
LOCATION:Virtual
END:VEVENT
BEGIN:VEVENT
DTSTART;TZID=America/Los_Angeles:20220124T171500
DTEND;TZID=America/Los_Angeles:20220124T181500
DTSTAMP:20260420T070346
CREATED:20160111T085827Z
LAST-MODIFIED:20210825T155529Z
UID:10021135-1643044500-1643048100@www.dsj.org
SUMMARY:CRS Rice Bowl Personal Testimony - Thomas Awiapo
DESCRIPTION:Don’t miss dynamic Thomas Awiapo\, CRS Director – Africa\, telling his powerful true story of heartbreak\, loss and hope.\nFebruary 20:   St. John Vianney: Saturday Masses (5:15pm\, 7pm – Spanish)\nFebruary 21:   St. John Vianney: All Masses (7:30am\, 9am\, 10:30am\, 12pm – Spanish\, 6pm)\nFebruary 22:   Bellarmine College Prep: (11:20am) School Assembly\nFebruary 22:   St. Simon: (1:30pm) School Assembly\nFebruary 22:   St. Lawrence Parish & Schools: CRS Lenten Prayer Service (7pm) All Are Welcome\n\n– Learn about RICE BOWL and make the connection between your spare change and changing people’s lives. \n– Purchase FAIR TRADE foods and gifts from WORK OF HUMAN HANDS\n– Learn about the CRS Global Mission \nCRS Thomas Awiapo Flyer
URL:https://www.dsj.org/event/crs-rice-bowl-personal-testimony-thomas-awiapo-3/2022-01-24/
LOCATION:St. John Vianney Parish\, 4600 Hyland Avenue\, San Jose\, CA\, United States
GEO:37.3713341;-121.8263161
X-APPLE-STRUCTURED-LOCATION;VALUE=URI;X-ADDRESS=St. John Vianney Parish 4600 Hyland Avenue San Jose CA United States;X-APPLE-RADIUS=500;X-TITLE=4600 Hyland Avenue:geo:-121.8263161,37.3713341
END:VEVENT
BEGIN:VEVENT
DTSTART;VALUE=DATE:20220125
DTEND;VALUE=DATE:20220128
DTSTAMP:20260420T070346
CREATED:20210510T165636Z
LAST-MODIFIED:20210510T165636Z
UID:10024844-1643068800-1643327999@www.dsj.org
SUMMARY:Retrouvaille of San Jose/Silicon Valley Virtual Marriage Program
DESCRIPTION:You Can Help Your Marriage – Do you feel alone? Are you frustrated or angry with each other? Do you argue … or have you just stopped talking to each other? This program has helped 10’s of 1000’s of couples experiencing difficulties in their marriage. The Virtual Retrouvaille Marriage Programs Mission\, approx.48 hours of presentation\, is to help hurting marriages heal\, and bring peace to families\, The program consists of a weekend presented by 3 couples and a Priest\, including 6 Sat. post session \nBulletin-Anouncement-Flyer-6-24-21.pdf
URL:https://www.dsj.org/event/retrouvaille-of-san-jose-silicon-valley-virtual-marriage-program-2/2022-01-25/
LOCATION:Virtual
END:VEVENT
BEGIN:VEVENT
DTSTART;TZID=America/Los_Angeles:20220125T171500
DTEND;TZID=America/Los_Angeles:20220125T181500
DTSTAMP:20260420T070346
CREATED:20160111T085827Z
LAST-MODIFIED:20210825T155529Z
UID:10021136-1643130900-1643134500@www.dsj.org
SUMMARY:CRS Rice Bowl Personal Testimony - Thomas Awiapo
DESCRIPTION:Don’t miss dynamic Thomas Awiapo\, CRS Director – Africa\, telling his powerful true story of heartbreak\, loss and hope.\nFebruary 20:   St. John Vianney: Saturday Masses (5:15pm\, 7pm – Spanish)\nFebruary 21:   St. John Vianney: All Masses (7:30am\, 9am\, 10:30am\, 12pm – Spanish\, 6pm)\nFebruary 22:   Bellarmine College Prep: (11:20am) School Assembly\nFebruary 22:   St. Simon: (1:30pm) School Assembly\nFebruary 22:   St. Lawrence Parish & Schools: CRS Lenten Prayer Service (7pm) All Are Welcome\n\n– Learn about RICE BOWL and make the connection between your spare change and changing people’s lives. \n– Purchase FAIR TRADE foods and gifts from WORK OF HUMAN HANDS\n– Learn about the CRS Global Mission \nCRS Thomas Awiapo Flyer
URL:https://www.dsj.org/event/crs-rice-bowl-personal-testimony-thomas-awiapo-3/2022-01-25/
LOCATION:St. John Vianney Parish\, 4600 Hyland Avenue\, San Jose\, CA\, United States
GEO:37.3713341;-121.8263161
X-APPLE-STRUCTURED-LOCATION;VALUE=URI;X-ADDRESS=St. John Vianney Parish 4600 Hyland Avenue San Jose CA United States;X-APPLE-RADIUS=500;X-TITLE=4600 Hyland Avenue:geo:-121.8263161,37.3713341
END:VEVENT
BEGIN:VEVENT
DTSTART;TZID=UTC:20220125T180000
DTEND;TZID=UTC:20220125T203000
DTSTAMP:20260420T070346
CREATED:20211223T183109Z
LAST-MODIFIED:20211223T183109Z
UID:10023203-1643133600-1643142600@www.dsj.org
SUMMARY:Introduction to Catechetical Ministry
DESCRIPTION:Winter Session for Introduction to Catechetical Ministry\nAttention Catechetical Directors and Coordinators – Winter session on Introduction to Catechetical Ministry starts at the end of January 2022. \nThe themes and dates are as follows: \n\nJan. 25 Faith and Human Development – Ruth Auten\nJan. 26 Learning Style\, Teaching Styles – Kathy Almazol\nJan. 27 Technology and Catechesis – Tam Tran\n\nCourses fulfill requirements for Catechist Certification. Help promote this course by inviting your catechists to participate. Click here for information.
URL:https://www.dsj.org/event/introduction-to-catechetical-ministry-3/2022-01-25/
LOCATION:CA
END:VEVENT
BEGIN:VEVENT
DTSTART;TZID=UTC:20220125T190000
DTEND;TZID=UTC:20220125T203000
DTSTAMP:20260420T070346
CREATED:20211216T225004Z
LAST-MODIFIED:20211216T225004Z
UID:10026021-1643137200-1643142600@www.dsj.org
SUMMARY:The Eucharist: A Six-Week Course on the Source and Summit of the Catholic Faith.
DESCRIPTION:The Eucharist is a great mystery. But a theological mystery is not unintelligible; it is infinitely intelligible. This online course\, led by Brett Salkeld \, will look at the multifaceted mystery of the Eucharist through several lenses: meal\, sacrifice\, real presence\, transubstantiation\, Christian Unity\, and liturgy. Salkeld is the Archdiocesan Theologian for the Archdiocese of Regina (Saskatchewan)\, a sought-after speaker\, and the author of several books.
URL:https://www.dsj.org/event/the-eucharist-a-six-week-course-on-the-source-and-summit-of-the-catholic-faith/2022-01-25/
LOCATION:Zoom
END:VEVENT
BEGIN:VEVENT
DTSTART;TZID=UTC:20220125T190000
DTEND;TZID=UTC:20220125T210000
DTSTAMP:20260420T070346
CREATED:20220107T214222Z
LAST-MODIFIED:20220107T214222Z
UID:10023215-1643137200-1643144400@www.dsj.org
SUMMARY:Spiritual Exercises of St. Ignatius of Loyola and the 10 Commandments.
DESCRIPTION:Ignatian Spirituality Workshop: The Spiritual Exercises of St. Ignatius of Loyola and the 10 Commandments.\nTuesday\, January 25\, 2022\nVia ZOOM 7:00 pm to 9:00 pm\nFacilitator: Fr. Andrew B. García S.J.\nZOOM ID Please Sign Up Click\nhttps://tinyurl.com/y4seyrm8 \nHosted by Most Holy Trinity\, a Jesuit Parish\nIgnatian Spirituality Center\n2040 Nassau Drive\, San Jose\, CA 95122 \nPrint flyer. 
URL:https://www.dsj.org/event/spiritual-exercises-of-st-ignatius-of-loyola-and-the-10-commandments/
LOCATION:Zoom
END:VEVENT
BEGIN:VEVENT
DTSTART;VALUE=DATE:20220126
DTEND;VALUE=DATE:20220129
DTSTAMP:20260420T070346
CREATED:20210510T165636Z
LAST-MODIFIED:20210510T165636Z
UID:10024845-1643155200-1643414399@www.dsj.org
SUMMARY:Retrouvaille of San Jose/Silicon Valley Virtual Marriage Program
DESCRIPTION:You Can Help Your Marriage – Do you feel alone? Are you frustrated or angry with each other? Do you argue … or have you just stopped talking to each other? This program has helped 10’s of 1000’s of couples experiencing difficulties in their marriage. The Virtual Retrouvaille Marriage Programs Mission\, approx.48 hours of presentation\, is to help hurting marriages heal\, and bring peace to families\, The program consists of a weekend presented by 3 couples and a Priest\, including 6 Sat. post session \nBulletin-Anouncement-Flyer-6-24-21.pdf
URL:https://www.dsj.org/event/retrouvaille-of-san-jose-silicon-valley-virtual-marriage-program-2/2022-01-26/
LOCATION:Virtual
END:VEVENT
BEGIN:VEVENT
DTSTART;TZID=America/Los_Angeles:20220126T171500
DTEND;TZID=America/Los_Angeles:20220126T181500
DTSTAMP:20260420T070346
CREATED:20160111T085827Z
LAST-MODIFIED:20210825T155529Z
UID:10021137-1643217300-1643220900@www.dsj.org
SUMMARY:CRS Rice Bowl Personal Testimony - Thomas Awiapo
DESCRIPTION:Don’t miss dynamic Thomas Awiapo\, CRS Director – Africa\, telling his powerful true story of heartbreak\, loss and hope.\nFebruary 20:   St. John Vianney: Saturday Masses (5:15pm\, 7pm – Spanish)\nFebruary 21:   St. John Vianney: All Masses (7:30am\, 9am\, 10:30am\, 12pm – Spanish\, 6pm)\nFebruary 22:   Bellarmine College Prep: (11:20am) School Assembly\nFebruary 22:   St. Simon: (1:30pm) School Assembly\nFebruary 22:   St. Lawrence Parish & Schools: CRS Lenten Prayer Service (7pm) All Are Welcome\n\n– Learn about RICE BOWL and make the connection between your spare change and changing people’s lives. \n– Purchase FAIR TRADE foods and gifts from WORK OF HUMAN HANDS\n– Learn about the CRS Global Mission \nCRS Thomas Awiapo Flyer
URL:https://www.dsj.org/event/crs-rice-bowl-personal-testimony-thomas-awiapo-3/2022-01-26/
LOCATION:St. John Vianney Parish\, 4600 Hyland Avenue\, San Jose\, CA\, United States
GEO:37.3713341;-121.8263161
X-APPLE-STRUCTURED-LOCATION;VALUE=URI;X-ADDRESS=St. John Vianney Parish 4600 Hyland Avenue San Jose CA United States;X-APPLE-RADIUS=500;X-TITLE=4600 Hyland Avenue:geo:-121.8263161,37.3713341
END:VEVENT
BEGIN:VEVENT
DTSTART;TZID=UTC:20220126T180000
DTEND;TZID=UTC:20220126T203000
DTSTAMP:20260420T070346
CREATED:20211223T183109Z
LAST-MODIFIED:20211223T183109Z
UID:10023204-1643220000-1643229000@www.dsj.org
SUMMARY:Introduction to Catechetical Ministry
DESCRIPTION:Winter Session for Introduction to Catechetical Ministry\nAttention Catechetical Directors and Coordinators – Winter session on Introduction to Catechetical Ministry starts at the end of January 2022. \nThe themes and dates are as follows: \n\nJan. 25 Faith and Human Development – Ruth Auten\nJan. 26 Learning Style\, Teaching Styles – Kathy Almazol\nJan. 27 Technology and Catechesis – Tam Tran\n\nCourses fulfill requirements for Catechist Certification. Help promote this course by inviting your catechists to participate. Click here for information.
URL:https://www.dsj.org/event/introduction-to-catechetical-ministry-3/2022-01-26/
LOCATION:CA
END:VEVENT
BEGIN:VEVENT
DTSTART;VALUE=DATE:20220127
DTEND;VALUE=DATE:20220130
DTSTAMP:20260420T070346
CREATED:20210510T165636Z
LAST-MODIFIED:20210510T165636Z
UID:10024846-1643241600-1643500799@www.dsj.org
SUMMARY:Retrouvaille of San Jose/Silicon Valley Virtual Marriage Program
DESCRIPTION:You Can Help Your Marriage – Do you feel alone? Are you frustrated or angry with each other? Do you argue … or have you just stopped talking to each other? This program has helped 10’s of 1000’s of couples experiencing difficulties in their marriage. The Virtual Retrouvaille Marriage Programs Mission\, approx.48 hours of presentation\, is to help hurting marriages heal\, and bring peace to families\, The program consists of a weekend presented by 3 couples and a Priest\, including 6 Sat. post session \nBulletin-Anouncement-Flyer-6-24-21.pdf
URL:https://www.dsj.org/event/retrouvaille-of-san-jose-silicon-valley-virtual-marriage-program-2/2022-01-27/
LOCATION:Virtual
END:VEVENT
BEGIN:VEVENT
DTSTART;TZID=UTC:20220127T113000
DTEND;TZID=UTC:20220127T130000
DTSTAMP:20260420T070346
CREATED:20220121T211203Z
LAST-MODIFIED:20220121T211429Z
UID:10023237-1643283000-1643288400@www.dsj.org
SUMMARY:MENTAL HEALTH 101 Training
DESCRIPTION:On January 27 from 11:30am – 1:00pm Join and learn 1) about mental illness and substance use disorder 2) be able to offer resources and referrals to those in need 3) become an advocate for recovery and wellness. Our goal is to create “mental health friendly\, stigma free” communities. Click and RSVP by Jan. 24.
URL:https://www.dsj.org/event/mental-health-101-training/
LOCATION:Virtual
END:VEVENT
BEGIN:VEVENT
DTSTART;TZID=America/Los_Angeles:20220127T171500
DTEND;TZID=America/Los_Angeles:20220127T181500
DTSTAMP:20260420T070346
CREATED:20160111T085827Z
LAST-MODIFIED:20210825T155529Z
UID:10021138-1643303700-1643307300@www.dsj.org
SUMMARY:CRS Rice Bowl Personal Testimony - Thomas Awiapo
DESCRIPTION:Don’t miss dynamic Thomas Awiapo\, CRS Director – Africa\, telling his powerful true story of heartbreak\, loss and hope.\nFebruary 20:   St. John Vianney: Saturday Masses (5:15pm\, 7pm – Spanish)\nFebruary 21:   St. John Vianney: All Masses (7:30am\, 9am\, 10:30am\, 12pm – Spanish\, 6pm)\nFebruary 22:   Bellarmine College Prep: (11:20am) School Assembly\nFebruary 22:   St. Simon: (1:30pm) School Assembly\nFebruary 22:   St. Lawrence Parish & Schools: CRS Lenten Prayer Service (7pm) All Are Welcome\n\n– Learn about RICE BOWL and make the connection between your spare change and changing people’s lives. \n– Purchase FAIR TRADE foods and gifts from WORK OF HUMAN HANDS\n– Learn about the CRS Global Mission \nCRS Thomas Awiapo Flyer
URL:https://www.dsj.org/event/crs-rice-bowl-personal-testimony-thomas-awiapo-3/2022-01-27/
LOCATION:St. John Vianney Parish\, 4600 Hyland Avenue\, San Jose\, CA\, United States
GEO:37.3713341;-121.8263161
X-APPLE-STRUCTURED-LOCATION;VALUE=URI;X-ADDRESS=St. John Vianney Parish 4600 Hyland Avenue San Jose CA United States;X-APPLE-RADIUS=500;X-TITLE=4600 Hyland Avenue:geo:-121.8263161,37.3713341
END:VEVENT
BEGIN:VEVENT
DTSTART;TZID=UTC:20220127T180000
DTEND;TZID=UTC:20220127T203000
DTSTAMP:20260420T070346
CREATED:20211223T183109Z
LAST-MODIFIED:20211223T183109Z
UID:10023205-1643306400-1643315400@www.dsj.org
SUMMARY:Introduction to Catechetical Ministry
DESCRIPTION:Winter Session for Introduction to Catechetical Ministry\nAttention Catechetical Directors and Coordinators – Winter session on Introduction to Catechetical Ministry starts at the end of January 2022. \nThe themes and dates are as follows: \n\nJan. 25 Faith and Human Development – Ruth Auten\nJan. 26 Learning Style\, Teaching Styles – Kathy Almazol\nJan. 27 Technology and Catechesis – Tam Tran\n\nCourses fulfill requirements for Catechist Certification. Help promote this course by inviting your catechists to participate. Click here for information.
URL:https://www.dsj.org/event/introduction-to-catechetical-ministry-3/2022-01-27/
LOCATION:CA
END:VEVENT
BEGIN:VEVENT
DTSTART;VALUE=DATE:20220128
DTEND;VALUE=DATE:20220131
DTSTAMP:20260420T070346
CREATED:20210510T165636Z
LAST-MODIFIED:20210510T165636Z
UID:10024847-1643328000-1643587199@www.dsj.org
SUMMARY:Retrouvaille of San Jose/Silicon Valley Virtual Marriage Program
DESCRIPTION:You Can Help Your Marriage – Do you feel alone? Are you frustrated or angry with each other? Do you argue … or have you just stopped talking to each other? This program has helped 10’s of 1000’s of couples experiencing difficulties in their marriage. The Virtual Retrouvaille Marriage Programs Mission\, approx.48 hours of presentation\, is to help hurting marriages heal\, and bring peace to families\, The program consists of a weekend presented by 3 couples and a Priest\, including 6 Sat. post session \nBulletin-Anouncement-Flyer-6-24-21.pdf
URL:https://www.dsj.org/event/retrouvaille-of-san-jose-silicon-valley-virtual-marriage-program-2/2022-01-28/
LOCATION:Virtual
END:VEVENT
BEGIN:VEVENT
DTSTART;TZID=America/Los_Angeles:20220128T171500
DTEND;TZID=America/Los_Angeles:20220128T181500
DTSTAMP:20260420T070346
CREATED:20160111T085827Z
LAST-MODIFIED:20210825T155529Z
UID:10021139-1643390100-1643393700@www.dsj.org
SUMMARY:CRS Rice Bowl Personal Testimony - Thomas Awiapo
DESCRIPTION:Don’t miss dynamic Thomas Awiapo\, CRS Director – Africa\, telling his powerful true story of heartbreak\, loss and hope.\nFebruary 20:   St. John Vianney: Saturday Masses (5:15pm\, 7pm – Spanish)\nFebruary 21:   St. John Vianney: All Masses (7:30am\, 9am\, 10:30am\, 12pm – Spanish\, 6pm)\nFebruary 22:   Bellarmine College Prep: (11:20am) School Assembly\nFebruary 22:   St. Simon: (1:30pm) School Assembly\nFebruary 22:   St. Lawrence Parish & Schools: CRS Lenten Prayer Service (7pm) All Are Welcome\n\n– Learn about RICE BOWL and make the connection between your spare change and changing people’s lives. \n– Purchase FAIR TRADE foods and gifts from WORK OF HUMAN HANDS\n– Learn about the CRS Global Mission \nCRS Thomas Awiapo Flyer
URL:https://www.dsj.org/event/crs-rice-bowl-personal-testimony-thomas-awiapo-3/2022-01-28/
LOCATION:St. John Vianney Parish\, 4600 Hyland Avenue\, San Jose\, CA\, United States
GEO:37.3713341;-121.8263161
X-APPLE-STRUCTURED-LOCATION;VALUE=URI;X-ADDRESS=St. John Vianney Parish 4600 Hyland Avenue San Jose CA United States;X-APPLE-RADIUS=500;X-TITLE=4600 Hyland Avenue:geo:-121.8263161,37.3713341
END:VEVENT
BEGIN:VEVENT
DTSTART;VALUE=DATE:20220129
DTEND;VALUE=DATE:20220201
DTSTAMP:20260420T070346
CREATED:20210510T165636Z
LAST-MODIFIED:20210510T165636Z
UID:10024848-1643414400-1643673599@www.dsj.org
SUMMARY:Retrouvaille of San Jose/Silicon Valley Virtual Marriage Program
DESCRIPTION:You Can Help Your Marriage – Do you feel alone? Are you frustrated or angry with each other? Do you argue … or have you just stopped talking to each other? This program has helped 10’s of 1000’s of couples experiencing difficulties in their marriage. The Virtual Retrouvaille Marriage Programs Mission\, approx.48 hours of presentation\, is to help hurting marriages heal\, and bring peace to families\, The program consists of a weekend presented by 3 couples and a Priest\, including 6 Sat. post session \nBulletin-Anouncement-Flyer-6-24-21.pdf
URL:https://www.dsj.org/event/retrouvaille-of-san-jose-silicon-valley-virtual-marriage-program-2/2022-01-29/
LOCATION:Virtual
END:VEVENT
BEGIN:VEVENT
DTSTART;TZID=UTC:20220129T100000
DTEND;TZID=UTC:20220129T120000
DTSTAMP:20260420T070346
CREATED:20210903T190442Z
LAST-MODIFIED:20210903T195748Z
UID:10022936-1643450400-1643457600@www.dsj.org
SUMMARY:11th Annual Caregivers Count Conference
DESCRIPTION:The Caregivers Count Conference Team\, which consists of local leaders in the aging services sector\, is hosting a free\, multi-day virtual conference for family caregivers of older loved ones and anyone else who would like to attend on the Saturdays of 9/11\, 9/18\, 9/25 and 10/2 from 10 a.m. to 12 p.m. Pacific Standard Time.
URL:https://www.dsj.org/event/11th-annual-caregivers-count-conference/2022-01-29/
LOCATION:Virtual
END:VEVENT
BEGIN:VEVENT
DTSTART;TZID=UTC:20220129T170000
DTEND;TZID=UTC:20220129T180000
DTSTAMP:20260420T070346
CREATED:20220114T003819Z
LAST-MODIFIED:20220114T003918Z
UID:10026040-1643475600-1643479200@www.dsj.org
SUMMARY:Mass of Remembrance for Victims & Survivors of Violence
DESCRIPTION:On January 29\, Bishop Oscar Cantú will celebrate 5pm Mass for victims and survivors of violence. Join together in pray at Holy Cross Parish\, 580 Jackson St\, San Jose. \nShare images on Facebook | Instagram
URL:https://www.dsj.org/event/mass-of-remembrance-for-victims-survivors-of-violence-2/
LOCATION:Holy Cross Parish
END:VEVENT
END:VCALENDAR