BEGIN:VCALENDAR
VERSION:2.0
PRODID:-//Diocese of San Jose - ECPv6.15.20//NONSGML v1.0//EN
CALSCALE:GREGORIAN
METHOD:PUBLISH
X-ORIGINAL-URL:https://www.dsj.org
X-WR-CALDESC:Events for Diocese of San Jose
REFRESH-INTERVAL;VALUE=DURATION:PT1H
X-Robots-Tag:noindex
X-PUBLISHED-TTL:PT1H
BEGIN:VTIMEZONE
TZID:America/Los_Angeles
BEGIN:DAYLIGHT
TZOFFSETFROM:-0800
TZOFFSETTO:-0700
TZNAME:PDT
DTSTART:20140309T100000
END:DAYLIGHT
BEGIN:STANDARD
TZOFFSETFROM:-0700
TZOFFSETTO:-0800
TZNAME:PST
DTSTART:20141102T090000
END:STANDARD
BEGIN:DAYLIGHT
TZOFFSETFROM:-0800
TZOFFSETTO:-0700
TZNAME:PDT
DTSTART:20150308T100000
END:DAYLIGHT
BEGIN:STANDARD
TZOFFSETFROM:-0700
TZOFFSETTO:-0800
TZNAME:PST
DTSTART:20151101T090000
END:STANDARD
BEGIN:DAYLIGHT
TZOFFSETFROM:-0800
TZOFFSETTO:-0700
TZNAME:PDT
DTSTART:20160313T100000
END:DAYLIGHT
BEGIN:STANDARD
TZOFFSETFROM:-0700
TZOFFSETTO:-0800
TZNAME:PST
DTSTART:20161106T090000
END:STANDARD
END:VTIMEZONE
BEGIN:VEVENT
DTSTART;TZID=America/Los_Angeles:20150829T123000
DTEND;TZID=America/Los_Angeles:20150829T173000
DTSTAMP:20260419T180006
CREATED:20150727T011025Z
LAST-MODIFIED:20150727T011025Z
UID:10018844-1440851400-1440869400@www.dsj.org
SUMMARY:Orientación - Herramientas de Pastoral Juvenil
DESCRIPTION:La Oficina del Apostolado Hispano y el Consejo Pastoral Juvenil les pide su presencia en la:  \nOrientación – Herramientas de Pastoral Juvenil \npara todas las Mesas Directivas de los Grupos y Movimientos de Pastoral Juvenil.Las parroquias que estén en proceso de iniciar un nuevo grupo son Bienvenidos. \nEn la Diócesis de San Jose1150 North First Street\,   Suite 100\, San Jose\, CA  95112 \nSábado\, 29 de Agosto de 201512:30pm – 5:30pm \nEn esta Orientación se les proveerá los siguiente:– Directrices– Pólizas Diocesanas– Recursos gratis de Pastoral Juvenil y más. \nPara obtener una copia del volante haga clik AQUI y/o si desea inscribirse hoy haga clik AQUI \nSi tiene alguna pregunta o desea más información comuníquese con: \nSandra Torres\, Asociada del Apostolado HispanoAsesora de Pastoral Juvenil408-983-0112 | Torres@dsj.org \nAdriana Valenzuela\, Asistente Administrativa408-983-0124 | Valenzuela@dsj.org
URL:https://www.dsj.org/event/orientacion-herramientas-de-pastoral-juvenil/
LOCATION:Diócesis de San José\, 1150 North First Street\, San Jose\, CA\, 95112\, United States
GEO:37.3580092;-121.906728
X-APPLE-STRUCTURED-LOCATION;VALUE=URI;X-ADDRESS=Diócesis de San José 1150 North First Street San Jose CA 95112 United States;X-APPLE-RADIUS=500;X-TITLE=1150 North First Street:geo:-121.906728,37.3580092
END:VEVENT
BEGIN:VEVENT
DTSTART;TZID=America/Los_Angeles:20150829T180000
DTEND;TZID=America/Los_Angeles:20150829T180000
DTSTAMP:20260419T180006
CREATED:20150817T084222Z
LAST-MODIFIED:20150817T084222Z
UID:10018349-1440871200-1440871200@www.dsj.org
SUMMARY:Our Lady of Refuge Parish Festival
DESCRIPTION:Our Lady of Refuge Parish is celebrating its 3rd Annual Festival. We will kick off with an All-You-Can-Eat Crab Feed on Saturday\,   August 29th and a full day of festivities\, great Food\, Games\, Music and Raffle on Sunday\,   August 30th. Tickets for the Crab Feed Dinner are sold at the Parish Office for $40 per person. Last day to purchase is 8/21. Also Raffle tickets are being sold for $10/ticket or $50 for 6 raffle tickets. The Grand prize is $5\,000 cash\, Second prize is $3\,000 and the Third prize is $1000 plus 10 consolation prizes of $100 each. Raffle will be drawn at 8PM Sunday 8/30. Please come and enjoy the food and entertainment all day Sunday. Please contact 408-715-2278 for more details. Click here to download a flyer.
URL:https://www.dsj.org/event/our-lady-of-refuge-parish-festival/
LOCATION:Our Lady of Refuge\, 2165 Lucretia Ave.\, San José\, CA\, 95122\, United States
GEO:37.3170686;-121.8450715
X-APPLE-STRUCTURED-LOCATION;VALUE=URI;X-ADDRESS=Our Lady of Refuge 2165 Lucretia Ave. San José CA 95122 United States;X-APPLE-RADIUS=500;X-TITLE=2165 Lucretia Ave.:geo:-121.8450715,37.3170686
END:VEVENT
BEGIN:VEVENT
DTSTART;TZID=America/Los_Angeles:20150830T090000
DTEND;TZID=America/Los_Angeles:20150830T200000
DTSTAMP:20260419T180006
CREATED:20150817T084320Z
LAST-MODIFIED:20150817T084320Z
UID:10018350-1440925200-1440964800@www.dsj.org
SUMMARY:Our Lady of Refuge Parish Festival
DESCRIPTION:Our Lady of Refuge Parish is celebrating its 3rd Annual Festival. We will kick off with an All-You-Can-Eat Crab Feed on Saturday\,   August 29th and a full day of festivities\, great Food\, Games\, Music and Raffle on Sunday\,   August 30th. Tickets for the Crab Feed Dinner are sold at the Parish Office for $40 per person. Last day to purchase is 8/21. Also Raffle tickets are being sold for $10/ticket or $50 for 6 raffle tickets. The Grand prize is $5\,  000 cash\, Second prize is $3\,000 and the Third prize is $1000 plus 10 consolation prizes of $100 each. Raffle will be drawn at 8PM Sunday 8/30. Please come and enjoy the food and entertainment all day Sunday. Please contact 408-715-2278 for more details. Click here to download a flyer.
URL:https://www.dsj.org/event/our-lady-of-refuge-parish-festival-2/
LOCATION:Our Lady of Refuge\, 2165 Lucretia Ave.\, San José\, CA\, 95122\, United States
GEO:37.3170686;-121.8450715
X-APPLE-STRUCTURED-LOCATION;VALUE=URI;X-ADDRESS=Our Lady of Refuge 2165 Lucretia Ave. San José CA 95122 United States;X-APPLE-RADIUS=500;X-TITLE=2165 Lucretia Ave.:geo:-121.8450715,37.3170686
END:VEVENT
BEGIN:VEVENT
DTSTART;TZID=America/Los_Angeles:20150904T093000
DTEND;TZID=America/Los_Angeles:20150904T140000
DTSTAMP:20260419T180006
CREATED:20150729T235918Z
LAST-MODIFIED:20150729T235918Z
UID:10018849-1441359000-1441375200@www.dsj.org
SUMMARY:Celebration of Grace
DESCRIPTION:A Network of GraceProvince of Saint Barbara Centennial Celebration \nThe year 2015 marks the centennial of the Province of Saint Barbara. The chapters of this 100-year story focus on the friars’ relationships\,   participation\, and partnerships for service. In celebrating the past 100 years of the Province\, we will take a closer look at the daily work of the friars within this community through a traveling exhibition presented at locations throughout the Province\, highlighting major movements and milestones and presenting the lives and stories of our brothers committed to the needs of those inside and outside the Province. \nJoin us as we celebrate together 100 years of Prayer\, Fraternity\, Joy\, and Service. Accompany us on our journey with hope for the future. \nOur schedule of the celebration at the St. Francis Retreat Center is as follows: \nSEPTEMBER 4THA DAY OF RECOLLECTION AND A FIRST FRIDAY CELEBRATIONTheme throughout the day is: Pope Francis/St. Francis \n9:30 am Registration (Suggested Donation: $25)We will have the traveling centennial exhibit that chronicles the key milestones in the history of the Province of Santa Barbara and highlights the lives of our past and present friars. We will have a few panels that are related to our St. Francis Retreat Center. \n10:00 am Discussion # 1 of Pope Francis’s Encyclical Laudato si’ 11:00 am Mass – Chapel12:00 Noon Lunch1:00 pm – 2 pm Discussion # 2 of Pope Francis’s Encyclical Laudato si’
URL:https://www.dsj.org/event/celebration-of-grace/
LOCATION:St. Francis Retreat Center\, 549 Mission Vineyard Road\, San Juan Bautista\, CA\, 95045\, United States
GEO:36.820201;-121.5006917
X-APPLE-STRUCTURED-LOCATION;VALUE=URI;X-ADDRESS=St. Francis Retreat Center 549 Mission Vineyard Road San Juan Bautista CA 95045 United States;X-APPLE-RADIUS=500;X-TITLE=549 Mission Vineyard Road:geo:-121.5006917,36.820201
END:VEVENT
END:VCALENDAR