BEGIN:VCALENDAR
VERSION:2.0
PRODID:-//Diocese of San Jose - ECPv6.15.20//NONSGML v1.0//EN
CALSCALE:GREGORIAN
METHOD:PUBLISH
X-ORIGINAL-URL:https://www.dsj.org
X-WR-CALDESC:Events for Diocese of San Jose
REFRESH-INTERVAL;VALUE=DURATION:PT1H
X-Robots-Tag:noindex
X-PUBLISHED-TTL:PT1H
BEGIN:VTIMEZONE
TZID:America/Los_Angeles
BEGIN:DAYLIGHT
TZOFFSETFROM:-0800
TZOFFSETTO:-0700
TZNAME:PDT
DTSTART:20130310T100000
END:DAYLIGHT
BEGIN:STANDARD
TZOFFSETFROM:-0700
TZOFFSETTO:-0800
TZNAME:PST
DTSTART:20131103T090000
END:STANDARD
BEGIN:DAYLIGHT
TZOFFSETFROM:-0800
TZOFFSETTO:-0700
TZNAME:PDT
DTSTART:20140309T100000
END:DAYLIGHT
BEGIN:STANDARD
TZOFFSETFROM:-0700
TZOFFSETTO:-0800
TZNAME:PST
DTSTART:20141102T090000
END:STANDARD
BEGIN:DAYLIGHT
TZOFFSETFROM:-0800
TZOFFSETTO:-0700
TZNAME:PDT
DTSTART:20150308T100000
END:DAYLIGHT
BEGIN:STANDARD
TZOFFSETFROM:-0700
TZOFFSETTO:-0800
TZNAME:PST
DTSTART:20151101T090000
END:STANDARD
END:VTIMEZONE
BEGIN:VEVENT
DTSTART;TZID=America/Los_Angeles:20140215T190000
DTEND;TZID=America/Los_Angeles:20140215T213000
DTSTAMP:20260420T053304
CREATED:20140115T121230Z
LAST-MODIFIED:20140115T121230Z
UID:10018162-1392490800-1392499800@www.dsj.org
SUMMARY:Joseph Pearce - Race with the Devil: My Journey from Racial Hatred to Rational Love
DESCRIPTION:Join us for an evening with Catholic author Joseph Pearce as he shares his conversion story\, the subject of his new book published by Saint Benedict Press\, “Race with the Devil: My Journey from Racial Hatred to Rational Love”. \nQ&A session and book signing to follow talk. \nBefore he was the world’s foremost Catholic biographer\, Joseph Pearce was a leader of the National Front\, a British-nationalist\, white-supremacist group. Before he published books highlighting and celebrating the great Catholic cultural tradition\, he disseminated literature extolling the virtues of the white race\, and calling for the banishment of all non-white from Britain. \nPearce and his cohorts were at the center of the racial and nationalist tensions—often violent—that swirled around London in the late-1970s and early 80s. Eventually Pearce became a top member of the National Front\, and the editor of its newspaper\, The Bulldog. He was a full-time revolutionary. \nIn 1982 he was imprisoned for six months for hate speech\, but he came out with more anger\, and more resolve. Several years later\, he was imprisoned again\, this time for a year and it spurred a sea change in his life. \nIn Race with the Devil: My Journey from Racial Hatred to Rational Love\, Pearce himself takes the reader through his journey from racist revolutionary to Christian\, including: \nThe youthful influences that lead him to embrace the National Front and their racist platform His dark\, angry\, exhilarating but ultimately empty days as a revolutionary on the front lines His imprisonment and subsequent dark night of the soul The role that Catholic luminaries such as G. K. Chesterton\, Hilaire Belloc\, and C. S. Lewis played in his conversion from racist radical to joyful Christian And his eventual reception in the Catholic Church \nRace with the Devil is one man’s incredible journey to Christ\, but it also much more. It is a testament to God’s hand active among us and the infinite grace that Christ pours out on his people\, showing that we can all turn—or return—to Christ and his Church. \nJoseph Pearce is Writer in Residence and Visiting Fellow at Thomas More College of Liberal Arts in Merrimack\, NH. He is a renowned biographer whose books include Candles in the Dark: The Authorized Biography of Fr. Ho Lung\, Missionaries of the Poor\, Through Shakespeare’s Eyes: Seeing the Catholic Presence in the Plays\, Tolkien: Man and Myth\, a Literary Life\, The Unmasking of Oscar Wilde\, Literary Converts\, Wisdom & Innocence: G. K. Chesterton\, C.S. Lewis and the Catholic Church\, and Solzhenitsyn: A Soul in Exile. He is co-editor of the St. Austin Review\, editor-in-Chief of Ignatius Press Critical Editions\, and editor-in-Chief of Sapientia Press. \nClick here to download a flyer. \nRSVP here: www.facebook.com/OLPGiftShop/events
URL:https://www.dsj.org/event/joseph-pearce-race-devil-journey-racial-hatred-rational-love/
LOCATION:Our Lady of Peace Church and Shrine\, 2800 Mission College Blvd.\, Santa Clara\, CA\, 95054\, United States
GEO:37.3891572;-121.9776501
X-APPLE-STRUCTURED-LOCATION;VALUE=URI;X-ADDRESS=Our Lady of Peace Church and Shrine 2800 Mission College Blvd. Santa Clara CA 95054 United States;X-APPLE-RADIUS=500;X-TITLE=2800 Mission College Blvd.:geo:-121.9776501,37.3891572
END:VEVENT
BEGIN:VEVENT
DTSTART;TZID=America/Los_Angeles:20140218T123000
DTEND;TZID=America/Los_Angeles:20140218T133000
DTSTAMP:20260420T053304
CREATED:20140121T102238Z
LAST-MODIFIED:20140121T102238Z
UID:10018189-1392726600-1392730200@www.dsj.org
SUMMARY:Medicare Information Workshop - Spanish
DESCRIPTION:The RetaTrust and The Diocese of San Jose are pleased to announce partnership with Strategic Growth Insurance Associates\,   Inc. (SGIA). SGIA is licensed and certified Medicare experts will provide you with information\,   advice and assistance with all things related to Medicare. \nPlease RSVP to Patricia Roldán at (408) 983-0249 or benefits@dsj.orgSGIA’s Medicare experts will:• Offer free and confidential Medicare assistance and information.• Assist in all areas of Medicare including Part A\, Part B\, Part C\, Part D and supplemental plans.• Help choose personalized plans that fit individual needs and budgets.• Search all major Medicare plans to find the most appropriate one.• Navigate the enrollment process for each individual.• Find savings on health care costs.• Provide ongoing customer service and support. \nMedicare Info Sheet
URL:https://www.dsj.org/event/medicare-information-workshop-spanish/
LOCATION:Our Lady of Guadalupe
END:VEVENT
BEGIN:VEVENT
DTSTART;TZID=America/Los_Angeles:20140219T190000
DTEND;TZID=America/Los_Angeles:20140219T210000
DTSTAMP:20260420T053304
CREATED:20140128T104150Z
LAST-MODIFIED:20210825T163513Z
UID:10018195-1392836400-1392843600@www.dsj.org
SUMMARY:Spanish Safe Environment Training
DESCRIPTION:Spanish Safe Environment Training will be held on February 19\,   2014\, at 7 pm\, at the Chancery. IMPORTANT NOTE: There will be no more admittance after 7:10pm. Please RSVP by February 17th at 408-983-0225 or GCervantez@dsj.org \nEl Taller de Ambiente Seguro se llevará acabo el 19 de febrero\,   2014\, a las 7pm\, en la Diocesis de San Jose. IMPORTANTE: No se permitirá la entrada después de las 7:10 pm. Favor de anotar su asistencia al 408-983-0225 o GCervantez@dsj.org
URL:https://www.dsj.org/event/spanish-safe-environment-training/
LOCATION:Diocese of San Jose – Chancery Office\, 1150 N. First St.\, Ste. 100\, San Jose\, CA\, 95112\, United States
GEO:37.3580092;-121.906728
X-APPLE-STRUCTURED-LOCATION;VALUE=URI;X-ADDRESS=Diocese of San Jose – Chancery Office 1150 N. First St. Ste. 100 San Jose CA 95112 United States;X-APPLE-RADIUS=500;X-TITLE=1150 N. First St.\, Ste. 100:geo:-121.906728,37.3580092
END:VEVENT
BEGIN:VEVENT
DTSTART;TZID=America/Los_Angeles:20140220T190000
DTEND;TZID=America/Los_Angeles:20140220T210000
DTSTAMP:20260420T053304
CREATED:20140207T120501Z
LAST-MODIFIED:20140207T120501Z
UID:10017989-1392922800-1392930000@www.dsj.org
SUMMARY:An Evening with Leigh Anne Tuohy
DESCRIPTION:“An Evening with Leigh Anne Tuohy” will be held at the Sacred Heart Preparatory Homer Center Harman Hall in Atherton\,   CA\, February 20\, 2014. This event will benefit the Tuition Assistance Program at St. Elizabeth Seton School in Palo Alto. As a Vincentian Catholic school\,   we are committed to the education of students from the multicultural and economically diverse populations of East Palo Alto and the surrounding communities. \nPurchase tickets at http://www.brownpapertickets.com/event/512334 \nClick here to download a flyer.
URL:https://www.dsj.org/event/evening-leigh-anne-tuohy/
LOCATION:Sacred Heart Preparatory\, Homer Center Harman Hall\, 150 Valparaiso Avenue\, Atherton\, CA\, 94027\, United States
GEO:37.4481802;-122.1941629
X-APPLE-STRUCTURED-LOCATION;VALUE=URI;X-ADDRESS=Sacred Heart Preparatory Homer Center Harman Hall 150 Valparaiso Avenue Atherton CA 94027 United States;X-APPLE-RADIUS=500;X-TITLE=150 Valparaiso Avenue:geo:-122.1941629,37.4481802
END:VEVENT
BEGIN:VEVENT
DTSTART;TZID=America/Los_Angeles:20140222T093000
DTEND;TZID=America/Los_Angeles:20140222T123000
DTSTAMP:20260420T053304
CREATED:20131213T103446Z
LAST-MODIFIED:20131213T103446Z
UID:10018134-1393061400-1393072200@www.dsj.org
SUMMARY:Ministry to the Bereaved: Create & Sustain your Parish Ministry
DESCRIPTION:This in-depth training and enrichment series is an opportunity for staff and volunteers to focus on bereavement support in the parish setting. Your knowledge\,   skills and confidence will be enhanced by exploring topics on the grief process\, communication and facilitation skills and forming your parish plan. Activities\,   reflection and prayer will be included each week. Curriculum resources will be discussed. \nDates:  4 Saturdays: February 22\,   March 1\, 8 & 22 One make-up session: March 29 \nTime:  9:30am-12:30pm \nLocation:  St. Martin of Tours Parish—Community Room 200 O’Connor Drive\, San Jose\, CA 95128 \nFacilitator: Suzanne Young\, M.A. Suzanne Young is an educator\, spiritual director and former outreach coordinator for Catholic Cemeteries for the San Jose Diocese. She has created and facilitated over 40 bereavement support sessions for parishes and cemetery staff and is delighted to be teaching this six week course on creating and sustaining a ministry in Parish Bereavement Support. \nCost: $100 per person* *This fee will be returned upon completion of the training series.  All 6 sessions must be attended for the fee to be returned. \nPlease RSVP by returning registration form with payment or at cemeteryinfo@dsj.org or 650-428-3730. If RSVPing by e-mail or phone\, please submit check at the 1st session. \nClick here to download flyer and registration form.
URL:https://www.dsj.org/event/ministry-bereaved-create-sustain-parish-ministry/
LOCATION:St. Martin of Tours Parish – Community Room\, 200 O’Connor Drive\, San Jose\, CA\, 95128\, United States
ORGANIZER;CN="Catholic Cemeteries":MAILTO:cemeteryinfo@dsj.org
GEO:37.3252029;-121.9390127
X-APPLE-STRUCTURED-LOCATION;VALUE=URI;X-ADDRESS=St. Martin of Tours Parish – Community Room 200 O’Connor Drive San Jose CA 95128 United States;X-APPLE-RADIUS=500;X-TITLE=200 O’Connor Drive:geo:-121.9390127,37.3252029
END:VEVENT
END:VCALENDAR