BEGIN:VCALENDAR
VERSION:2.0
PRODID:-//Diocese of San Jose - ECPv6.15.20//NONSGML v1.0//EN
CALSCALE:GREGORIAN
METHOD:PUBLISH
X-WR-CALNAME:Diocese of San Jose
X-ORIGINAL-URL:https://www.dsj.org
X-WR-CALDESC:Events for Diocese of San Jose
REFRESH-INTERVAL;VALUE=DURATION:PT1H
X-Robots-Tag:noindex
X-PUBLISHED-TTL:PT1H
BEGIN:VTIMEZONE
TZID:America/Los_Angeles
BEGIN:DAYLIGHT
TZOFFSETFROM:-0800
TZOFFSETTO:-0700
TZNAME:PDT
DTSTART:20130310T100000
END:DAYLIGHT
BEGIN:STANDARD
TZOFFSETFROM:-0700
TZOFFSETTO:-0800
TZNAME:PST
DTSTART:20131103T090000
END:STANDARD
BEGIN:DAYLIGHT
TZOFFSETFROM:-0800
TZOFFSETTO:-0700
TZNAME:PDT
DTSTART:20140309T100000
END:DAYLIGHT
BEGIN:STANDARD
TZOFFSETFROM:-0700
TZOFFSETTO:-0800
TZNAME:PST
DTSTART:20141102T090000
END:STANDARD
BEGIN:DAYLIGHT
TZOFFSETFROM:-0800
TZOFFSETTO:-0700
TZNAME:PDT
DTSTART:20150308T100000
END:DAYLIGHT
BEGIN:STANDARD
TZOFFSETFROM:-0700
TZOFFSETTO:-0800
TZNAME:PST
DTSTART:20151101T090000
END:STANDARD
END:VTIMEZONE
BEGIN:VEVENT
DTSTART;TZID=America/Los_Angeles:20140209T110000
DTEND;TZID=America/Los_Angeles:20140209T140000
DTSTAMP:20260420T101007
CREATED:20140115T121622Z
LAST-MODIFIED:20140115T121622Z
UID:10018164-1391943600-1391954400@www.dsj.org
SUMMARY:Chinese New Year Mass
DESCRIPTION:The parish community of St. Joseph of Cupertino will welcome the Year of the Horse at its annual Chinese New Year mass on Sunday\,   February 9 at 11 A.M. This mass (in English) will blend Christian faith with elements of traditional Chinese culture\,   including a ceremony to honor the ancestors. Bishop Daly will be our special guest. A reception with food and entertainment will follow in the parish hall; are are invited to bring different ethnic foods to share. For more information\,   please contact Fr. Greg Kimm at pastor@stjoscup.org or 408-252-7653 x24. Click here to download a flyer.
URL:https://www.dsj.org/event/chinese-year-mass/
LOCATION:St. Joseph of Cupertino\, 10110 N. DeAnza Blvd\, Cupertino\, CA\, 95014\, United States
GEO:37.3242634;-122.0307695
X-APPLE-STRUCTURED-LOCATION;VALUE=URI;X-ADDRESS=St. Joseph of Cupertino 10110 N. DeAnza Blvd Cupertino CA 95014 United States;X-APPLE-RADIUS=500;X-TITLE=10110 N. DeAnza Blvd:geo:-122.0307695,37.3242634
END:VEVENT
BEGIN:VEVENT
DTSTART;TZID=America/Los_Angeles:20140209T160000
DTEND;TZID=America/Los_Angeles:20140209T174500
DTSTAMP:20260420T101007
CREATED:20140121T100403Z
LAST-MODIFIED:20210825T015754Z
UID:10018176-1391961600-1391967900@www.dsj.org
SUMMARY:Spiritual Training for Christian Discipleship
DESCRIPTION:Presented by Fr. Kevin Joyce\, Pastor \nText:  St. Teresa of Avila\, The InteriorCastle in Vol. Two of The Collected Works of St. Teresa of Avila\, translated by Otilio Rodriguez & Kieran Kavanaugh (Washington\, D.C.: ICS Publications\, 1980) \nFebruary 9\, 2014: St. Teresa of Avila’s “Seven Dwelling Places” of The Interior CastleThe Sixth Dwelling Places — Intimacy with Jesus\, “The Spiritual Betrothal”
URL:https://www.dsj.org/event/spiritual-training-christian-discipleship/
LOCATION:St. Lucy Parish – Activity Center\, 2350 Winchester Blvd.\, Campbell\, CA\, 95008\, United States
GEO:37.2800831;-121.9489747
X-APPLE-STRUCTURED-LOCATION;VALUE=URI;X-ADDRESS=St. Lucy Parish – Activity Center 2350 Winchester Blvd. Campbell CA 95008 United States;X-APPLE-RADIUS=500;X-TITLE=2350 Winchester Blvd.:geo:-121.9489747,37.2800831
END:VEVENT
BEGIN:VEVENT
DTSTART;TZID=America/Los_Angeles:20140210T093000
DTEND;TZID=America/Los_Angeles:20140210T223000
DTSTAMP:20260420T101007
CREATED:20140116T110938Z
LAST-MODIFIED:20140116T110938Z
UID:10018166-1392024600-1392071400@www.dsj.org
SUMMARY:Meet Author Meg Waite Clayton Event
DESCRIPTION:The Ladies of Charity is hosting a morning event with author Meg Waite Clayton will talk about her books. \nhttp://megwaiteclayton.com/index.php \nMeg is the New York Times and USA Today bestselling author of four novels:The Wednesday Sisters\,   The Wednesday Daughters\, The Four Ms. Bradwells and The Language of Light (Bellwether Prize finalist). She’s written for The Los Angeles Times\,   San Jose Mercury News\, Miami Herald\, Writer’s Digest\, Runner’s World\, The Literary Review and for Ms. And Forbes online. \n  \n“Friendships are at the core of my writing\,   because they are at the core of my heart. My fiction is not closely autobiographical\, but I do draw heavily from my emotions and experiences as I write.” -Meg Waite Clayton \nFunds for this event is benefiting St. Elizabeth’s Day Home \nClick here to print flyer and share with your colleagues\, friends and family. \nRSVP: Check payable to Ladies of Charity \n1345 Echo Valley Drive \nSan Jose CA 95120 \nBy Thursday\, February 6\, 2014
URL:https://www.dsj.org/event/meet-author-meg-waite-clayton-event/
LOCATION:ST. ELIZABETH’S DAY HOME\, 950 St. Elizabeth Drive\, San Jose\, CA\, 95126\, United States
GEO:37.3064611;-121.9159001
X-APPLE-STRUCTURED-LOCATION;VALUE=URI;X-ADDRESS=ST. ELIZABETH’S DAY HOME 950 St. Elizabeth Drive San Jose CA 95126 United States;X-APPLE-RADIUS=500;X-TITLE=950 St. Elizabeth Drive:geo:-121.9159001,37.3064611
END:VEVENT
BEGIN:VEVENT
DTSTART;TZID=America/Los_Angeles:20140210T100000
DTEND;TZID=America/Los_Angeles:20140210T120000
DTSTAMP:20260420T101007
CREATED:20140109T105300Z
LAST-MODIFIED:20140109T105300Z
UID:10018157-1392026400-1392033600@www.dsj.org
SUMMARY:Celebrating a Life: Planning a Liturgy for a Funeral Mass or Memorial Service
DESCRIPTION:Learn the basic elements of planning a funeral or memorial mass liturgy for yourself and your loved ones. We’ll consider scripture\,   song\, and liturgical elements that celebrate the unique life of each person. Templates and basic resource guides will be provided. \nPresenter: Carol Thornton\, Director of Pastoral Care\, Social Justice and Community Ministry at St. Mary of the Immaculate Conception Parish in Los Gatos. Carol serves on the Parish Liturgy\, Spirituality\, and Art and Environment Committees at her parish. \nRSVPs are appreciated but not necessary cemeteryinfo@dsj.org or 650-428-3730 \nClick here to download a flyer.
URL:https://www.dsj.org/event/celebrating-life-planning-liturgy-funeral-mass-memorial-service-2/
LOCATION:Church of the Transfiguration\, 4325 Jarvis Avenue\, San Jose\, CA\, 95118\, United States
ORGANIZER;CN="Catholic Cemeteries":MAILTO:cemeteryinfo@dsj.org
GEO:37.2612138;-121.8914619
X-APPLE-STRUCTURED-LOCATION;VALUE=URI;X-ADDRESS=Church of the Transfiguration 4325 Jarvis Avenue San Jose CA 95118 United States;X-APPLE-RADIUS=500;X-TITLE=4325 Jarvis Avenue:geo:-121.8914619,37.2612138
END:VEVENT
BEGIN:VEVENT
DTSTART;TZID=America/Los_Angeles:20140210T113000
DTEND;TZID=America/Los_Angeles:20140210T123000
DTSTAMP:20260420T101007
CREATED:20140121T095036Z
LAST-MODIFIED:20140121T095036Z
UID:10018173-1392031800-1392035400@www.dsj.org
SUMMARY:Medicare Information Workshop
DESCRIPTION:The RetaTrust and The Diocese of San Jose are pleased to announce partnership with Strategic Growth Insurance Associates\,   Inc. (SGIA). SGIA is licensed and certified Medicare experts will provide you with information\, advice and assistance with all things related to Medicare. \nPlease RSVP to Patricia Roldán at (408) 983-0249 or benefits@dsj.orgSGIA’s Medicare experts will:• Offer free and confidential Medicare assistance and information.• Assist in all areas of Medicare including Part A\, Part B\, Part C\, Part D and supplemental plans.• Help choose personalized plans that fit individual needs and budgets.• Search all major Medicare plans to find the most appropriate one.• Navigate the enrollment process for each individual.• Find savings on health care costs.• Provide ongoing customer service and support. \nMedicare Info Sheet
URL:https://www.dsj.org/event/medicare-information-workshop/
LOCATION:Diocese of San Jose – Chancery Office\, 1150 N. First St.\, Ste. 100\, San Jose\, CA\, 95112\, United States
GEO:37.3580092;-121.906728
X-APPLE-STRUCTURED-LOCATION;VALUE=URI;X-ADDRESS=Diocese of San Jose – Chancery Office 1150 N. First St. Ste. 100 San Jose CA 95112 United States;X-APPLE-RADIUS=500;X-TITLE=1150 N. First St.\, Ste. 100:geo:-121.906728,37.3580092
END:VEVENT
BEGIN:VEVENT
DTSTART;TZID=America/Los_Angeles:20140210T170000
DTEND;TZID=America/Los_Angeles:20140210T180000
DTSTAMP:20260420T101007
CREATED:20140121T095226Z
LAST-MODIFIED:20140121T095226Z
UID:10018174-1392051600-1392055200@www.dsj.org
SUMMARY:Medicare Information Workshop
DESCRIPTION:The RetaTrust and The Diocese of San Jose are pleased to announce partnership with Strategic Growth Insurance Associates\,   Inc. (SGIA). SGIA is licensed and certified Medicare experts will provide you with information\, advice and assistance with all things related to Medicare. \nPlease RSVP to Patricia Roldán at (408) 983-0249 or benefits@dsj.orgSGIA’s Medicare experts will:• Offer free and confidential Medicare assistance and information.• Assist in all areas of Medicare including Part A\, Part B\, Part C\, Part D and supplemental plans.• Help choose personalized plans that fit individual needs and budgets.• Search all major Medicare plans to find the most appropriate one.• Navigate the enrollment process for each individual.• Find savings on health care costs.• Provide ongoing customer service and support. \nMedicare Info Sheet
URL:https://www.dsj.org/event/medicare-information-workshop-2/
LOCATION:Diocese of San Jose – Chancery Office\, 1150 N. First St.\, Ste. 100\, San Jose\, CA\, 95112\, United States
GEO:37.3580092;-121.906728
X-APPLE-STRUCTURED-LOCATION;VALUE=URI;X-ADDRESS=Diocese of San Jose – Chancery Office 1150 N. First St. Ste. 100 San Jose CA 95112 United States;X-APPLE-RADIUS=500;X-TITLE=1150 N. First St.\, Ste. 100:geo:-121.906728,37.3580092
END:VEVENT
BEGIN:VEVENT
DTSTART;TZID=America/Los_Angeles:20140213T073000
DTEND;TZID=America/Los_Angeles:20140213T090000
DTSTAMP:20260420T101007
CREATED:20140121T092522Z
LAST-MODIFIED:20140121T092522Z
UID:10018172-1392276600-1392282000@www.dsj.org
SUMMARY:The Life-Time Benefits of a Jesuit Education. Presented by Ron Caragher\, Head Coach - SJSU Spartan Football
DESCRIPTION:7:00 – Mass\,   Msgr Sandersfeld presiding 7:30 – Buffet Breakfast and Networking 7:40 – Announcements 7:50 – Speaker Presentation 8:40 – Question and Answer Session 9:00 – Adjourn \nCost: Members: $15 Non-Members: $20 RSVP: 408-491-9229 or cpbcinfo@gmail.com or www.sjcatholicprofessionals.org Contact: Jessica King
URL:https://www.dsj.org/event/life-time-benefits-jesuit-education-presented-ron-caragher-head-coach-sjsu-spartan-football/
LOCATION:Three Flames Banquet Room\, 1547 Meridian Avenue\, San Jose\, CA\, United States
GEO:37.2963114;-121.9140241
X-APPLE-STRUCTURED-LOCATION;VALUE=URI;X-ADDRESS=Three Flames Banquet Room 1547 Meridian Avenue San Jose CA United States;X-APPLE-RADIUS=500;X-TITLE=1547 Meridian Avenue:geo:-121.9140241,37.2963114
END:VEVENT
BEGIN:VEVENT
DTSTART;TZID=America/Los_Angeles:20140215T090000
DTEND;TZID=America/Los_Angeles:20140215T130000
DTSTAMP:20260420T101007
CREATED:20131218T161555Z
LAST-MODIFIED:20131218T161555Z
UID:10018141-1392454800-1392469200@www.dsj.org
SUMMARY:Detention Ministry Training
DESCRIPTION:This training is for experienced volunteers who need a review every two years and also for new\,   potential volunteers who think they might be called to this ministry. \nTo sign up for this training and/or to receive further information\, please contact Sister Maryann Cantlon at (408) 983-0131.
URL:https://www.dsj.org/event/detention-ministry-training-2/
LOCATION:Diocese of San Jose – Chancery Office\, 1150 N. First St.\, Ste. 100\, San Jose\, CA\, 95112\, United States
GEO:37.3580092;-121.906728
X-APPLE-STRUCTURED-LOCATION;VALUE=URI;X-ADDRESS=Diocese of San Jose – Chancery Office 1150 N. First St. Ste. 100 San Jose CA 95112 United States;X-APPLE-RADIUS=500;X-TITLE=1150 N. First St.\, Ste. 100:geo:-121.906728,37.3580092
END:VEVENT
BEGIN:VEVENT
DTSTART;TZID=America/Los_Angeles:20140215T110000
DTEND;TZID=America/Los_Angeles:20140215T120000
DTSTAMP:20260420T101007
CREATED:20140127T112432Z
LAST-MODIFIED:20140127T112432Z
UID:10018192-1392462000-1392465600@www.dsj.org
SUMMARY:World Day of the Sick
DESCRIPTION:In 1992\,   Pope John Paul II introduced the celebration of the World Day of the Sick on the Feast of Our Lady of Lourdes. This annual celebration gives people a chance to pray for and deepen their solidarity with the sick and injured among us. \nEach year\, on a weekend close to the Feast of Our Lady of Lourdes (February 11th)\, the Knights of Malta host World Day of the Sick at Santa Teresa Parish. It is an opportunity for parishes throughout the Diocese and caregivers to celebrate the sacrament of the Sick. \nThis year\, Auxiliary Bishop Thomas Daly will celebrate the Annual Diocesan Mass of Healing and Anointing of the Sick in the Church of Santa Teresa on Saturday\, February 15\, 2014 at 11:00 am. \nThe Order of Malta has graciously agreed to coordinate this annual event for the feast of Our Lady of Lourdes. \nThere will be special seating for the sick and mobility impaired including those in wheelchairs\, with walkers\, with braces\, canes and service animals. Anyone who is in need of the anointing of the sick\, their caregivers and families are welcome to attend. All in attendance will receive a special prayer card and holy water from Lourdes. \nPlease share this information with your friends and colleagues. \nDownload English and Spanish flyers below by clicking on them:
URL:https://www.dsj.org/event/world-day-sick/
LOCATION:Santa Teresa Parish
GEO:37.242613;-121.847991
END:VEVENT
END:VCALENDAR