BEGIN:VCALENDAR
VERSION:2.0
PRODID:-//Diocese of San Jose - ECPv6.15.20//NONSGML v1.0//EN
CALSCALE:GREGORIAN
METHOD:PUBLISH
X-WR-CALNAME:Diocese of San Jose
X-ORIGINAL-URL:https://www.dsj.org
X-WR-CALDESC:Events for Diocese of San Jose
REFRESH-INTERVAL;VALUE=DURATION:PT1H
X-Robots-Tag:noindex
X-PUBLISHED-TTL:PT1H
BEGIN:VTIMEZONE
TZID:UTC
BEGIN:STANDARD
TZOFFSETFROM:+0000
TZOFFSETTO:+0000
TZNAME:UTC
DTSTART:20210101T000000
END:STANDARD
END:VTIMEZONE
BEGIN:VTIMEZONE
TZID:America/Los_Angeles
BEGIN:DAYLIGHT
TZOFFSETFROM:-0800
TZOFFSETTO:-0700
TZNAME:PDT
DTSTART:20210314T100000
END:DAYLIGHT
BEGIN:STANDARD
TZOFFSETFROM:-0700
TZOFFSETTO:-0800
TZNAME:PST
DTSTART:20211107T090000
END:STANDARD
BEGIN:DAYLIGHT
TZOFFSETFROM:-0800
TZOFFSETTO:-0700
TZNAME:PDT
DTSTART:20220313T100000
END:DAYLIGHT
BEGIN:STANDARD
TZOFFSETFROM:-0700
TZOFFSETTO:-0800
TZNAME:PST
DTSTART:20221106T090000
END:STANDARD
BEGIN:DAYLIGHT
TZOFFSETFROM:-0800
TZOFFSETTO:-0700
TZNAME:PDT
DTSTART:20230312T100000
END:DAYLIGHT
BEGIN:STANDARD
TZOFFSETFROM:-0700
TZOFFSETTO:-0800
TZNAME:PST
DTSTART:20231105T090000
END:STANDARD
END:VTIMEZONE
BEGIN:VEVENT
DTSTART;TZID=UTC:20220709T110000
DTEND;TZID=UTC:20220709T120000
DTSTAMP:20260422T112026
CREATED:20220617T153000Z
LAST-MODIFIED:20220617T153000Z
UID:10023521-1657364400-1657368000@www.dsj.org
SUMMARY:Monthly Memorial Mass
DESCRIPTION:Monthly Memorial Mass\, July 9th\, 11 AM\, Gate of Heaven Cemetery\nJoin us in remembering our loved ones that were buried in June. If you would like to add the name of a loved one\, please contact us at ccoutreach@dsj.org or 650-288-1506.
URL:https://www.dsj.org/event/monthly-memorial-mass-6/
LOCATION:Gate of Heaven Catholic Cemetery\, 22555 Cristo Rey Drive\, Los Altos\, CA\, 94024\, United States
END:VEVENT
BEGIN:VEVENT
DTSTART;TZID=UTC:20220711T080000
DTEND;TZID=UTC:20220713T170000
DTSTAMP:20260422T112027
CREATED:20220420T185632Z
LAST-MODIFIED:20220531T215850Z
UID:10026116-1657526400-1657731600@www.dsj.org
SUMMARY:QUO VADIS Retreat
DESCRIPTION:For incoming 9th Grade up to recent High School graduates.\nLed by priests\, seminarians and college men\, including prayer\, Mass\, sports tournaments\, swimming\, great food\, hiking\, discussions\, shadowing priests and talks to help Catholic Men deepen their faith and seek God’s call in their lives.
URL:https://www.dsj.org/event/quo-vadis-retreat/
LOCATION:St. Lawrence the Martyr Parish
GEO:37.3580106;-121.9947547
END:VEVENT
BEGIN:VEVENT
DTSTART;TZID=UTC:20220712T180000
DTEND;TZID=UTC:20220712T180000
DTSTAMP:20260422T112027
CREATED:20220624T201006Z
LAST-MODIFIED:20220624T201217Z
UID:10023523-1657648800-1657648800@www.dsj.org
SUMMARY:Cursillo Ultreya - Music in the Meadow
DESCRIPTION:Calling all Cursillo Community! Summer is here and we would like to celebrate!\nTuesday\, July 12th * 6pm Join your fellow Cursillistas in an evening of food\, prayer and song at the 2nd annual “Music in the Meadow” at Holy Family Church (4848 Pearl Avenue in San Jose). Beginning at 6pm with a hamburger and hotdog bbq ($5 donation requested) then a welcoming prayer followed by songs & Music. Please RSVP with your name and number of attending to Susan Porria\, call or text (408) 605-5151.
URL:https://www.dsj.org/event/cursillo-ultreya-music-in-the-meadow/
LOCATION:Holy Family Parish\, 4848 Pearl Avenue\, San Jose\, CA\, 95136\, United States
GEO:37.2623812;-121.8634468
X-APPLE-STRUCTURED-LOCATION;VALUE=URI;X-ADDRESS=Holy Family Parish 4848 Pearl Avenue San Jose CA 95136 United States;X-APPLE-RADIUS=500;X-TITLE=4848 Pearl Avenue:geo:-121.8634468,37.2623812
END:VEVENT
BEGIN:VEVENT
DTSTART;VALUE=DATE:20220713
DTEND;VALUE=DATE:20220714
DTSTAMP:20260422T112027
CREATED:20220120T190314Z
LAST-MODIFIED:20220613T165448Z
UID:10026062-1657670400-1657756799@www.dsj.org
SUMMARY:Fiat Retreat
DESCRIPTION:July 13 – 15\, 2022A high school women’s retreat for young Catholic women to deepen their faithand seek God’s call in their lives \n			\n			\n				\n				\n				\n				\n				\n				Register Here\n			\n			\n				\n				\n				\n				\n				\n			\n				\n				\n				\n				\n			\n				\n				\n				\n				\n				\n				\n				\n				\n				\n				\n				 
URL:https://www.dsj.org/event/fiat-retreat/2022-07-13/
LOCATION:St. Lawrence the Martyr Parish
GEO:37.3580106;-121.9947547
END:VEVENT
BEGIN:VEVENT
DTSTART;TZID=UTC:20220713T183000
DTEND;TZID=UTC:20220713T193000
DTSTAMP:20260422T112027
CREATED:20220708T204828Z
LAST-MODIFIED:20220708T204828Z
UID:10026139-1657737000-1657740600@www.dsj.org
SUMMARY:Our Lady of Fatima Mass
DESCRIPTION:Our Lady of Fatima 105th Anniversary of Apparitions\nWednesday\, July 13th\nMass at 6:30 PM Followed by Candlelight Procession and Fellowship. \n \n 
URL:https://www.dsj.org/event/our-lady-of-fatima-mass/
LOCATION:St. Elizabeth Parish\, 750 Sequoia Dr.\, Milpitas\, CA\, 95035
END:VEVENT
BEGIN:VEVENT
DTSTART;TZID=UTC:20220724T140000
DTEND;TZID=UTC:20220724T170000
DTSTAMP:20260422T112027
CREATED:20220603T163751Z
LAST-MODIFIED:20220603T163751Z
UID:10026138-1658671200-1658682000@www.dsj.org
SUMMARY:Afternoon of Remembrance & Reflection for Grieving Mothers & Grandmothers
DESCRIPTION:Sunday\, July 24th\, 2:00 – 5:00 pm\, El Retiro Jesuit Retreat Center\nAll grieving mothers and grandmothers are invited to an Afternoon of Remembrance and Reflection presented by Fr. John Auther\, S.J.\, and Ms. Rita Morton. This thoughtfully planned program will begin at 2:00 pm and end with Mass starting at 4:00 p.m. Supportive friends and those serving in bereavement ministries are also invited. Sacred Sorrows is a Catholic non-profit endorsed by Bishop Thomas Olmsted\, and other clergy members.
URL:https://www.dsj.org/event/afternoon-of-remembrance-reflection-for-grieving-mothers-grandmothers/
LOCATION:The Jesuit Retreat Center of Los Altos\, 300 Manresa Way\, Los Altos\, CA\, 94022\, United States
GEO:37.3695774;-122.1194926
X-APPLE-STRUCTURED-LOCATION;VALUE=URI;X-ADDRESS=The Jesuit Retreat Center of Los Altos 300 Manresa Way Los Altos CA 94022 United States;X-APPLE-RADIUS=500;X-TITLE=300 Manresa Way:geo:-122.1194926,37.3695774
END:VEVENT
BEGIN:VEVENT
DTSTART;TZID=UTC:20220724T140000
DTEND;TZID=UTC:20220724T170000
DTSTAMP:20260422T112027
CREATED:20220705T155813Z
LAST-MODIFIED:20220705T155813Z
UID:10023524-1658671200-1658682000@www.dsj.org
SUMMARY:Afternoon of Remembrance & Reflection for Grieving Mothers & Grandmothers
DESCRIPTION:Sunday\, July 24th\, 2:00 – 5:00 pm\, El Retiro Jesuit Retreat Center\nAll grieving mothers and grandmothers are invited to an Afternoon of Remembrance and Reflection presented by Fr. John Auther\, S.J.\, and Ms. Rita Morton. This thoughtfully planned program will begin at 2:00 pm and end with Mass starting at 4:00 p.m. Supportive friends and those serving in bereavement ministries are also invited. Sacred Sorrows is a Catholic non-profit endorsed by Bishop Thomas Olmsted\, and other clergy members. \n 
URL:https://www.dsj.org/event/afternoon-of-remembrance-reflection-for-grieving-mothers-grandmothers-2/
LOCATION:Jesuit Retreat Center\, 300 Manresa Way\, Los Altos\, CA\, 94022\, United States
GEO:37.3695774;-122.1194926
X-APPLE-STRUCTURED-LOCATION;VALUE=URI;X-ADDRESS=Jesuit Retreat Center 300 Manresa Way Los Altos CA 94022 United States;X-APPLE-RADIUS=500;X-TITLE=300 Manresa Way:geo:-122.1194926,37.3695774
END:VEVENT
BEGIN:VEVENT
DTSTART;TZID=UTC:20220730T073000
DTEND;TZID=UTC:20220730T120000
DTSTAMP:20260422T112027
CREATED:20220422T185405Z
LAST-MODIFIED:20220729T190525Z
UID:10026117-1659166200-1659182400@www.dsj.org
SUMMARY:Vocations Soccer Cup
DESCRIPTION:The Diocese of San José is hosting the Jubilee Games for Vocations held on July 30\, 2022. Sisters and Postulants competed in a soccer game for the St. Clare Cup\, with high school girls filling out both teams. Priests and Seminarians will compete in a second soccer game for the St. Joseph Cup\, with high school boys filling out both teams as well. This outstanding community event of family entertainment will follow all the Covid-19 regulations. \n  \n			\n				\n				\n				\n				\n				\n			\n				More Info
URL:https://www.dsj.org/event/vocations-soccer-cup/
LOCATION:Archbishop Mitty High School\, 5000 Mitty Way\, San Jose\, CA\, 95129\, United States
GEO:37.3153109;-121.9931176
X-APPLE-STRUCTURED-LOCATION;VALUE=URI;X-ADDRESS=Archbishop Mitty High School 5000 Mitty Way San Jose CA 95129 United States;X-APPLE-RADIUS=500;X-TITLE=5000 Mitty Way:geo:-121.9931176,37.3153109
END:VEVENT
BEGIN:VEVENT
DTSTART;TZID=UTC:20220731T091500
DTEND;TZID=UTC:20220731T103000
DTSTAMP:20260422T112027
CREATED:20220725T155313Z
LAST-MODIFIED:20220725T155425Z
UID:10026252-1659258900-1659263400@www.dsj.org
SUMMARY:St. Ignatius Feast Day Celebration Mass
DESCRIPTION:The feast day of St. Ignatius is on July 31st. Most Holy Trinity\, a Jesuit parish would like to invite you to attend our Ignatian Year celebration Mass on Sunday\, July 31st\, at 9:15 am at Most Holy Trinity Parish\, Main Church. The address is 2040 Nassau Dr. San Jose\, 95122. All Are Invited! Bienvenidos\, Hoan nghênh!
URL:https://www.dsj.org/event/st-ignatius-feast-day-celebration-mass/
LOCATION:Most Holy Trinity Parish\, 2040 Nassau Dr.\, San Jose\, CA\, 95122\, United States
GEO:37.3304877;-121.827296
X-APPLE-STRUCTURED-LOCATION;VALUE=URI;X-ADDRESS=Most Holy Trinity Parish 2040 Nassau Dr. San Jose CA 95122 United States;X-APPLE-RADIUS=500;X-TITLE=2040 Nassau Dr.:geo:-121.827296,37.3304877
END:VEVENT
BEGIN:VEVENT
DTSTART;VALUE=DATE:20220805
DTEND;VALUE=DATE:20220808
DTSTAMP:20260422T112027
CREATED:20220520T171324Z
LAST-MODIFIED:20220520T171324Z
UID:10026128-1659657600-1659916799@www.dsj.org
SUMMARY:Retrouvaille of San Jose/Silicon Valley Marriage Program
DESCRIPTION:You Can Help Your Marriage – Do you feel alone? Are you frustrated or angry with each other? Do you argue … or have you just stopped talking to each other? This program has helped 10’s of 1000’s of couples experiencing difficulties in their marriage. The Virtual Retrouvaille Marriage Programs Mission\, approx.48 hours of presentation\, is to help hurting marriages heal\, and bring peace to families\, The program consists of a weekend presented by 3 couples and a Priest\, including 6 Sat. post session \nTime Event Starts 06:45 pm\nTime Event Ends 05:00 pm\nEvent Contact Email RetrouvailleSJ@gmail.com\nEvent Contact Telephone (408) 605-4998 \nPrint flyer here.
URL:https://www.dsj.org/event/retrouvaille-of-san-jose-silicon-valley-marriage-program-3/
END:VEVENT
BEGIN:VEVENT
DTSTART;TZID=UTC:20220807T150000
DTEND;TZID=UTC:20220807T163000
DTSTAMP:20260422T112027
CREATED:20220504T001024Z
LAST-MODIFIED:20220504T001120Z
UID:10023289-1659884400-1659889800@www.dsj.org
SUMMARY:Jubilarian Mass
DESCRIPTION:  \nWe congratulate all the priests and religious celebrating their milestone anniversaries for their tireless dedication in serving the Lord through the Diocese of San José and the Catholic Church.
URL:https://www.dsj.org/event/jubilarian-mass/
LOCATION:Holy Cross Parish
END:VEVENT
BEGIN:VEVENT
DTSTART;TZID=UTC:20220811T113000
DTEND;TZID=UTC:20220811T113000
DTSTAMP:20260422T112027
CREATED:20220805T212941Z
LAST-MODIFIED:20220805T213435Z
UID:10026257-1660217400-1660217400@www.dsj.org
SUMMARY:Mental Health - Creating a Culture of Well-being.
DESCRIPTION:Join Rev. Jermine Alberty to learn more about Collective Care as a balance for mind\, body\, and spirit\, Self-care to replenish your own resources\, and not taking from someone else’s\, and Companionship as a practice of presence\, a relationship responding to isolation and suffering and supportive of healing and recovery. Register Today for the Engage\, Learn\, & Network Leadership Forum Webinar \n  \n \n 
URL:https://www.dsj.org/event/mental-health-creating-a-culture-of-well-being/
LOCATION:Zoom
END:VEVENT
BEGIN:VEVENT
DTSTART;TZID=UTC:20220813T110000
DTEND;TZID=UTC:20220813T120000
DTSTAMP:20260422T112027
CREATED:20220725T171315Z
LAST-MODIFIED:20220725T171525Z
UID:10026254-1660388400-1660392000@www.dsj.org
SUMMARY:Monthly Memorial Mass
DESCRIPTION:Monthly Memorial Mass\, August 13\, 2022\, 11AM\, All Saints Chapel\, Gate of Heaven Catholic Cemetery.\nA place and time we remember all of our loved ones buried at one of our locations during July. \n 
URL:https://www.dsj.org/event/monthly-memorial-mass-7/
LOCATION:Gate of Heaven Catholic Cemetery\, 22555 Cristo Rey Drive\, Los Altos\, CA\, 94024\, United States
END:VEVENT
BEGIN:VEVENT
DTSTART;TZID=UTC:20220813T180000
DTEND;TZID=UTC:20220813T190000
DTSTAMP:20260422T112027
CREATED:20220805T212023Z
LAST-MODIFIED:20220805T212041Z
UID:10026255-1660413600-1660417200@www.dsj.org
SUMMARY:Our Lady of Fatima\, 105th Anniversary of Apparitions
DESCRIPTION:Our Lady of Fatima\, 105th Anniversary of Apparitions.\nSt Elizabeth Church\, on August 13th @6:00 PM followed by candlelight procession and fellowship.\nChurch Address\n750 Sequoia Dr\, Milpitas CA 95035
URL:https://www.dsj.org/event/our-lady-of-fatima-105th-anniversary-of-apparitions-2/
LOCATION:St. Elizabeth Parish\, 750 Sequoia Dr.\, Milpitas\, CA\, 95035
END:VEVENT
BEGIN:VEVENT
DTSTART;VALUE=DATE:20220815
DTEND;VALUE=DATE:20220816
DTSTAMP:20260422T112027
CREATED:20160213T150729Z
LAST-MODIFIED:20210825T032055Z
UID:10022183-1660521600-1660607999@www.dsj.org
SUMMARY:Solemnity of the Assumption of the Blessed Virgin Mary
DESCRIPTION:In the United States\,   when August 15 falls on a Saturday or a Monday\,   it is not a holy day of obligation.\nSee the description of this rule here.\nThis is not a holy day of obligation in:\n2015\n2016\n2020\n2022\n2026\n2033\n2037\n2039\n2043\n2044\n2048\n2050
URL:https://www.dsj.org/event/solemnity-of-the-assumption-of-the-blessed-virgin-mary/2022-08-15/
END:VEVENT
BEGIN:VEVENT
DTSTART;TZID=UTC:20220824T090000
DTEND;TZID=UTC:20220824T150000
DTSTAMP:20260422T112027
CREATED:20220805T215145Z
LAST-MODIFIED:20220805T215546Z
UID:10026259-1661331600-1661353200@www.dsj.org
SUMMARY:Parish Catechetical Leader Orientation Days
DESCRIPTION:Calling all Faith Formation Directors\, Catechetical Coordinators\, Youth Ministers\, Confirmation\, and RCIA Coordinators for a two-day orientation at the Chancery. PCLs roles and responsibilities\, best practices\, certification processes\, and how the agencies and departments of the Chancery support your ministry will be covered.
URL:https://www.dsj.org/event/parish-catechetical-leader-orientation-days/2022-08-24/
END:VEVENT
BEGIN:VEVENT
DTSTART;TZID=UTC:20220825T180000
DTEND;TZID=UTC:20220825T190000
DTSTAMP:20260422T112027
CREATED:20220812T214937Z
LAST-MODIFIED:20220812T214937Z
UID:10026265-1661450400-1661454000@www.dsj.org
SUMMARY:Ending the Silence\, Mental Health
DESCRIPTION:On August 25 at 6pm join a 50 minute presentation for adults with middle or high school aged youth that includes warning signs\, facts and statistics\, how to talk with your child and how to work with school staff. NAMI-SAANTA Clara County presents “ENDING THE SILENCE” a Mental Health Program for Teens. Register at bit.ly/namiets Watch YouTube Preview Ending the Silence.
URL:https://www.dsj.org/event/ending-the-silence-mental-health/
END:VEVENT
BEGIN:VEVENT
DTSTART;TZID=UTC:20220901T070000
DTEND;TZID=UTC:20220901T090000
DTSTAMP:20260422T112027
CREATED:20220819T235359Z
LAST-MODIFIED:20220819T235359Z
UID:10026270-1662015600-1662022800@www.dsj.org
SUMMARY:Catholic Professionals Breakfast Meeting
DESCRIPTION:Join us for Mass\, Breakfast and to hear our guest speaker\, Rosio Gonzalez\, COO for the Diocese of San José\, talk about the State of the Diocese. Thursday\, September 1\, 2022 at 7:00 AM – 9:00 AM at the Three Flames Restaurant\, 1547 Meridian Ave\, San José\, 95125.
URL:https://www.dsj.org/event/catholic-professionals-breakfast-meeting/
LOCATION:Three Flames Restaurant\, 1547 Meridian Ave\, San Jose\, CA\, United States
END:VEVENT
BEGIN:VEVENT
DTSTART;TZID=UTC:20220908T150000
DTEND;TZID=UTC:20220911T140000
DTSTAMP:20260422T112027
CREATED:20220826T162138Z
LAST-MODIFIED:20220826T162138Z
UID:10026272-1662649200-1662904800@www.dsj.org
SUMMARY:Retreat for Grieving Mothers
DESCRIPTION:All grieving mothers\, no matter how long it’s been since your loss\, are invited to attend a 4-day\, 3-night retreat at the Jesuit Retreat Center in Los Altos. For more information or to register\, visit www.sacredsorrows.org or www.jrclosaltos.org. September 8-11\, 2022
URL:https://www.dsj.org/event/retreat-for-grieving-mothers/
LOCATION:Jesuit Retreat Center\, 300 Manresa Way\, Los Altos\, CA\, 94022\, United States
GEO:37.3695774;-122.1194926
X-APPLE-STRUCTURED-LOCATION;VALUE=URI;X-ADDRESS=Jesuit Retreat Center 300 Manresa Way Los Altos CA 94022 United States;X-APPLE-RADIUS=500;X-TITLE=300 Manresa Way:geo:-122.1194926,37.3695774
END:VEVENT
BEGIN:VEVENT
DTSTART;TZID=UTC:20220909T190000
DTEND;TZID=UTC:20220909T200000
DTSTAMP:20260422T112027
CREATED:20220830T212207Z
LAST-MODIFIED:20220830T213739Z
UID:10023532-1662750000-1662753600@www.dsj.org
SUMMARY:Concert\, Women's Retreat & Youth Rally
DESCRIPTION:Stories & Songs weekend with Steve Angrisano\, Sarah Hart & Jesse Manibusan.\nSept 9th & 10th\, Church of the Resurrection \nFriday\, September 9\, 2022 at 7:00pm  with Jesse Manibusan\, Sarah Hart\, and Steve Angrisano\, three well-known Catholic composers will host this Friday night concert and play many of their well-loved songs\, share their spiritualities\, and provide many opportunities for everyone to sing along. \n\n30145998Angrisano-Hart-Manibusan-4.pdf\n\nSaturday\, September 10th – 9:00 am to 1:00 PM  with Sarah Hart one of the leading figures in contemporary Catholic music today. Her songs of faith\, spirit of joy\, and love for teaching and leading workshops have touched the lives of thousands. \n\n30145998Hart_Sunnyvale-CA.PDF\n\nSaturday\, September 10th – 1:30 to 3:30 PM with Steve Angrisano one of the most effective and versatile ministry leaders in the Church today. A veteran musician\, composer and youth minister\, he’s performed at seven World Youth Days\, the National Catholic Youth Conference\, and many other national and international events. \n\n30145998Angrisano_SunnyvaleCA1.PDF
URL:https://www.dsj.org/event/concert-womens-retreat-youth-rally/2022-09-09/
LOCATION:Church of the Resurrection\, 725 Cascade Drive\, Sunnyvale\, CA\, United States
GEO:37.3484397;-122.0427568
X-APPLE-STRUCTURED-LOCATION;VALUE=URI;X-ADDRESS=Church of the Resurrection 725 Cascade Drive Sunnyvale CA United States;X-APPLE-RADIUS=500;X-TITLE=725 Cascade Drive:geo:-122.0427568,37.3484397
END:VEVENT
BEGIN:VEVENT
DTSTART;TZID=UTC:20220910T080000
DTEND;TZID=UTC:20220911T170000
DTSTAMP:20260422T112027
CREATED:20220826T161719Z
LAST-MODIFIED:20220826T161719Z
UID:10026271-1662796800-1662915600@www.dsj.org
SUMMARY:Catholic Engaged Encounter en Español
DESCRIPTION:Septiembre 10 y 11 2022 y Noviembre 05 y 06\, 2022 en la ciudad de San José. Es un fin de semana de preparación para el matrimonio\, cuyo único propósito es motivar a las parejas a desarrollar una comunicación más profunda para beneficio de su matrimonio. \nClick here for registration/application.
URL:https://www.dsj.org/event/catholic-engaged-encounter-en-espanol/
END:VEVENT
BEGIN:VEVENT
DTSTART;TZID=UTC:20220910T110000
DTEND;TZID=UTC:20220910T120000
DTSTAMP:20260422T112027
CREATED:20220830T213948Z
LAST-MODIFIED:20220830T214025Z
UID:10023535-1662807600-1662811200@www.dsj.org
SUMMARY:Monthly Memorial
DESCRIPTION:September 10\, 2022\, 11:00 AM – 12:00 PM\, Gate of Heaven -All Saints Chapel\,\nPlease join us for our Monthly Memorial Mass. A place and time we remember all of our loved ones buried at one of our locations the previous month. \nPrint flyer:  MonthlyMemorialMass_Flyer_September.pdf
URL:https://www.dsj.org/event/monthly-memorial/
LOCATION:Gate of Heaven Catholic Cemetery – All Saints Chapel\, 22555 Cristo Rey Drive\, Los Altos\, CA\, 94024\, United States
GEO:37.326849;-122.084269
X-APPLE-STRUCTURED-LOCATION;VALUE=URI;X-ADDRESS=Gate of Heaven Catholic Cemetery – All Saints Chapel 22555 Cristo Rey Drive Los Altos CA 94024 United States;X-APPLE-RADIUS=500;X-TITLE=22555 Cristo Rey Drive:geo:-122.084269,37.326849
END:VEVENT
BEGIN:VEVENT
DTSTART;TZID=UTC:20220910T183000
DTEND;TZID=UTC:20220910T193000
DTSTAMP:20260422T112027
CREATED:20220805T213803Z
LAST-MODIFIED:20220805T213906Z
UID:10026258-1662834600-1662838200@www.dsj.org
SUMMARY:Annual Celebration of Our Lady of Velankanni (Health)
DESCRIPTION:eptember 10th\, 2022\nat Our Lady of Refuge\, San Jose\, CA. Starts with Mass at 6:00pm; followed by Rosary procession at 8pm; Dinner and fellowship at 9pm. host: Sacred Heart Tamil Catholic Group\nhttps://shtcg.org/.
URL:https://www.dsj.org/event/annual-celebration-of-our-lady-of-velankanni-health/
LOCATION:Our Lady of Refuge\, 2165 Lucretia Ave.\, San José\, CA\, 95122\, United States
GEO:37.3170686;-121.8450715
X-APPLE-STRUCTURED-LOCATION;VALUE=URI;X-ADDRESS=Our Lady of Refuge 2165 Lucretia Ave. San José CA 95122 United States;X-APPLE-RADIUS=500;X-TITLE=2165 Lucretia Ave.:geo:-121.8450715,37.3170686
END:VEVENT
BEGIN:VEVENT
DTSTART;TZID=UTC:20220913T183000
DTEND;TZID=UTC:20220913T193000
DTSTAMP:20260422T112027
CREATED:20220902T222052Z
LAST-MODIFIED:20220902T222052Z
UID:10023537-1663093800-1663097400@www.dsj.org
SUMMARY:Our Lady of Fatima 105th Anniversary of Apparitions
DESCRIPTION:Join Us In Honoring\nOur Lady of Fatima 105th Anniversary of Apparitions\nTuesday\, September 13\nMass at 6:30 PM\nFollowed by Candlelight Procession and fellowship
URL:https://www.dsj.org/event/our-lady-of-fatima-105th-anniversary-of-apparitions-3/
LOCATION:St. Elizabeth Parish\, 750 Sequoia Dr.\, Milpitas\, CA\, 95035
END:VEVENT
BEGIN:VEVENT
DTSTART;TZID=UTC:20220913T190000
DTEND;TZID=UTC:20220913T200000
DTSTAMP:20260422T112027
CREATED:20220812T223757Z
LAST-MODIFIED:20220812T223757Z
UID:10026266-1663095600-1663099200@www.dsj.org
SUMMARY:Earth on Your Plate Presentation
DESCRIPTION:Earth on Your Plate Presentation\, by Mohan Gurunathan\nLearn why diet change is essential to saving our planet. Registration needed and link will be emailed . \n 
URL:https://www.dsj.org/event/earth-on-your-plate-presentation/
LOCATION:Zoom
END:VEVENT
BEGIN:VEVENT
DTSTART;TZID=UTC:20220914T090000
DTEND;TZID=UTC:20220914T140000
DTSTAMP:20260422T112027
CREATED:20220805T224606Z
LAST-MODIFIED:20220816T223454Z
UID:10026261-1663146000-1663164000@www.dsj.org
SUMMARY:Welcoming Parish Catechetical Leaders and Commissioning
DESCRIPTION:September 14\, 2022 from 9:00 AM – 2:00 PM at Holy Cross Parish\nMass with Bishop\nSpeaker\, Lunch\, and fellowship! \n \n 
URL:https://www.dsj.org/event/welcoming-parish-catechetical-leaders-and-commissioning/
LOCATION:Holy Cross Parish
END:VEVENT
BEGIN:VEVENT
DTSTART;TZID=UTC:20220914T090000
DTEND;TZID=UTC:20220914T170000
DTSTAMP:20260422T112027
CREATED:20220805T212437Z
LAST-MODIFIED:20220805T212550Z
UID:10026256-1663146000-1663174800@www.dsj.org
SUMMARY:St. Elizabeth Church Parish Festival
DESCRIPTION:St. Elizabeth Church Parish Festival\nSunday\, August 14th\, 2022 from 9;00 AM – 5:00 PM\nEveryone is Invited !!!
URL:https://www.dsj.org/event/st-elizabeth-church-parish-festival/
LOCATION:St. Elizabeth Parish\, 750 Sequoia Dr.\, Milpitas\, CA\, 95035
END:VEVENT
BEGIN:VEVENT
DTSTART;TZID=UTC:20220916T180000
DTEND;TZID=UTC:20220916T190000
DTSTAMP:20260422T112027
CREATED:20220617T152136Z
LAST-MODIFIED:20220617T153604Z
UID:10023517-1663351200-1663354800@www.dsj.org
SUMMARY:Retrouvaille- un fin de semana para parejas en crisis o con problemas que esten afectando su matrimonio
DESCRIPTION:Retrouvaille: es para parejas casadas que enfrentan desafíos y cituaciones difíciles en su relación.\n-Un programa de Matrimonio que ayuda a las parejas a restaurar su matrimonio y reconstruir una relación amorosa.\n-Un programa de matrimonio cristiano\, de origen católico\, donde se anima a asistir a parejas de todas las religiones.\n-Principalmente un programa práctico para mejorar la comunicación\, construir matrimonios más fuertes y ayudar a las parejas a comunicarse de una manera mas clara.
URL:https://www.dsj.org/event/retrouvaille-un-fin-de-semana-para-parejas-en-crisis-o-con-problemas-que-esten-afectando-su-matrimonio/2022-09-16/
LOCATION:Virtual
END:VEVENT
BEGIN:VEVENT
DTSTART;TZID=UTC:20220917T080000
DTEND;TZID=UTC:20220917T120000
DTSTAMP:20260422T112027
CREATED:20220812T224436Z
LAST-MODIFIED:20220812T224436Z
UID:10026267-1663401600-1663416000@www.dsj.org
SUMMARY:California Coastal Cleanup Day
DESCRIPTION:California Coastal Cleanup Day. Register with the CA Coastal Commission and participate in the cleanup of a local waterway.
URL:https://www.dsj.org/event/california-coastal-cleanup-day/
END:VEVENT
BEGIN:VEVENT
DTSTART;TZID=UTC:20220920T123000
DTEND;TZID=UTC:20220920T163000
DTSTAMP:20260422T112027
CREATED:20220909T222242Z
LAST-MODIFIED:20220909T222502Z
UID:10023551-1663677000-1663691400@www.dsj.org
SUMMARY:Mental Health First Aid Training
DESCRIPTION:Adults who work with Youth 9/20 and 9/21. Adult Mental Health First Aid\, 9/23. Participants will learn to identify\, understand\, and respond to signs of mental illnesses and substance use disorders. Attendees of Blended In-Person training is required to complete a 2-hr online self-study session prior to the instructor-led session. Contact peggy.cho@hhs.sccgov.org for registration. click for flyer – Mental Health First Aid Training.png
URL:https://www.dsj.org/event/mental-health-first-aid-training-2/2022-09-20/
END:VEVENT
END:VCALENDAR