BEGIN:VCALENDAR
VERSION:2.0
PRODID:-//Diocese of San Jose - ECPv6.15.20//NONSGML v1.0//EN
CALSCALE:GREGORIAN
METHOD:PUBLISH
X-ORIGINAL-URL:https://www.dsj.org
X-WR-CALDESC:Events for Diocese of San Jose
REFRESH-INTERVAL;VALUE=DURATION:PT1H
X-Robots-Tag:noindex
X-PUBLISHED-TTL:PT1H
BEGIN:VTIMEZONE
TZID:UTC
BEGIN:STANDARD
TZOFFSETFROM:+0000
TZOFFSETTO:+0000
TZNAME:UTC
DTSTART:20240101T000000
END:STANDARD
END:VTIMEZONE
BEGIN:VTIMEZONE
TZID:America/Los_Angeles
BEGIN:DAYLIGHT
TZOFFSETFROM:-0800
TZOFFSETTO:-0700
TZNAME:PDT
DTSTART:20240310T100000
END:DAYLIGHT
BEGIN:STANDARD
TZOFFSETFROM:-0700
TZOFFSETTO:-0800
TZNAME:PST
DTSTART:20241103T090000
END:STANDARD
BEGIN:DAYLIGHT
TZOFFSETFROM:-0800
TZOFFSETTO:-0700
TZNAME:PDT
DTSTART:20250309T100000
END:DAYLIGHT
BEGIN:STANDARD
TZOFFSETFROM:-0700
TZOFFSETTO:-0800
TZNAME:PST
DTSTART:20251102T090000
END:STANDARD
BEGIN:DAYLIGHT
TZOFFSETFROM:-0800
TZOFFSETTO:-0700
TZNAME:PDT
DTSTART:20260308T100000
END:DAYLIGHT
BEGIN:STANDARD
TZOFFSETFROM:-0700
TZOFFSETTO:-0800
TZNAME:PST
DTSTART:20261101T090000
END:STANDARD
END:VTIMEZONE
BEGIN:VEVENT
DTSTART;TZID=UTC:20250316T080000
DTEND;TZID=UTC:20250316T150000
DTSTAMP:20260420T055853
CREATED:20250222T000207Z
LAST-MODIFIED:20250222T000207Z
UID:10030110-1742112000-1742137200@www.dsj.org
SUMMARY:Bridges Young Adult Retreat
DESCRIPTION:March 14-16 \n\nHosted St. Lawrence Martyr Parish – Retreat will take place in Pacifica\, CA\n$285/person; $50 deposit to hold your spot includes food\, lodging\, activities\, merch\nContact: St.Lawrence.Young.Adults@gmail.com
URL:https://www.dsj.org/event/bridges-young-adult-retreat/2025-03-16/
LOCATION:CA
CATEGORIES:Retreats
END:VEVENT
BEGIN:VEVENT
DTSTART;TZID=UTC:20250316T193000
DTEND;TZID=UTC:20250316T203000
DTSTAMP:20260420T055853
CREATED:20250302T215810Z
LAST-MODIFIED:20250302T215810Z
UID:10030138-1742153400-1742157000@www.dsj.org
SUMMARY:Living the Hope of the Cross\, Lenten Retreat with Julianne Stanz
DESCRIPTION:Living the Hope of the Cross\, Lenten Retreat with Julianne Stanz. In a world filled with uncertainty and longing for peace\, how can we embrace the hope and joy of the Cross in our daily lives? During this Jubilee Year\, we are called to be people of hope—walking together in faith and love\, no matter what we go through in life. Join speaker and author Julianne Stanz\, who will draw from her Irish heritage and pastoral wisdom\, to guide us through four essential practices of H.O.P.E.—Healing\, Openness\, Prayer\, and the Eucharist—offering spiritual tools for each.\nMarch 15\, 16 & 17\, 2025\nMarch 15: 6 – 7:30pm\nMarch 16: 6 – 7:30pm\nMarch 17: 4: 30 – 5:30pm\nSt. Simon Parish\, 1860 Grant Rd\, Los Altos 94024 \nClick here for more info and registration.
URL:https://www.dsj.org/event/living-the-hope-of-the-cross-lenten-retreat-with-julianne-stanz/2025-03-16/
LOCATION:St. Simon Parish
CATEGORIES:Retreats
GEO:37.3472661;-122.078578
END:VEVENT
BEGIN:VEVENT
DTSTART;TZID=UTC:20250317T163000
DTEND;TZID=UTC:20250317T173000
DTSTAMP:20260420T055853
CREATED:20250302T215810Z
LAST-MODIFIED:20250302T215810Z
UID:10030139-1742229000-1742232600@www.dsj.org
SUMMARY:Living the Hope of the Cross\, Lenten Retreat with Julianne Stanz
DESCRIPTION:Living the Hope of the Cross\, Lenten Retreat with Julianne Stanz. In a world filled with uncertainty and longing for peace\, how can we embrace the hope and joy of the Cross in our daily lives? During this Jubilee Year\, we are called to be people of hope—walking together in faith and love\, no matter what we go through in life. Join speaker and author Julianne Stanz\, who will draw from her Irish heritage and pastoral wisdom\, to guide us through four essential practices of H.O.P.E.—Healing\, Openness\, Prayer\, and the Eucharist—offering spiritual tools for each.\nMarch 15\, 16 & 17\, 2025\nMarch 15: 6 – 7:30pm\nMarch 16: 6 – 7:30pm\nMarch 17: 4: 30 – 5:30pm\nSt. Simon Parish\, 1860 Grant Rd\, Los Altos 94024 \nClick here for more info and registration.
URL:https://www.dsj.org/event/living-the-hope-of-the-cross-lenten-retreat-with-julianne-stanz/2025-03-17/
LOCATION:St. Simon Parish
CATEGORIES:Retreats
GEO:37.3472661;-122.078578
END:VEVENT
BEGIN:VEVENT
DTSTART;VALUE=DATE:20250319
DTEND;VALUE=DATE:20250320
DTSTAMP:20260420T055853
CREATED:20160213T124510Z
LAST-MODIFIED:20210825T032124Z
UID:10022161-1742342400-1742428799@www.dsj.org
SUMMARY:Solemnity of Saint Joseph
DESCRIPTION:March 19 is the Solemnity of Saint Joseph\,   Husband of Mary. Saint Joseph is the patron saint of the Diocese of San Jose.
URL:https://www.dsj.org/event/solemnity-of-saint-joseph/2025-03-19/
LOCATION:CA
END:VEVENT
BEGIN:VEVENT
DTSTART;TZID=UTC:20250319T130000
DTEND;TZID=UTC:20250321T150000
DTSTAMP:20260420T055853
CREATED:20241104T165840Z
LAST-MODIFIED:20241104T165840Z
UID:10026937-1742389200-1742569200@www.dsj.org
SUMMARY:Cathedral Basilica of St. Joseph Tour
DESCRIPTION:Enjoy a guided tour of St. Joseph’s Cathedral Basilica in downtown San Jose. Discover the statue carved from the mast of a ship\, who donated many stained glass windows and much more! Tours are Wednesday through Friday from 1-3pm. \n \n 
URL:https://www.dsj.org/event/cathedral-basilica-of-st-joseph-tour/2025-03-19/
LOCATION:CA
END:VEVENT
BEGIN:VEVENT
DTSTART;TZID=UTC:20250320T183000
DTEND;TZID=UTC:20250320T203000
DTSTAMP:20260420T055853
CREATED:20240708T175310Z
LAST-MODIFIED:20241211T163109Z
UID:10026797-1742495400-1742502600@www.dsj.org
SUMMARY:Pastoral Ministry Formation - Virtual Sessions 2025
DESCRIPTION:Foundational theology formation series for ministers that replaces “Faith Beyond 2000 – Part I and II.” Upon completion\, pastoral ministers  will receive a “Pastoral Ministry Certification” issued by the Institute for Leadership in Ministry. This program is held Virtually. \nFor all the ministers: lectors\, Eucharistic ministers\, ushers\, catechists\, youth group leaders\, RCIA team members\, etc.) \nThe course is one of the requirements for Catechist Certification. \nSession Time: 6:30pm – 8:30pm \nThere is no cost for participants. \nClick here for registration and more information. 
URL:https://www.dsj.org/event/pastoral-ministry-formation-virtual-sessions-2025/2025-03-20/
LOCATION:CA
CATEGORIES:Faith Formation
END:VEVENT
BEGIN:VEVENT
DTSTART;TZID=UTC:20250320T190000
DTEND;TZID=UTC:20250320T210000
DTSTAMP:20260420T055853
CREATED:20250203T223815Z
LAST-MODIFIED:20250203T223839Z
UID:10029654-1742497200-1742504400@www.dsj.org
SUMMARY:Winter Ignatian Workshops
DESCRIPTION:Ignatian Discernment is a process rooted in the Spiritual Exercises\, which helps individuals recognize and respond to the Spirits that moves in their lives. Please join our Winter Ignatian Workshops.\nTopic: Discernment Series I & II – Learning the Language of God\nInstructor: Fr. Hung Pham S.J.\, Phd.\nDate: Feb 2 7\, via Zoom\, 7pm – 9pm (I)\nMarch 20\, 7pm – 9pm (II) as same \nRegistration: https://tinyurl.com/y4seyrm8\nPlease see flyer and have question\, email\nMargarita: margarita.hua@dsj.org \nClick here for more information.  Click here to register.
URL:https://www.dsj.org/event/winter-ignatian-workshops/
LOCATION:Zoom
CATEGORIES:Workshop
END:VEVENT
BEGIN:VEVENT
DTSTART;TZID=UTC:20250321T100000
DTEND;TZID=UTC:20250321T120000
DTSTAMP:20260420T055853
CREATED:20250127T195713Z
LAST-MODIFIED:20250127T195713Z
UID:10029647-1742551200-1742558400@www.dsj.org
SUMMARY:Sacred Healing Womens' Circle - Personal & Global Healing
DESCRIPTION:Breathing Techniques for Balance\, Peace & Harmony – Jan 24\nTapping Techniques to open Channels of Healing Light – Feb 21\nMovement Practices to enhance Circulation & Energy Flow – Mar 21\nSound Healing with vibrations of Tuning Forks\, Drums & Bowls – Apr 11\nCreating Soul Collages to integrate body\, mind & soul – May 16\n\nDate: Jan 24\, Feb 21\, Mar 21\, Apr 11\, May 16\, 2025\nTime: 10am-noon\nLocation: Dominican Sisters\, Mission San Jose (Wellness Room)\nHost: Sister Joan Prohaska\, OP \nwww.msjdominicans.org
URL:https://www.dsj.org/event/sacred-healing-womens-circle-personal-global-healing/2025-03-21/
LOCATION:CA
END:VEVENT
BEGIN:VEVENT
DTSTART;TZID=UTC:20250322T090000
DTEND;TZID=UTC:20250322T170000
DTSTAMP:20260420T055853
CREATED:20250311T180408Z
LAST-MODIFIED:20250311T180408Z
UID:10030143-1742634000-1742662800@www.dsj.org
SUMMARY:Catechists ‘Echo’ the Good News | CATECHISTS’ LENTEN RETREAT
DESCRIPTION:Diocese of San José Catechists are invited to a Silent Retreat to continue their call to “ECHO” the Word of God. \nOur presenters are: Fr. Engelberto Gammad\, Most Rev. Oscar Cantú\, and Fr. Miguel Álvarez
URL:https://www.dsj.org/event/catechists-echo-the-good-news-catechists-lenten-retreat/
LOCATION:Mount Saint Joseph Carmelit Monastery\, 12455 Clayton Rd\, San Jose\, CA\, 95127\, United States
END:VEVENT
BEGIN:VEVENT
DTSTART;TZID=UTC:20250323T190000
DTEND;TZID=UTC:20250323T210000
DTSTAMP:20260420T055853
CREATED:20250218T012321Z
LAST-MODIFIED:20250218T012321Z
UID:10029728-1742756400-1742763600@www.dsj.org
SUMMARY:Deepen Your Faith as You Walk with Jesus Christ Ignatian Spirituality Workshop
DESCRIPTION:Deepen Your Faith as You Walk with Jesus Christ\nMost Holy Trinity invites you to join the Ignatian Spirituality Workshop: Discernment Series. Led by Fr. Hung Pham S.J.\nAll are welcome! \nEvent Details: \nDates: February 27 & March 23\nTime: 7:00 PM – 9:00 PM\nPlatform: Zoom\nTo register for the Zoom link\, visit: https://tinyurl.com/y4seyrm8\nFor more information\, email: margarita.hua@dsj.org \n \n 
URL:https://www.dsj.org/event/deepen-your-faith-as-you-walk-with-jesus-christ-ignatian-spirituality-workshop/2025-03-23/
LOCATION:Zoom
CATEGORIES:Workshop
END:VEVENT
BEGIN:VEVENT
DTSTART;TZID=UTC:20250326T130000
DTEND;TZID=UTC:20250328T150000
DTSTAMP:20260420T055853
CREATED:20241104T165840Z
LAST-MODIFIED:20241104T165840Z
UID:10026938-1742994000-1743174000@www.dsj.org
SUMMARY:Cathedral Basilica of St. Joseph Tour
DESCRIPTION:Enjoy a guided tour of St. Joseph’s Cathedral Basilica in downtown San Jose. Discover the statue carved from the mast of a ship\, who donated many stained glass windows and much more! Tours are Wednesday through Friday from 1-3pm. \n \n 
URL:https://www.dsj.org/event/cathedral-basilica-of-st-joseph-tour/2025-03-26/
LOCATION:CA
END:VEVENT
BEGIN:VEVENT
DTSTART;TZID=UTC:20250327T090000
DTEND;TZID=UTC:20250327T120000
DTSTAMP:20260420T055853
CREATED:20250324T163509Z
LAST-MODIFIED:20250324T163509Z
UID:10030156-1743066000-1743076800@www.dsj.org
SUMMARY:Parish Leadership Team Meeting
DESCRIPTION:
URL:https://www.dsj.org/event/parish-leadership-team-meeting/2025-03-27/1/
LOCATION:CA
CATEGORIES:Workshop
END:VEVENT
BEGIN:VEVENT
DTSTART;TZID=UTC:20250327T181500
DTEND;TZID=UTC:20250327T200000
DTSTAMP:20260420T055853
CREATED:20250208T000739Z
LAST-MODIFIED:20250208T000739Z
UID:10029655-1743099300-1743105600@www.dsj.org
SUMMARY:Fr. David Michael Moses presents "How the Sacraments Make Us Saints"
DESCRIPTION:THURS\, MARCH 27\n6:15PM Welcome Reception\n7:00PM Talk\nST. WILLIAM CHURCH\, 611 S. EL MONTE AVE\, LOS ALTOS CA 94022 \nFr. David Michael Moses is 31 years old and grew-up in Houston\,\nTexas. He started college when he was just 14 and graduated\nwith his bachelor’s degree at the age of 18. He was accepted\ninto several law schools\, but ultimately felt called to the\npriesthood and entered seminary for the Archdiocese of\nGalveston-Houston. He was ordained in 2019 at the age of 25\nand is now the parochial vicar at Christ the Good Shepherd in\nSpring\, Texas. He enjoys writing music and have a social media presence
URL:https://www.dsj.org/event/fr-david-michael-moses-presents-how-the-sacraments-make-us-saints/
LOCATION:St. William Church\, 611 S. El Monte Ave\, Los Altos\, CA\, 94022\, United States
CATEGORIES:Speakers
END:VEVENT
BEGIN:VEVENT
DTSTART;TZID=UTC:20250327T183000
DTEND;TZID=UTC:20250327T203000
DTSTAMP:20260420T055853
CREATED:20240708T175310Z
LAST-MODIFIED:20241211T163109Z
UID:10026798-1743100200-1743107400@www.dsj.org
SUMMARY:Pastoral Ministry Formation - Virtual Sessions 2025
DESCRIPTION:Foundational theology formation series for ministers that replaces “Faith Beyond 2000 – Part I and II.” Upon completion\, pastoral ministers  will receive a “Pastoral Ministry Certification” issued by the Institute for Leadership in Ministry. This program is held Virtually. \nFor all the ministers: lectors\, Eucharistic ministers\, ushers\, catechists\, youth group leaders\, RCIA team members\, etc.) \nThe course is one of the requirements for Catechist Certification. \nSession Time: 6:30pm – 8:30pm \nThere is no cost for participants. \nClick here for registration and more information. 
URL:https://www.dsj.org/event/pastoral-ministry-formation-virtual-sessions-2025/2025-03-27/
LOCATION:CA
CATEGORIES:Faith Formation
END:VEVENT
BEGIN:VEVENT
DTSTART;TZID=UTC:20250327T183000
DTEND;TZID=UTC:20250327T210000
DTSTAMP:20260420T055853
CREATED:20250324T163509Z
LAST-MODIFIED:20250324T163509Z
UID:10030157-1743100200-1743109200@www.dsj.org
SUMMARY:Parish Leadership Team Meeting
DESCRIPTION:
URL:https://www.dsj.org/event/parish-leadership-team-meeting/2025-03-27/2/
LOCATION:CA
CATEGORIES:Workshop
END:VEVENT
BEGIN:VEVENT
DTSTART;TZID=UTC:20250329T090000
DTEND;TZID=UTC:20250329T170000
DTSTAMP:20260420T055853
CREATED:20240328T203241Z
LAST-MODIFIED:20250128T223216Z
UID:10023953-1743238800-1743267600@www.dsj.org
SUMMARY:Diocesan Synod Youth Assembly
DESCRIPTION:
URL:https://www.dsj.org/event/diocesan-synod-youth-assembly/
LOCATION:St. Francis High School\, 1885 Miramonte Avenue\, Mountain View\, CA\, 94040\, United States
CATEGORIES:Social,Workshop
GEO:37.3696044;-122.0847981
X-APPLE-STRUCTURED-LOCATION;VALUE=URI;X-ADDRESS=St. Francis High School 1885 Miramonte Avenue Mountain View CA 94040 United States;X-APPLE-RADIUS=500;X-TITLE=1885 Miramonte Avenue:geo:-122.0847981,37.3696044
END:VEVENT
BEGIN:VEVENT
DTSTART;TZID=UTC:20250329T130000
DTEND;TZID=UTC:20250329T180000
DTSTAMP:20260420T055853
CREATED:20250328T212714Z
LAST-MODIFIED:20250328T212714Z
UID:10030162-1743253200-1743271200@www.dsj.org
SUMMARY:Young Catholic Professional Retreat
DESCRIPTION:Young Catholic Professional Retreat with Optional Dinner at Sala Thai at 6:30 p.m. \n\nTalks by Fr. Matthew\, small group discussion and Adoration\n\nShrine of St. Joseph Shrine\nWest Cliff Drive 544\, Santa Cruz \nTo register:  https://ycp.glueup.com/event/metanoia-a-deep-change-of-heart-134293/?pk_campaign=widget-event-list
URL:https://www.dsj.org/event/young-catholic-professional-retreat/
LOCATION:CA
END:VEVENT
BEGIN:VEVENT
DTSTART;TZID=UTC:20250330T160000
DTEND;TZID=UTC:20250330T170000
DTSTAMP:20260420T055853
CREATED:20241127T164936Z
LAST-MODIFIED:20241211T165147Z
UID:10028500-1743350400-1743354000@www.dsj.org
SUMMARY:Catholic Scouting Recognition Ceremony
DESCRIPTION:All Catholic Cub Scouts\, Boy Scouts\, Venturers\, Brownies\, Girl Scouts and Little Flowers youth who have completed a religious program will be recognized and receive their medals at the annual prayer service and recognition ceremony.\nPlease note that this is NOT a Mass. \nExpected attire is scout uniform. \nFor more information\, please see our event’s page.
URL:https://www.dsj.org/event/catholic-scouting-recognition-ceremony/
LOCATION:Cathedral Basilica of Saint Joseph\, 80 South Market St. \, San Jose\, CA\, 95113\, United States
GEO:37.3341564;-121.8905406
X-APPLE-STRUCTURED-LOCATION;VALUE=URI;X-ADDRESS=Cathedral Basilica of Saint Joseph 80 South Market St.  San Jose CA 95113 United States;X-APPLE-RADIUS=500;X-TITLE=80 South Market St.:geo:-121.8905406,37.3341564
END:VEVENT
BEGIN:VEVENT
DTSTART;TZID=UTC:20250402T130000
DTEND;TZID=UTC:20250404T150000
DTSTAMP:20260420T055853
CREATED:20241104T165840Z
LAST-MODIFIED:20241104T165840Z
UID:10026939-1743598800-1743778800@www.dsj.org
SUMMARY:Cathedral Basilica of St. Joseph Tour
DESCRIPTION:Enjoy a guided tour of St. Joseph’s Cathedral Basilica in downtown San Jose. Discover the statue carved from the mast of a ship\, who donated many stained glass windows and much more! Tours are Wednesday through Friday from 1-3pm. \n \n 
URL:https://www.dsj.org/event/cathedral-basilica-of-st-joseph-tour/2025-04-02/
LOCATION:CA
END:VEVENT
BEGIN:VEVENT
DTSTART;TZID=UTC:20250402T180000
DTEND;TZID=UTC:20250402T200000
DTSTAMP:20260420T055853
CREATED:20250302T214745Z
LAST-MODIFIED:20250302T214745Z
UID:10030135-1743616800-1743624000@www.dsj.org
SUMMARY:Evening Reflection for Women
DESCRIPTION:Evening Reflection for Women\, April 2\, 6:00 p.m.-8:00 p.m.; St. Joseph of Cupertino Church\nGrow in your identity as a beloved daughter of God; experience authentic sisterhood; and learn to uplift one another. \nClick here for more info and registration.
URL:https://www.dsj.org/event/evening-reflection-for-women/
LOCATION:St. Joseph of Cupertino Parish\, 10110 N. De Anza Blvd.\, \, Cupertino\, CA\, 95014\, United States
CATEGORIES:Listening Session
GEO:37.3242634;-122.0307695
X-APPLE-STRUCTURED-LOCATION;VALUE=URI;X-ADDRESS=St. Joseph of Cupertino Parish 10110 N. De Anza Blvd.  Cupertino CA 95014 United States;X-APPLE-RADIUS=500;X-TITLE=10110 N. De Anza Blvd.\,:geo:-122.0307695,37.3242634
END:VEVENT
BEGIN:VEVENT
DTSTART;TZID=UTC:20250404T080000
DTEND;TZID=UTC:20250404T180000
DTSTAMP:20260420T055853
CREATED:20250401T173016Z
LAST-MODIFIED:20250401T173123Z
UID:10030170-1743753600-1743789600@www.dsj.org
SUMMARY:Together at the Table - An international gathering inspiring synodal action in Mission
DESCRIPTION:The Synod on Synodality has concluded\, and the journey continues. Join the Jesuit School of Theology of Santa Clara University\, key ecclesial leaders\, and other partners in mission who are committed to building a synodal Church. We invite you to participate in exploring the transformative power of synodality and prepare for the vital work ahead of remodeling the Church. Everyone is welcome.Your seat at the table is here. \n \n 
URL:https://www.dsj.org/event/together-at-the-table-an-international-gathering-inspiring-synodal-action-in-mission/
LOCATION:Library and Learning Commons\, Santa Clara University
CATEGORIES:Listening Session
END:VEVENT
BEGIN:VEVENT
DTSTART;TZID=UTC:20250404T153000
DTEND;TZID=UTC:20250404T213000
DTSTAMP:20260420T055853
CREATED:20250302T213328Z
LAST-MODIFIED:20250302T213427Z
UID:10030122-1743780600-1743802200@www.dsj.org
SUMMARY:Weekend Healing Retreat
DESCRIPTION:Weekend Healing Retreat\, April 4-6\, 2025\, St. Joseph of Cupertino Church: April 4\, 3:30 p.m.-9:30 p.m..; April 5\, 7:30 a.m.-9:30 p.m.; April 6\, 7:30 a.m. – 6:30 p.m. \nLike so many in the Gospel\, in an atmosphere of prayer and adoration\, we encounter Jesus and courageously ask him for healing. Jesus comes and visits us in our woundedness. His simple presence transforms our darkness into light; the lies we believe about ourselves into truth; and the coldness of our isolation into the warmth of His love. Set free from lies\, resentment\, and self-reliance\, we can live in freedom to love God and neighbor. Do you want to be healed? \nClick here for more info and registration.
URL:https://www.dsj.org/event/weekend-healing-retreat/2025-04-04/
LOCATION:St. Joseph of Cupertino Parish\, 10110 N. De Anza Blvd.\, \, Cupertino\, CA\, 95014\, United States
CATEGORIES:Retreats
GEO:37.3242634;-122.0307695
X-APPLE-STRUCTURED-LOCATION;VALUE=URI;X-ADDRESS=St. Joseph of Cupertino Parish 10110 N. De Anza Blvd.  Cupertino CA 95014 United States;X-APPLE-RADIUS=500;X-TITLE=10110 N. De Anza Blvd.\,:geo:-122.0307695,37.3242634
END:VEVENT
BEGIN:VEVENT
DTSTART;TZID=UTC:20250404T183000
DTEND;TZID=UTC:20250404T193000
DTSTAMP:20260420T055853
CREATED:20250328T224743Z
LAST-MODIFIED:20250328T224743Z
UID:10030163-1743791400-1743795000@www.dsj.org
SUMMARY:St. Martin of Tours Young Adults Stations of the Cross
DESCRIPTION:St. Martin of Tours Young Adults Stations of the Cross\nFriday April 4 @ 6:30 p.m.\n\nFollowed by fellowship potluck\, bring something to share\n\nSt. Martin of Tours\n200 O’Connor Dr.\nSan Jose
URL:https://www.dsj.org/event/st-martin-of-tours-young-adults-stations-of-the-cross/
LOCATION:CA
END:VEVENT
BEGIN:VEVENT
DTSTART;TZID=UTC:20250405T073000
DTEND;TZID=UTC:20250405T213000
DTSTAMP:20260420T055853
CREATED:20250302T213328Z
LAST-MODIFIED:20250302T213427Z
UID:10030123-1743838200-1743888600@www.dsj.org
SUMMARY:Weekend Healing Retreat
DESCRIPTION:Weekend Healing Retreat\, April 4-6\, 2025\, St. Joseph of Cupertino Church: April 4\, 3:30 p.m.-9:30 p.m..; April 5\, 7:30 a.m.-9:30 p.m.; April 6\, 7:30 a.m. – 6:30 p.m. \nLike so many in the Gospel\, in an atmosphere of prayer and adoration\, we encounter Jesus and courageously ask him for healing. Jesus comes and visits us in our woundedness. His simple presence transforms our darkness into light; the lies we believe about ourselves into truth; and the coldness of our isolation into the warmth of His love. Set free from lies\, resentment\, and self-reliance\, we can live in freedom to love God and neighbor. Do you want to be healed? \nClick here for more info and registration.
URL:https://www.dsj.org/event/weekend-healing-retreat/2025-04-05/
LOCATION:St. Joseph of Cupertino Parish\, 10110 N. De Anza Blvd.\, \, Cupertino\, CA\, 95014\, United States
CATEGORIES:Retreats
GEO:37.3242634;-122.0307695
X-APPLE-STRUCTURED-LOCATION;VALUE=URI;X-ADDRESS=St. Joseph of Cupertino Parish 10110 N. De Anza Blvd.  Cupertino CA 95014 United States;X-APPLE-RADIUS=500;X-TITLE=10110 N. De Anza Blvd.\,:geo:-122.0307695,37.3242634
END:VEVENT
BEGIN:VEVENT
DTSTART;TZID=UTC:20250405T093000
DTEND;TZID=UTC:20250405T120000
DTSTAMP:20260420T055853
CREATED:20250304T233449Z
LAST-MODIFIED:20250304T235118Z
UID:10030140-1743845400-1743854400@www.dsj.org
SUMMARY:Workshop on Catechesis for Persons with Disabilities
DESCRIPTION:Workshop on Catechesis for Persons with Disabilities \n\nPresenter: Consultants from Loyola Press\nFocus: Assist Catechists and Parents in understanding and serving children\, youth\, and adults with developmental disabilities.\nAudience: Catechetical Coordinators\, Catechists\, and Parents of Children with Disabilities\nPlace: St. Clare Parish\n\n725 Washington St \nSanta Clara\, CA 95050 \n\nDate: Saturday\, April 5\, 2025\nTime: 9:30 am Hospitality\n\n10:00 am – 11:00 am English Presentation \n11:00 am – Noon        Spanish Presentation
URL:https://www.dsj.org/event/workshop-on-catechesis-for-persons-with-disabilities/
LOCATION:Saint Clare Parish\, 725 Washington St.\, Santa Clara\, CA\, 95050\, United States
END:VEVENT
BEGIN:VEVENT
DTSTART;TZID=UTC:20250405T100000
DTEND;TZID=UTC:20250405T110000
DTSTAMP:20260420T055853
CREATED:20250310T030702Z
LAST-MODIFIED:20250310T030854Z
UID:10030141-1743847200-1743850800@www.dsj.org
SUMMARY:Ching Ming Rosary and Mass
DESCRIPTION:Join us as you remember your loved ones with the Rosary and Mass. \nChing Ming Rosary and Mass\, 4/5/25\, 10AM\, Gate of Heaven Cemetery
URL:https://www.dsj.org/event/ching-ming-rosary-and-mass/
LOCATION:Gate of Heaven Catholic Cemetery\, 22555 Cristo Rey Drive\, Los Altos\, CA\, 94024\, United States
CATEGORIES:Episcopal or other Special Mass
END:VEVENT
BEGIN:VEVENT
DTSTART;TZID=UTC:20250405T100000
DTEND;TZID=UTC:20250405T110000
DTSTAMP:20260420T055853
CREATED:20250324T170253Z
LAST-MODIFIED:20250324T170253Z
UID:10030160-1743847200-1743850800@www.dsj.org
SUMMARY:Workshop on Catechesis for persons with disabilities by DSJ Faith Formation  office
DESCRIPTION:On Sat\, April 5 join together at St. Clare Parish\, in the small hall\, for a Workshop for catechists and parents in understanding and serving each other with developmental disabilities. English session is 10-11am and Spanish session is 11-12pm. Consultants from Loyola Press will be presenting.\nRegister Today! Share this flyer with QR code registration
URL:https://www.dsj.org/event/workshop-on-catechesis-for-persons-with-disabilities-by-dsj-faith-formation-office/2025-04-05/1/
LOCATION:St. Clare Parish\, 725 Washington Street\, Santa Clara\, CA\, United States
CATEGORIES:Workshop
GEO:37.347712;-121.942632
X-APPLE-STRUCTURED-LOCATION;VALUE=URI;X-ADDRESS=St. Clare Parish 725 Washington Street Santa Clara CA United States;X-APPLE-RADIUS=500;X-TITLE=725 Washington Street:geo:-121.942632,37.347712
END:VEVENT
BEGIN:VEVENT
DTSTART;TZID=UTC:20250405T100000
DTEND;TZID=UTC:20250405T173000
DTSTAMP:20260420T055853
CREATED:20250313T233436Z
LAST-MODIFIED:20250313T233436Z
UID:10030151-1743847200-1743874200@www.dsj.org
SUMMARY:Young Adult mini Retreat with the Carmelites ~ Spring 25'
DESCRIPTION:Young Adult mini Retreat to deepen their faith with the Carmelite Spirituality ~ Spring 25′; April 5th\, 2025\, 10am – 5:30pm\, Santa Clara Carmelite Monastery (1000 Lincoln St\, Santa Clara\, CA 95050)\nRetreat Theme: LIVING CARMELITE INTIMACY with OUR MOTHER MARY: A silent retreat helping us discover the Marian spirituality and practices of the Carmelites to deepen our relationship with the Blessed Mother.\nREGISTER by Mar. 2nd\nhttps://tinyurl.com/OCD-Spring-2025
URL:https://www.dsj.org/event/young-adult-mini-retreat-with-the-carmelites-spring-25/
LOCATION:Carmelite Monastery of the Infant Jesus\, 1000 Lincoln Street\, Santa Clara\, CA\, 95050\, United States
CATEGORIES:Retreats
GEO:37.346886;-121.953181
X-APPLE-STRUCTURED-LOCATION;VALUE=URI;X-ADDRESS=Carmelite Monastery of the Infant Jesus 1000 Lincoln Street Santa Clara CA 95050 United States;X-APPLE-RADIUS=500;X-TITLE=1000 Lincoln Street:geo:-121.953181,37.346886
END:VEVENT
BEGIN:VEVENT
DTSTART;TZID=UTC:20250405T110000
DTEND;TZID=UTC:20250405T120000
DTSTAMP:20260420T055853
CREATED:20250324T170253Z
LAST-MODIFIED:20250324T170253Z
UID:10030161-1743850800-1743854400@www.dsj.org
SUMMARY:Workshop on Catechesis for persons with disabilities by DSJ Faith Formation  office
DESCRIPTION:On Sat\, April 5 join together at St. Clare Parish\, in the small hall\, for a Workshop for catechists and parents in understanding and serving each other with developmental disabilities. English session is 10-11am and Spanish session is 11-12pm. Consultants from Loyola Press will be presenting.\nRegister Today! Share this flyer with QR code registration
URL:https://www.dsj.org/event/workshop-on-catechesis-for-persons-with-disabilities-by-dsj-faith-formation-office/2025-04-05/2/
LOCATION:St. Clare Parish\, 725 Washington Street\, Santa Clara\, CA\, United States
CATEGORIES:Workshop
GEO:37.347712;-121.942632
X-APPLE-STRUCTURED-LOCATION;VALUE=URI;X-ADDRESS=St. Clare Parish 725 Washington Street Santa Clara CA United States;X-APPLE-RADIUS=500;X-TITLE=725 Washington Street:geo:-121.942632,37.347712
END:VEVENT
BEGIN:VEVENT
DTSTART;TZID=UTC:20250406T073000
DTEND;TZID=UTC:20250406T183000
DTSTAMP:20260420T055853
CREATED:20250302T213328Z
LAST-MODIFIED:20250302T213427Z
UID:10030124-1743924600-1743964200@www.dsj.org
SUMMARY:Weekend Healing Retreat
DESCRIPTION:Weekend Healing Retreat\, April 4-6\, 2025\, St. Joseph of Cupertino Church: April 4\, 3:30 p.m.-9:30 p.m..; April 5\, 7:30 a.m.-9:30 p.m.; April 6\, 7:30 a.m. – 6:30 p.m. \nLike so many in the Gospel\, in an atmosphere of prayer and adoration\, we encounter Jesus and courageously ask him for healing. Jesus comes and visits us in our woundedness. His simple presence transforms our darkness into light; the lies we believe about ourselves into truth; and the coldness of our isolation into the warmth of His love. Set free from lies\, resentment\, and self-reliance\, we can live in freedom to love God and neighbor. Do you want to be healed? \nClick here for more info and registration.
URL:https://www.dsj.org/event/weekend-healing-retreat/2025-04-06/
LOCATION:St. Joseph of Cupertino Parish\, 10110 N. De Anza Blvd.\, \, Cupertino\, CA\, 95014\, United States
CATEGORIES:Retreats
GEO:37.3242634;-122.0307695
X-APPLE-STRUCTURED-LOCATION;VALUE=URI;X-ADDRESS=St. Joseph of Cupertino Parish 10110 N. De Anza Blvd.  Cupertino CA 95014 United States;X-APPLE-RADIUS=500;X-TITLE=10110 N. De Anza Blvd.\,:geo:-122.0307695,37.3242634
END:VEVENT
END:VCALENDAR