BEGIN:VCALENDAR
VERSION:2.0
PRODID:-//Diocese of San Jose - ECPv6.15.20//NONSGML v1.0//EN
CALSCALE:GREGORIAN
METHOD:PUBLISH
X-WR-CALNAME:Diocese of San Jose
X-ORIGINAL-URL:https://www.dsj.org
X-WR-CALDESC:Events for Diocese of San Jose
REFRESH-INTERVAL;VALUE=DURATION:PT1H
X-Robots-Tag:noindex
X-PUBLISHED-TTL:PT1H
BEGIN:VTIMEZONE
TZID:UTC
BEGIN:STANDARD
TZOFFSETFROM:+0000
TZOFFSETTO:+0000
TZNAME:UTC
DTSTART:20250101T000000
END:STANDARD
END:VTIMEZONE
BEGIN:VEVENT
DTSTART;TZID=UTC:20260420T094500
DTEND;TZID=UTC:20260420T110000
DTSTAMP:20260420T025628
CREATED:20250829T225532Z
LAST-MODIFIED:20250829T225911Z
UID:10031572-1776678300-1776682800@www.dsj.org
SUMMARY:Braiding Together - exploring and learning about Native American history and culture.
DESCRIPTION:The Racial Justice and Social Healing Ministry within the Office of Life\, Justice\, and Peace invites you to explore and learn about Native American history and culture\, the recovery of the environment\, and opportunities for advocacy\, enlightenment and friendship.\nFor Zoom Meeting. ID and Passcode\, contact either Kathy Mattingly\, (669) 222-9418\, kat@kajon.com\, or Donna O’Connell\, (408) 658-2992\, wocdoc@sbcglobal.net \n10/20/2025\, 11/17/2025\, 12/15/2025\, 01/19/2026\, 02/16/2026\, 03/16/2026\, 04/20/2026\, 05/18/2026\, 06/15\,2026
URL:https://www.dsj.org/event/braiding-together-exploring-and-learning-about-native-american-history-and-culture/2026-04-20/
LOCATION:Zoom
CATEGORIES:Listening Session,Speakers
END:VEVENT
BEGIN:VEVENT
DTSTART;TZID=UTC:20260430T100000
DTEND;TZID=UTC:20260430T120000
DTSTAMP:20260420T025628
CREATED:20260407T025541Z
LAST-MODIFIED:20260407T025541Z
UID:10031883-1777543200-1777550400@www.dsj.org
SUMMARY:Neurographic Arts Workshop
DESCRIPTION:Dominican Sister Irene Mary Diones\, O.P. is offering a basic introductory class on Neurographic Art\, a 2014 method by Pavel Piskarev that uses freeform lines to engage the subconscious. This simple art-and-psychology process reduces stress\, supports clarity and transforms emotions into a unique work of art as individual as the artist. \nClick here for more info.
URL:https://www.dsj.org/event/neurographic-arts-workshop/
LOCATION:Dominican Center\, 43326 Mission Circle (entrance off Mission Tierra)\, Fremont\, CA\, 94539
CATEGORIES:Speakers
END:VEVENT
END:VCALENDAR