BEGIN:VCALENDAR
VERSION:2.0
PRODID:-//Diocese of San Jose - ECPv6.15.20//NONSGML v1.0//EN
CALSCALE:GREGORIAN
METHOD:PUBLISH
X-ORIGINAL-URL:https://www.dsj.org
X-WR-CALDESC:Events for Diocese of San Jose
REFRESH-INTERVAL;VALUE=DURATION:PT1H
X-Robots-Tag:noindex
X-PUBLISHED-TTL:PT1H
BEGIN:VTIMEZONE
TZID:UTC
BEGIN:STANDARD
TZOFFSETFROM:+0000
TZOFFSETTO:+0000
TZNAME:UTC
DTSTART:20240101T000000
END:STANDARD
END:VTIMEZONE
BEGIN:VEVENT
DTSTART;TZID=UTC:20250309T080000
DTEND;TZID=UTC:20250309T150000
DTSTAMP:20260419T195703
CREATED:20250221T235753Z
LAST-MODIFIED:20250221T235959Z
UID:10029741-1741507200-1741532400@www.dsj.org
SUMMARY:Christus Ministries Silent Retreat
DESCRIPTION:Are you looking to grow closer to God and find hope amidst the challenges and uncertainties of life? \nConsider coming to this four-day Ignatian Guided Silent Retreat designed to help young adults (20+) personalize and deepen their relationship with God. Each day consists of two conferences\, individual spiritual direction\, significant personal time for prayer and reflection\, and Mass. \n“There are so many ways to encounter God at the 38-acre Jesuit Retreat Center: in the beautiful chapel; along the wooded paths overlooking breathtaking mountain vistas; slowly making the Labyrinth and then visiting the nearby brook.” – Ellie Hidalgo \nWhen:  Thursday\, March 6 (4:00 pm) – Sunday\, March 9 (4:00 pm)\nCost:   $425 (see options below)  I  $439 (via PayPal)\nCost includes overnight lodging\, meals\, snacks\, & retreat materials.\n*Please input Silent Retreat NorCal in the memo of your payments.\n**A non-refundable $50 deposit is due at time of registration to secure a spot. Deposit will be applied to the total amount of the event. Balance due by 2/6. \n\nMarch 7-9\nJesuit Retreat Center of Los Altos\, 300 Manresa Way\, Los Altos\nhttps://www.christusministries.org/events/silent-mar
URL:https://www.dsj.org/event/christus-ministries-silent-retreat/2025-03-09/
LOCATION:The Jesuit Retreat Center of Los Altos\, 300 Manresa Way\, Los Altos\, CA\, 94022\, United States
CATEGORIES:Retreats
GEO:37.3695774;-122.1194926
X-APPLE-STRUCTURED-LOCATION;VALUE=URI;X-ADDRESS=The Jesuit Retreat Center of Los Altos 300 Manresa Way Los Altos CA 94022 United States;X-APPLE-RADIUS=500;X-TITLE=300 Manresa Way:geo:-122.1194926,37.3695774
END:VEVENT
BEGIN:VEVENT
DTSTART;TZID=UTC:20250309T160000
DTEND;TZID=UTC:20250309T170000
DTSTAMP:20260419T195703
CREATED:20241127T222831Z
LAST-MODIFIED:20250210T165338Z
UID:10028885-1741536000-1741539600@www.dsj.org
SUMMARY:Rite of Election
DESCRIPTION:
URL:https://www.dsj.org/event/rite-of-election-11/2025-03-09/1/
LOCATION:Cathedral Basilica of Saint Joseph\, 80 South Market St. \, San Jose\, CA\, 95113\, United States
CATEGORIES:Episcopal or other Special Mass
GEO:37.3341564;-121.8905406
X-APPLE-STRUCTURED-LOCATION;VALUE=URI;X-ADDRESS=Cathedral Basilica of Saint Joseph 80 South Market St.  San Jose CA 95113 United States;X-APPLE-RADIUS=500;X-TITLE=80 South Market St.:geo:-121.8905406,37.3341564
END:VEVENT
BEGIN:VEVENT
DTSTART;TZID=UTC:20250309T190000
DTEND;TZID=UTC:20250309T200000
DTSTAMP:20260419T195703
CREATED:20241127T222831Z
LAST-MODIFIED:20250210T165338Z
UID:10029659-1741546800-1741550400@www.dsj.org
SUMMARY:Rite of Election
DESCRIPTION:
URL:https://www.dsj.org/event/rite-of-election-11/2025-03-09/2/
LOCATION:Cathedral Basilica of Saint Joseph\, 80 South Market St. \, San Jose\, CA\, 95113\, United States
CATEGORIES:Episcopal or other Special Mass
GEO:37.3341564;-121.8905406
X-APPLE-STRUCTURED-LOCATION;VALUE=URI;X-ADDRESS=Cathedral Basilica of Saint Joseph 80 South Market St.  San Jose CA 95113 United States;X-APPLE-RADIUS=500;X-TITLE=80 South Market St.:geo:-121.8905406,37.3341564
END:VEVENT
BEGIN:VEVENT
DTSTART;TZID=UTC:20250309T190000
DTEND;TZID=UTC:20250309T200000
DTSTAMP:20260419T195703
CREATED:20250302T215246Z
LAST-MODIFIED:20250302T215246Z
UID:10030136-1741546800-1741550400@www.dsj.org
SUMMARY:Taizé Prayer Service and Adoration
DESCRIPTION:Taizé Prayer Service and Adoration\, Sunday\, March 9\, 7:00 PM\, St. Frances Cabrini Church\nAdoration of the Blessed Sacrament with song\, silence\, and short readings. \nThe St. Frances Cabrini Parish Youth Group invites the everyone to a Taizé Prayer Service and Adoration of the Blessed Sacrament on Sunday\, March 9 at 7:00 PM at St. Frances Cabrini Church. Taizé Prayer is a beautiful and meditative form of worship\, calling us to dwell deeply on Christ’s presence around and within us. Songs\, prayerful silence\, and short readings guide the prayer in a candle-lit environment.
URL:https://www.dsj.org/event/taize-prayer-service-and-adoration/
LOCATION:St. Frances Cabrini Parish\, 15333 Woodard Rd\, San Jose\, CA\, 95124\, United States
CATEGORIES:Adoration or Prayer
GEO:37.2605051;-121.937398
X-APPLE-STRUCTURED-LOCATION;VALUE=URI;X-ADDRESS=St. Frances Cabrini Parish 15333 Woodard Rd San Jose CA 95124 United States;X-APPLE-RADIUS=500;X-TITLE=15333 Woodard Rd:geo:-121.937398,37.2605051
END:VEVENT
END:VCALENDAR