BEGIN:VCALENDAR
VERSION:2.0
PRODID:-//Diocese of San Jose - ECPv6.15.20//NONSGML v1.0//EN
CALSCALE:GREGORIAN
METHOD:PUBLISH
X-ORIGINAL-URL:https://www.dsj.org
X-WR-CALDESC:Events for Diocese of San Jose
REFRESH-INTERVAL;VALUE=DURATION:PT1H
X-Robots-Tag:noindex
X-PUBLISHED-TTL:PT1H
BEGIN:VTIMEZONE
TZID:UTC
BEGIN:STANDARD
TZOFFSETFROM:+0000
TZOFFSETTO:+0000
TZNAME:UTC
DTSTART:20240101T000000
END:STANDARD
END:VTIMEZONE
BEGIN:VEVENT
DTSTART;TZID=UTC:20250301T083000
DTEND;TZID=UTC:20250301T143000
DTSTAMP:20260419T150725
CREATED:20250224T003812Z
LAST-MODIFIED:20250224T003812Z
UID:10030115-1740817800-1740839400@www.dsj.org
SUMMARY:Hearing the Voice of God with Fr. Albert Haase\, OFM
DESCRIPTION:Hearing the Voice of God Retreat with Fr. Albert Haase OFM\, March 1st\, 8:30AM-3:20PM\, Our Lady of the Rosary Hall (3233 Cowper St) \nJoin St. Thomas Aquinas Parish for a day retreat with Texas Priest Fr. Albert Haase on the theme “Hearing the Voice of God”! The day will begin with a welcome breakfast at 8:30 AM\, and later includes 3 talks by Fr. Haase\, as well as Mass at 12pm\, & time for confession & adoration at 2pm. Suggested donation is $10\, please bring a potluck dish for lunch! \nRSVP here.
URL:https://www.dsj.org/event/hearing-the-voice-of-god-with-fr-albert-haase-ofm/
LOCATION:Our Lady of the Rosary\, 3233 Cowper St.\, Palo Alto\, CA\, United States
CATEGORIES:Retreats
GEO:37.4265437;-122.1235658
X-APPLE-STRUCTURED-LOCATION;VALUE=URI;X-ADDRESS=Our Lady of the Rosary 3233 Cowper St. Palo Alto CA United States;X-APPLE-RADIUS=500;X-TITLE=3233 Cowper St.:geo:-122.1235658,37.4265437
END:VEVENT
BEGIN:VEVENT
DTSTART;TZID=UTC:20250301T090000
DTEND;TZID=UTC:20250301T120000
DTSTAMP:20260419T150725
CREATED:20250208T003725Z
LAST-MODIFIED:20250208T003739Z
UID:10029658-1740819600-1740830400@www.dsj.org
SUMMARY:Diocese of San Jose and Santa Clara University host Enlivening Prayer: The Creed
DESCRIPTION:March 1\, 9AM at Santa Teresa Parish join together for a workshop by Dr. Paul J. Schutz on The Creed: Proclaiming the Heart of Our Faith. This interactive workshop offered by the Santa Clara University Markey Center on the story of our Creed will help catechists\, catechumens\, and entire assemblies be more intentional in professing our faith! Click for information and share with friends and catechists. To RSVP click this SCU.edu link. \n \n 
URL:https://www.dsj.org/event/diocese-of-san-jose-and-santa-clara-university-host-enlivening-prayer-the-creed/
LOCATION:Santa Teresa Parish
CATEGORIES:Adoration or Prayer
GEO:37.242613;-121.847991
END:VEVENT
BEGIN:VEVENT
DTSTART;TZID=UTC:20250301T090000
DTEND;TZID=UTC:20250301T150000
DTSTAMP:20260419T150725
CREATED:20250224T002311Z
LAST-MODIFIED:20250224T002311Z
UID:10030111-1740819600-1740841200@www.dsj.org
SUMMARY:An Interior Pilgrimage in the Year of Hope\, with Mary
DESCRIPTION:An Interior Pilgrimage in the Year of Hope\, with Mary\nMarch 1\, 2025\, Saturday\n9:00am – 3:00pm\nMount Saint Joseph Carmelite Monastery\n12455 Clayton Rd\, San Jose\, CA 95127 \nFeatured Speaker: Fr. Julius Ntalo\, OCD.\nTime for Featured Talks\, Reflection\, Discussion\, Liturgy in a beautiful setting.\nFee: $50 per person – includes boxed lunch. Download flyer with registration form\n \n  \n  \n 
URL:https://www.dsj.org/event/an-interior-pilgrimage-in-the-year-of-hope-with-mary/
LOCATION:Mount Saint Joseph Carmelit Monastery\, 12455 Clayton Rd\, San Jose\, CA\, 95127\, United States
CATEGORIES:Pilgrimage
END:VEVENT
BEGIN:VEVENT
DTSTART;TZID=UTC:20250301T090000
DTEND;TZID=UTC:20250301T153000
DTSTAMP:20260419T150725
CREATED:20250117T194542Z
LAST-MODIFIED:20250117T194610Z
UID:10028904-1740819600-1740843000@www.dsj.org
SUMMARY:St. Catherine of Alexandria Women's Retreat
DESCRIPTION:Saturday\, March 1\, 2025 – 9:00 am to 3:30 pm\nSt. Catherine of Alexandria – O’Donnell Parish Center\nJoin award-winning author Liz Kelly for a day retreat based on her book Jesus Approaches. Explore how today’s women can find healing\, freedom\, and joy through the women of the New Testament. Reflect on their encounters with Jesus\, delve into Church teachings on women’s vocation\, and grow in prayer and connection to the Sacred Heart of Jesus. Strengthen your relationship with Christ and make the Gospel story your own. \nRegister here. Click here for more information.
URL:https://www.dsj.org/event/st-catherine-of-alexandria-womens-retreat/
LOCATION:St. Catherine – O’Donnell Parish Center\, 17400 Peak Avenue\, Morgan Hill\, CA\, 95037\, United States
CATEGORIES:Retreats
GEO:37.1247254;-121.6601863
X-APPLE-STRUCTURED-LOCATION;VALUE=URI;X-ADDRESS=St. Catherine – O’Donnell Parish Center 17400 Peak Avenue Morgan Hill CA 95037 United States;X-APPLE-RADIUS=500;X-TITLE=17400 Peak Avenue:geo:-121.6601863,37.1247254
END:VEVENT
BEGIN:VEVENT
DTSTART;TZID=UTC:20250301T100000
DTEND;TZID=UTC:20250301T120000
DTSTAMP:20260419T150725
CREATED:20250221T234820Z
LAST-MODIFIED:20250221T234820Z
UID:10029733-1740823200-1740830400@www.dsj.org
SUMMARY:Navigating Parenting with Joy and Purpose and Give Children a Compass for Life Long Flourishing
DESCRIPTION:March 1 from 10 a.m. – noon \n\nKaren Bohlin\, EdD\nSt. William Parish Event Hall\, 611 S. El Monte Avenue\, Los Altos\n$35/couple\, $20/person\nhttps://navigate-parenting.eventbrite.com
URL:https://www.dsj.org/event/navigating-parenting-with-joy-and-purpose-and-give-children-a-compass-for-life-long-flourishing/
LOCATION:St. William Church\, 611 S. El Monte Ave\, Los Altos\, CA\, 94022\, United States
CATEGORIES:Workshop
END:VEVENT
BEGIN:VEVENT
DTSTART;TZID=UTC:20250301T170000
DTEND;TZID=UTC:20250301T170000
DTSTAMP:20260419T150725
CREATED:20250215T011846Z
LAST-MODIFIED:20250215T012320Z
UID:10029665-1740848400-1740848400@www.dsj.org
SUMMARY:Ignatian Spiritual Exercises for Women
DESCRIPTION:IGNATIAN SPIRITUAL EXERCISES FOR WOMEN\, FEBRUARY 27-MARCH 2\, OUR LADY OF SANTA CLARA RETREAT CENTER \nGod is always calling us into a deeper relationship with Him—but how do we recognize that call\, and how do we respond? The Ignatian Spiritual Exercises provide a path to developing a discerning heart\, allowing you to align your life with Christ in the present while opening new possibilities for the future. Join us on this transformative retreat and discover a renewed way of living in faith. \nClick here for more info and register. \n \n 
URL:https://www.dsj.org/event/ignatian-spiritual-exercises-for-women/2025-03-01/
LOCATION:Our Lady of Santa Clara Retreat Center\, 33840 Mercedes Rd.\, Cupertino\, CA\, 95014\, United States
CATEGORIES:Retreats
END:VEVENT
END:VCALENDAR