BEGIN:VCALENDAR
VERSION:2.0
PRODID:-//Diocese of San Jose - ECPv6.15.20//NONSGML v1.0//EN
CALSCALE:GREGORIAN
METHOD:PUBLISH
X-ORIGINAL-URL:https://www.dsj.org
X-WR-CALDESC:Events for Diocese of San Jose
REFRESH-INTERVAL;VALUE=DURATION:PT1H
X-Robots-Tag:noindex
X-PUBLISHED-TTL:PT1H
BEGIN:VTIMEZONE
TZID:UTC
BEGIN:STANDARD
TZOFFSETFROM:+0000
TZOFFSETTO:+0000
TZNAME:UTC
DTSTART:20240101T000000
END:STANDARD
END:VTIMEZONE
BEGIN:VEVENT
DTSTART;TZID=UTC:20250222T080000
DTEND;TZID=UTC:20250222T123000
DTSTAMP:20260423T150517
CREATED:20250203T164826Z
LAST-MODIFIED:20250203T164826Z
UID:10029652-1740211200-1740227400@www.dsj.org
SUMMARY:Immaculée Ilibagiza Retreat "Love\, Hope and Forgiveness"
DESCRIPTION:Join Immaculée Ilibagiza on this beautiful occasion as she shares her messages of Love\, Hope\, & Forgiveness above all.  Come learn how Prayer works Miracles through Our Lady as she shares her love and knowledge of apparitions around the globe including Our Lady of Kibeho in her home country. This retreat includes Immaculee’s witness of the power of prayer\, miracles of the Rosary\, and inspirational music. No one will leave this retreat the same as when they came. \nFri\, Feb 21\, 2025\n4:00 p.m. – 5:00 p.m. – Doors Open / Fellowship / Registration 5:00 p.m. – 6:30 p.m. – Retreat Begins / Session 16:30 p.m. – 7:30 p.m. – Break/Book Signing 7:30 p.m. –  9:00 p.m. – Session 2\nSat\, Feb 22\, 2025       \n8:00 a.m. – Mass 9:00 a.m. – 10:30 a.m. – Session 3 – (Bring Flower from Home for Consecration to Mary)10:30 a.m. – 11:00 a.m. – Break/Book Signing 11:00 a.m. Session 4 \nClick here for more info and register.
URL:https://www.dsj.org/event/immaculee-ilibagiza-retreat-love-hope-and-forgiveness/2025-02-22/
LOCATION:CA
CATEGORIES:Retreats
END:VEVENT
BEGIN:VEVENT
DTSTART;TZID=UTC:20250222T093000
DTEND;TZID=UTC:20250222T153000
DTSTAMP:20260423T150517
CREATED:20250203T180655Z
LAST-MODIFIED:20250203T180655Z
UID:10029653-1740216600-1740238200@www.dsj.org
SUMMARY:Day of Renewal - Matters of the Heart
DESCRIPTION:Day of Renewal for Grieving Mothers and Grandmothers\nSaturday\, February 22\n9:30am – 3:30pm\nLos Altos Jesuit Retreat Center (El Retiro)\nHosted by Rita Morton and Fr. John Auther \nExperience how Perfect Love overcomes fear and deepens peace. Journey with grieving mothers through this gentle day of light\, renewal and restoration. Our full-day program will include a light breakfast reception\, intentionally designed initial session\, reflective time in nature\, connection with other grieving mothers\, a full lunch\, and experiential breakout sessions. We will end the day with a Memorial Mass in honor of our deceased children. \nClick here for information and Registration.
URL:https://www.dsj.org/event/day-of-renewal-matters-of-the-heart/
LOCATION:Jesuit Retreat Center\, 300 Manresa Way\, Los Altos\, CA\, 94022\, United States
CATEGORIES:Listening Session
GEO:37.3695774;-122.1194926
X-APPLE-STRUCTURED-LOCATION;VALUE=URI;X-ADDRESS=Jesuit Retreat Center 300 Manresa Way Los Altos CA 94022 United States;X-APPLE-RADIUS=500;X-TITLE=300 Manresa Way:geo:-122.1194926,37.3695774
END:VEVENT
BEGIN:VEVENT
DTSTART;TZID=UTC:20250222T170000
DTEND;TZID=UTC:20250222T170000
DTSTAMP:20260423T150517
CREATED:20250221T234225Z
LAST-MODIFIED:20250221T234240Z
UID:10029730-1740243600-1740243600@www.dsj.org
SUMMARY:Young Adult Swing Dance Workshop
DESCRIPTION:February 22 at 5 p.m. Vigil Mass at 5 p.m. Followed by potluck and lesson at 6 p.m \nCatholic Dance Crew \n\nSocial dance following the lesson\nSaint Simon Parish Gym\, 1860 Grant Road\, Los Altos\nCheck the Catholic Dance Crew’s Instagram bio for the signup sheet
URL:https://www.dsj.org/event/young-adult-swing-dance-workshop/
LOCATION:St. Simon Parish
CATEGORIES:Social
GEO:37.3472661;-122.078578
END:VEVENT
END:VCALENDAR