BEGIN:VCALENDAR
VERSION:2.0
PRODID:-//Diocese of San Jose - ECPv6.15.20//NONSGML v1.0//EN
CALSCALE:GREGORIAN
METHOD:PUBLISH
X-ORIGINAL-URL:https://www.dsj.org
X-WR-CALDESC:Events for Diocese of San Jose
REFRESH-INTERVAL;VALUE=DURATION:PT1H
X-Robots-Tag:noindex
X-PUBLISHED-TTL:PT1H
BEGIN:VTIMEZONE
TZID:UTC
BEGIN:STANDARD
TZOFFSETFROM:+0000
TZOFFSETTO:+0000
TZNAME:UTC
DTSTART:20240101T000000
END:STANDARD
END:VTIMEZONE
BEGIN:VEVENT
DTSTART;TZID=UTC:20250211T160000
DTEND;TZID=UTC:20250211T190000
DTSTAMP:20260420T011326
CREATED:20250118T203414Z
LAST-MODIFIED:20250118T203414Z
UID:10029643-1739289600-1739300400@www.dsj.org
SUMMARY:Help Drive Change at Top Golf
DESCRIPTION:Join us for the First Annual “Help Drive Change” event benefiting Catholic Charities of Santa Clara County!\nThis exciting and impactful gathering will provide a unique opportunity for guests to connect\, learn\, and make a lasting difference in our community. It’s the perfect event for families\, coworkers\, neighbors\, and church groups alike. Swing into action for an evening of socializing and friendly competition on the driving range! \nTuesday\, February 11th\, 4-7pm. \nClick here for more info. Click here to register.
URL:https://www.dsj.org/event/help-drive-change-at-top-golf/
LOCATION:Top Golf\, 10 Topgolf Dr\, San Jose\, CA\, 95002\, United States
CATEGORIES:Fundraiser
END:VEVENT
END:VCALENDAR