BEGIN:VCALENDAR
VERSION:2.0
PRODID:-//Diocese of San Jose - ECPv6.15.20//NONSGML v1.0//EN
CALSCALE:GREGORIAN
METHOD:PUBLISH
X-WR-CALNAME:Diocese of San Jose
X-ORIGINAL-URL:https://www.dsj.org
X-WR-CALDESC:Events for Diocese of San Jose
REFRESH-INTERVAL;VALUE=DURATION:PT1H
X-Robots-Tag:noindex
X-PUBLISHED-TTL:PT1H
BEGIN:VTIMEZONE
TZID:UTC
BEGIN:STANDARD
TZOFFSETFROM:+0000
TZOFFSETTO:+0000
TZNAME:UTC
DTSTART:20240101T000000
END:STANDARD
END:VTIMEZONE
BEGIN:VEVENT
DTSTART;TZID=UTC:20250115T130000
DTEND;TZID=UTC:20250117T150000
DTSTAMP:20260420T005139
CREATED:20241104T165840Z
LAST-MODIFIED:20241104T165840Z
UID:10026928-1736946000-1737126000@www.dsj.org
SUMMARY:Cathedral Basilica of St. Joseph Tour
DESCRIPTION:Enjoy a guided tour of St. Joseph’s Cathedral Basilica in downtown San Jose. Discover the statue carved from the mast of a ship\, who donated many stained glass windows and much more! Tours are Wednesday through Friday from 1-3pm. \n \n 
URL:https://www.dsj.org/event/cathedral-basilica-of-st-joseph-tour/2025-01-15/
LOCATION:CA
END:VEVENT
BEGIN:VEVENT
DTSTART;TZID=UTC:20250115T183000
DTEND;TZID=UTC:20250115T200000
DTSTAMP:20260420T005139
CREATED:20241209T162842Z
LAST-MODIFIED:20241211T163003Z
UID:10028892-1736965800-1736971200@www.dsj.org
SUMMARY:Liturgical Music Workshop
DESCRIPTION:Liturgical Music Workshop\, Saturday\, January 11\, 2025\, 9:00-12:00 and Wednesday\, January 15\, 2025\, 6:30-8:00\, Saint Catherine of Alexandria Parish. St. Catherine Parish in collaboration with St. Mary Parish-Gilroy will host this 2-day event. Sister Sharon McMillan\, SND\, will facilitate the workshop in the context of the Eucharistic Celebration. The topics for the workshop discussions will include serving as music ministers\, musical journey through the Mass\, and selecting liturgical music \nThis workshop is open to those currently involved in music ministry and those who are interested in joining music ministry in parishes throughout the Diocese of San Jose. There will be no cost to participants for this workshop. We only ask that each participant register using the QR code on the flyer so we know who to expect \nRegister here.
URL:https://www.dsj.org/event/liturgical-music-workshop-2/2025-01-15/
LOCATION:St. Catherine of Alexandria Parish\, 17400 Peak Ave.\, Morgan Hill\, CA\, 95037\, United States
CATEGORIES:Speakers,Workshop
GEO:37.1247254;-121.6601863
X-APPLE-STRUCTURED-LOCATION;VALUE=URI;X-ADDRESS=St. Catherine of Alexandria Parish 17400 Peak Ave. Morgan Hill CA 95037 United States;X-APPLE-RADIUS=500;X-TITLE=17400 Peak Ave.:geo:-121.6601863,37.1247254
END:VEVENT
BEGIN:VEVENT
DTSTART;TZID=UTC:20250115T183000
DTEND;TZID=UTC:20250115T200000
DTSTAMP:20260420T005139
CREATED:20250106T214236Z
LAST-MODIFIED:20250110T203237Z
UID:10028901-1736965800-1736971200@www.dsj.org
SUMMARY:Young Adult Assembly Reunion & Update
DESCRIPTION:We are looking forward to an engaging evening where you’ll receive updates on our Diocesan Pastoral Plan since the YA Assembly and have the opportunity to share your insights. \nWe are excited to let you know that we are opening this invitation to include all young adults in our diocese\, not just those who attended the Young Adult Assembly. So\, feel free to share the invitation with your friends and invite them to join. \nEvent Details: \n\nDate: Wednesday\, January 15\, 2025 .Please RSVP by January 11\, 2025\, by clicking here. \nTime: 6:30 PM\nLocation: St. Thomas of Canterbury Parish\, 1522 McCoy Ave\, San Jose\, CA 95130\n\nPlease RSVP clicking here \nWe hope you can join us for this meaningful gathering! \nLooking forward to seeing you there! \n \n 
URL:https://www.dsj.org/event/young-adult-assembly-reunion-update/
LOCATION:St. Thomas of Canterbury Parish\, 1522 McCoy Ave.\, San Jose\, CA\, 95130\, United States
GEO:37.276019;-121.979586
X-APPLE-STRUCTURED-LOCATION;VALUE=URI;X-ADDRESS=St. Thomas of Canterbury Parish 1522 McCoy Ave. San Jose CA 95130 United States;X-APPLE-RADIUS=500;X-TITLE=1522 McCoy Ave.:geo:-121.979586,37.276019
END:VEVENT
END:VCALENDAR