BEGIN:VCALENDAR
VERSION:2.0
PRODID:-//Diocese of San Jose - ECPv6.15.20//NONSGML v1.0//EN
CALSCALE:GREGORIAN
METHOD:PUBLISH
X-WR-CALNAME:Diocese of San Jose
X-ORIGINAL-URL:https://www.dsj.org
X-WR-CALDESC:Events for Diocese of San Jose
REFRESH-INTERVAL;VALUE=DURATION:PT1H
X-Robots-Tag:noindex
X-PUBLISHED-TTL:PT1H
BEGIN:VTIMEZONE
TZID:UTC
BEGIN:STANDARD
TZOFFSETFROM:+0000
TZOFFSETTO:+0000
TZNAME:UTC
DTSTART:20230101T000000
END:STANDARD
END:VTIMEZONE
BEGIN:VEVENT
DTSTART;TZID=UTC:20241216T183000
DTEND;TZID=UTC:20241216T203000
DTSTAMP:20260420T040000
CREATED:20240805T203610Z
LAST-MODIFIED:20241211T161446Z
UID:10026830-1734373800-1734381000@www.dsj.org
SUMMARY:Faith and Racial Justice: Changing Systems and Structures
DESCRIPTION:Join an 8 session JustFaith Ministries program to explore the key obstacles to racial justice that are embedded with our institutions\, systems and structures.\nprivilege manifests in our daily live.\n• Sessions include Racial Wealth Gap Simulation and tools to bring to our parishes and communities.\n• In-person Sessions hosted at St. Clare Parish held every other week on Mondays\, Sept 9 thru Dec 16 – 6:30pm to 8:30pm\n• RSVP to Kathy at kat@kajon.com. Requested tax deductible donation of $55 per person. Additional donation options are available. \nSee flyer for additional details.
URL:https://www.dsj.org/event/faith-and-racial-justice-changing-systems-and-structures-2024-12-16/
LOCATION:St. Clare Parish\, 725 Washington Street\, Santa Clara\, CA\, United States
CATEGORIES:Speakers
GEO:37.347712;-121.942632
X-APPLE-STRUCTURED-LOCATION;VALUE=URI;X-ADDRESS=St. Clare Parish 725 Washington Street Santa Clara CA United States;X-APPLE-RADIUS=500;X-TITLE=725 Washington Street:geo:-121.942632,37.347712
END:VEVENT
BEGIN:VEVENT
DTSTART;TZID=UTC:20241216T193000
DTEND;TZID=UTC:20241216T203000
DTSTAMP:20260420T040000
CREATED:20241125T171752Z
LAST-MODIFIED:20241125T171752Z
UID:10028483-1734377400-1734381000@www.dsj.org
SUMMARY:Season of Hope
DESCRIPTION:Season of Hope\nMonday\, December 16\, 2024. 7:30pm\nCathedral Basilica of St. Joseph\n80 S. Market St. San Jose\, CA. 95113\nSan Jose Symphonic Choir in Collaboration with Silicon Valley Arts Coalition presents\, Season of Hope.\nA free family-friendly performance of holiday treasures and musical treats benefitting Catholic Charities of Santa Clara county.
URL:https://www.dsj.org/event/season-of-hope-2/
LOCATION:Cathedral Basilica of Saint Joseph\, 80 South Market St. \, San Jose\, CA\, 95113\, United States
GEO:37.3341564;-121.8905406
X-APPLE-STRUCTURED-LOCATION;VALUE=URI;X-ADDRESS=Cathedral Basilica of Saint Joseph 80 South Market St.  San Jose CA 95113 United States;X-APPLE-RADIUS=500;X-TITLE=80 South Market St.:geo:-121.8905406,37.3341564
END:VEVENT
END:VCALENDAR