BEGIN:VCALENDAR
VERSION:2.0
PRODID:-//Diocese of San Jose - ECPv6.15.20//NONSGML v1.0//EN
CALSCALE:GREGORIAN
METHOD:PUBLISH
X-ORIGINAL-URL:https://www.dsj.org
X-WR-CALDESC:Events for Diocese of San Jose
REFRESH-INTERVAL;VALUE=DURATION:PT1H
X-Robots-Tag:noindex
X-PUBLISHED-TTL:PT1H
BEGIN:VTIMEZONE
TZID:UTC
BEGIN:STANDARD
TZOFFSETFROM:+0000
TZOFFSETTO:+0000
TZNAME:UTC
DTSTART:20230101T000000
END:STANDARD
END:VTIMEZONE
BEGIN:VEVENT
DTSTART;TZID=UTC:20241123T090000
DTEND;TZID=UTC:20241124T140000
DTSTAMP:20260424T114347
CREATED:20240930T153845Z
LAST-MODIFIED:20241202T234926Z
UID:10026862-1732352400-1732456800@www.dsj.org
SUMMARY:Bridges Young Adult Basketball Tournament Fundraiser
DESCRIPTION:Dates: Nov 23-24\, all day\nLocation: Community Center at St. Lawrence the Martyr Parish\, 1971 St. Lawrence Dr. Santa Clara\nHosted by: Bridges Young Adult Ministry of St. Lawrence the Martyr Parish\nKatrina & Bryan Ballesteros \nFirst 8 teams to register at https://docs.google.com/forms/d/e/1FAIpQLSf5pOSNu2CYXg7cthxfkgNslHgZrcIKNe8HZtRV6zhCAIw7tw/viewform will be accepted\, others will be waitlisted but not guaranteed a spot. Registration is $300/team. General admission tickets are $5/person and will be sold at the door.
URL:https://www.dsj.org/event/bridges-young-adult-basketball-tournament-fundraiser/
LOCATION:St. Lawrence the Martyr Parish
GEO:37.3580106;-121.9947547
END:VEVENT
BEGIN:VEVENT
DTSTART;TZID=UTC:20241124T093000
DTEND;TZID=UTC:20241124T230000
DTSTAMP:20260424T114347
CREATED:20240916T234518Z
LAST-MODIFIED:20241114T194000Z
UID:10024080-1732440600-1732489200@www.dsj.org
SUMMARY:Mass of Remembrance for Families and Victims of Violence
DESCRIPTION:Sunday\, November 24\, 2024\n9:30 AM – 11:00 AM \nNovember marks Restorative Justice Month\, a sacred time for us to come together in reflection and prayer. This month\, we honor the transformative work of the Restorative Justice Ministry and all those touched by its mission – victims\, offenders\, family members\, and our broader community. \nLet us use this time to deepen our commitment to healing\, reconciliation\, and justice. Together\, we can foster a community where every voice is heard\, every wound is tended to\, and every soul finds peace. This Mass is offered for all those involved in lethal violence during 2024 to date – victims\, perpetrators\, and their families and friends\, all of whom have been invited to this Mass.  We offer a special remembrance for the souls who have departed before God’s timing called to them\, and ask for His healing mercy. \nPlease join us with prayer in this Mass as we remember the family and victims of violence this year. \n \nLocation: Christ the King Catholic Church\, 5284 Monterey Hwy\, San Jose\, CA 95111\, United States
URL:https://www.dsj.org/event/mrfvv24/
LOCATION:Christ the King Parish\, 5284 Monterey Road\, San Jose\, CA\, 95111\, United States
GEO:37.2594733;-121.8085461
X-APPLE-STRUCTURED-LOCATION;VALUE=URI;X-ADDRESS=Christ the King Parish 5284 Monterey Road San Jose CA 95111 United States;X-APPLE-RADIUS=500;X-TITLE=5284 Monterey Road:geo:-121.8085461,37.2594733
END:VEVENT
BEGIN:VEVENT
DTSTART;TZID=UTC:20241124T143000
DTEND;TZID=UTC:20241124T153000
DTSTAMP:20260424T114347
CREATED:20241112T023356Z
LAST-MODIFIED:20241112T023613Z
UID:10027729-1732458600-1732462200@www.dsj.org
SUMMARY:St. Joseph Parish Eucharistic Procession on the Solemnity of Christ The King
DESCRIPTION:Eucharistic Procession on the Solemnity of Christ The King\, around downtown Mountain View\nSunday\, November 24\, 2024 at 2:30PM\nWe will gather in front of the church (582 Hope Street\, Mountain View)
URL:https://www.dsj.org/event/st-joseph-parish-eucharistic-procession-on-the-solemnity-of-christ-the-king/
LOCATION:St. Joseph Parish\, Mountain View\, 582 Hope Street\, Mountain View\, CA\, 94041\, United States
GEO:37.3880692;-122.081292
X-APPLE-STRUCTURED-LOCATION;VALUE=URI;X-ADDRESS=St. Joseph Parish Mountain View 582 Hope Street Mountain View CA 94041 United States;X-APPLE-RADIUS=500;X-TITLE=582 Hope Street:geo:-122.081292,37.3880692
END:VEVENT
END:VCALENDAR