BEGIN:VCALENDAR
VERSION:2.0
PRODID:-//Diocese of San Jose - ECPv6.15.20//NONSGML v1.0//EN
CALSCALE:GREGORIAN
METHOD:PUBLISH
X-ORIGINAL-URL:https://www.dsj.org
X-WR-CALDESC:Events for Diocese of San Jose
REFRESH-INTERVAL;VALUE=DURATION:PT1H
X-Robots-Tag:noindex
X-PUBLISHED-TTL:PT1H
BEGIN:VTIMEZONE
TZID:UTC
BEGIN:STANDARD
TZOFFSETFROM:+0000
TZOFFSETTO:+0000
TZNAME:UTC
DTSTART:20210101T000000
END:STANDARD
END:VTIMEZONE
BEGIN:VTIMEZONE
TZID:America/Los_Angeles
BEGIN:DAYLIGHT
TZOFFSETFROM:-0800
TZOFFSETTO:-0700
TZNAME:PDT
DTSTART:20210314T100000
END:DAYLIGHT
BEGIN:STANDARD
TZOFFSETFROM:-0700
TZOFFSETTO:-0800
TZNAME:PST
DTSTART:20211107T090000
END:STANDARD
BEGIN:DAYLIGHT
TZOFFSETFROM:-0800
TZOFFSETTO:-0700
TZNAME:PDT
DTSTART:20220313T100000
END:DAYLIGHT
BEGIN:STANDARD
TZOFFSETFROM:-0700
TZOFFSETTO:-0800
TZNAME:PST
DTSTART:20221106T090000
END:STANDARD
BEGIN:DAYLIGHT
TZOFFSETFROM:-0800
TZOFFSETTO:-0700
TZNAME:PDT
DTSTART:20230312T100000
END:DAYLIGHT
BEGIN:STANDARD
TZOFFSETFROM:-0700
TZOFFSETTO:-0800
TZNAME:PST
DTSTART:20231105T090000
END:STANDARD
END:VTIMEZONE
BEGIN:VEVENT
DTSTART;VALUE=DATE:20220603
DTEND;VALUE=DATE:20220606
DTSTAMP:20260422T194135
CREATED:20210510T165636Z
LAST-MODIFIED:20210510T165636Z
UID:10024973-1654214400-1654473599@www.dsj.org
SUMMARY:Retrouvaille of San Jose/Silicon Valley Virtual Marriage Program
DESCRIPTION:You Can Help Your Marriage – Do you feel alone? Are you frustrated or angry with each other? Do you argue … or have you just stopped talking to each other? This program has helped 10’s of 1000’s of couples experiencing difficulties in their marriage. The Virtual Retrouvaille Marriage Programs Mission\, approx.48 hours of presentation\, is to help hurting marriages heal\, and bring peace to families\, The program consists of a weekend presented by 3 couples and a Priest\, including 6 Sat. post session \nBulletin-Anouncement-Flyer-6-24-21.pdf
URL:https://www.dsj.org/event/retrouvaille-of-san-jose-silicon-valley-virtual-marriage-program-2/2022-06-03/
LOCATION:Virtual
END:VEVENT
BEGIN:VEVENT
DTSTART;VALUE=DATE:20220604
DTEND;VALUE=DATE:20220607
DTSTAMP:20260422T194135
CREATED:20210510T165636Z
LAST-MODIFIED:20210510T165636Z
UID:10024974-1654300800-1654559999@www.dsj.org
SUMMARY:Retrouvaille of San Jose/Silicon Valley Virtual Marriage Program
DESCRIPTION:You Can Help Your Marriage – Do you feel alone? Are you frustrated or angry with each other? Do you argue … or have you just stopped talking to each other? This program has helped 10’s of 1000’s of couples experiencing difficulties in their marriage. The Virtual Retrouvaille Marriage Programs Mission\, approx.48 hours of presentation\, is to help hurting marriages heal\, and bring peace to families\, The program consists of a weekend presented by 3 couples and a Priest\, including 6 Sat. post session \nBulletin-Anouncement-Flyer-6-24-21.pdf
URL:https://www.dsj.org/event/retrouvaille-of-san-jose-silicon-valley-virtual-marriage-program-2/2022-06-04/
LOCATION:Virtual
END:VEVENT
BEGIN:VEVENT
DTSTART;VALUE=DATE:20220605
DTEND;VALUE=DATE:20220608
DTSTAMP:20260422T194135
CREATED:20210510T165636Z
LAST-MODIFIED:20210510T165636Z
UID:10024975-1654387200-1654646399@www.dsj.org
SUMMARY:Retrouvaille of San Jose/Silicon Valley Virtual Marriage Program
DESCRIPTION:You Can Help Your Marriage – Do you feel alone? Are you frustrated or angry with each other? Do you argue … or have you just stopped talking to each other? This program has helped 10’s of 1000’s of couples experiencing difficulties in their marriage. The Virtual Retrouvaille Marriage Programs Mission\, approx.48 hours of presentation\, is to help hurting marriages heal\, and bring peace to families\, The program consists of a weekend presented by 3 couples and a Priest\, including 6 Sat. post session \nBulletin-Anouncement-Flyer-6-24-21.pdf
URL:https://www.dsj.org/event/retrouvaille-of-san-jose-silicon-valley-virtual-marriage-program-2/2022-06-05/
LOCATION:Virtual
END:VEVENT
BEGIN:VEVENT
DTSTART;TZID=UTC:20220605T130000
DTEND;TZID=UTC:20220605T140000
DTSTAMP:20260422T194135
CREATED:20220527T231619Z
LAST-MODIFIED:20220527T231619Z
UID:10026133-1654434000-1654437600@www.dsj.org
SUMMARY:Hear & Be Heard Listening Session – Mental Health Ministry
DESCRIPTION:Hear & Be Heard Listening Session – Mental Health Ministry. Santa Teresa Church. June 5 at 1:00 pm gather at Santa Teresa Church for this helpful listening sessions. The goal is to provide a safe\, supportive space to help ensure that no one feels alone in their struggle. Sharing each other’s stories can be a liberating and welcome break in the silence that surrounds mental health challenges. You’re invited to Hear and Be Heard in this safe\, confidential\, and non-judgmental environment. Let this supportive community decrease isolation and stigma. Open to ages 16+.
URL:https://www.dsj.org/event/hear-be-heard-listening-session-mental-health-ministry/
LOCATION:CA
END:VEVENT
BEGIN:VEVENT
DTSTART;TZID=America/Los_Angeles:20220605T171500
DTEND;TZID=America/Los_Angeles:20220605T181500
DTSTAMP:20260422T194135
CREATED:20160111T085827Z
LAST-MODIFIED:20210825T155529Z
UID:10021267-1654449300-1654452900@www.dsj.org
SUMMARY:CRS Rice Bowl Personal Testimony - Thomas Awiapo
DESCRIPTION:Don’t miss dynamic Thomas Awiapo\, CRS Director – Africa\, telling his powerful true story of heartbreak\, loss and hope.\nFebruary 20:   St. John Vianney: Saturday Masses (5:15pm\, 7pm – Spanish)\nFebruary 21:   St. John Vianney: All Masses (7:30am\, 9am\, 10:30am\, 12pm – Spanish\, 6pm)\nFebruary 22:   Bellarmine College Prep: (11:20am) School Assembly\nFebruary 22:   St. Simon: (1:30pm) School Assembly\nFebruary 22:   St. Lawrence Parish & Schools: CRS Lenten Prayer Service (7pm) All Are Welcome\n\n– Learn about RICE BOWL and make the connection between your spare change and changing people’s lives. \n– Purchase FAIR TRADE foods and gifts from WORK OF HUMAN HANDS\n– Learn about the CRS Global Mission \nCRS Thomas Awiapo Flyer
URL:https://www.dsj.org/event/crs-rice-bowl-personal-testimony-thomas-awiapo-3/2022-06-05/
LOCATION:St. John Vianney Parish\, 4600 Hyland Avenue\, San Jose\, CA\, United States
GEO:37.3713341;-121.8263161
X-APPLE-STRUCTURED-LOCATION;VALUE=URI;X-ADDRESS=St. John Vianney Parish 4600 Hyland Avenue San Jose CA United States;X-APPLE-RADIUS=500;X-TITLE=4600 Hyland Avenue:geo:-121.8263161,37.3713341
END:VEVENT
END:VCALENDAR