BEGIN:VCALENDAR
VERSION:2.0
PRODID:-//Diocese of San Jose - ECPv6.15.20//NONSGML v1.0//EN
CALSCALE:GREGORIAN
METHOD:PUBLISH
X-WR-CALNAME:Diocese of San Jose
X-ORIGINAL-URL:https://www.dsj.org
X-WR-CALDESC:Events for Diocese of San Jose
REFRESH-INTERVAL;VALUE=DURATION:PT1H
X-Robots-Tag:noindex
X-PUBLISHED-TTL:PT1H
BEGIN:VTIMEZONE
TZID:America/Los_Angeles
BEGIN:DAYLIGHT
TZOFFSETFROM:-0800
TZOFFSETTO:-0700
TZNAME:PDT
DTSTART:20150308T100000
END:DAYLIGHT
BEGIN:STANDARD
TZOFFSETFROM:-0700
TZOFFSETTO:-0800
TZNAME:PST
DTSTART:20151101T090000
END:STANDARD
BEGIN:DAYLIGHT
TZOFFSETFROM:-0800
TZOFFSETTO:-0700
TZNAME:PDT
DTSTART:20160313T100000
END:DAYLIGHT
BEGIN:STANDARD
TZOFFSETFROM:-0700
TZOFFSETTO:-0800
TZNAME:PST
DTSTART:20161106T090000
END:STANDARD
BEGIN:DAYLIGHT
TZOFFSETFROM:-0800
TZOFFSETTO:-0700
TZNAME:PDT
DTSTART:20170312T100000
END:DAYLIGHT
BEGIN:STANDARD
TZOFFSETFROM:-0700
TZOFFSETTO:-0800
TZNAME:PST
DTSTART:20171105T090000
END:STANDARD
END:VTIMEZONE
BEGIN:VEVENT
DTSTART;VALUE=DATE:20161007
DTEND;VALUE=DATE:20161010
DTSTAMP:20260419T132310
CREATED:20161003T075528Z
LAST-MODIFIED:20161003T075528Z
UID:10022370-1475798400-1476057599@www.dsj.org
SUMMARY:St. Lucy Food and Fun Fest 2016
DESCRIPTION:Come enjoy a weekend filled with live music\, gourmet food\, carnival rides\, games\, and a wonderful silent auction. Admission is free! This annual community festival is fun for all ages. See the glow of the Ferris Wheel! Hear the screams from the Zipper and laughter from the Super Slide! Smell and enjoy the BBQ\, or feast on fried calamari and homemade apple pie! Don’t miss the live entertainment all weekend long!\n Fun Fest Hours: \nFriday\, October 7th: 4:30pm – 10:30pm\nSaturday\, October 8th: 10:30am – 10:30pm\nSunday\, October 9th: 12:00pm – 6:00pm\nVisit stlucyschool.org for more information.
URL:https://www.dsj.org/event/st-lucy-food-fun-fest-2016/
LOCATION:St. Lucy School\, 76 Kennedy Avenue\, Campbell\, CA\, 95008\, United States
GEO:37.2819316;-121.948533
X-APPLE-STRUCTURED-LOCATION;VALUE=URI;X-ADDRESS=St. Lucy School 76 Kennedy Avenue Campbell CA 95008 United States;X-APPLE-RADIUS=500;X-TITLE=76 Kennedy Avenue:geo:-121.948533,37.2819316
END:VEVENT
BEGIN:VEVENT
DTSTART;TZID=America/Los_Angeles:20161007T171500
DTEND;TZID=America/Los_Angeles:20161007T181500
DTSTAMP:20260419T132310
CREATED:20160111T085827Z
LAST-MODIFIED:20210825T155529Z
UID:10019200-1475860500-1475864100@www.dsj.org
SUMMARY:CRS Rice Bowl Personal Testimony - Thomas Awiapo
DESCRIPTION:Don’t miss dynamic Thomas Awiapo\, CRS Director – Africa\, telling his powerful true story of heartbreak\, loss and hope.\nFebruary 20:   St. John Vianney: Saturday Masses (5:15pm\, 7pm – Spanish)\nFebruary 21:   St. John Vianney: All Masses (7:30am\, 9am\, 10:30am\, 12pm – Spanish\, 6pm)\nFebruary 22:   Bellarmine College Prep: (11:20am) School Assembly\nFebruary 22:   St. Simon: (1:30pm) School Assembly\nFebruary 22:   St. Lawrence Parish & Schools: CRS Lenten Prayer Service (7pm) All Are Welcome\n\n– Learn about RICE BOWL and make the connection between your spare change and changing people’s lives. \n– Purchase FAIR TRADE foods and gifts from WORK OF HUMAN HANDS\n– Learn about the CRS Global Mission \nCRS Thomas Awiapo Flyer
URL:https://www.dsj.org/event/crs-rice-bowl-personal-testimony-thomas-awiapo-3/2016-10-07/
LOCATION:St. John Vianney Parish\, 4600 Hyland Avenue\, San Jose\, CA\, United States
GEO:37.3713341;-121.8263161
X-APPLE-STRUCTURED-LOCATION;VALUE=URI;X-ADDRESS=St. John Vianney Parish 4600 Hyland Avenue San Jose CA United States;X-APPLE-RADIUS=500;X-TITLE=4600 Hyland Avenue:geo:-121.8263161,37.3713341
END:VEVENT
END:VCALENDAR