BEGIN:VCALENDAR
VERSION:2.0
PRODID:-//Diocese of San Jose - ECPv6.15.20//NONSGML v1.0//EN
CALSCALE:GREGORIAN
METHOD:PUBLISH
X-ORIGINAL-URL:https://www.dsj.org
X-WR-CALDESC:Events for Diocese of San Jose
REFRESH-INTERVAL;VALUE=DURATION:PT1H
X-Robots-Tag:noindex
X-PUBLISHED-TTL:PT1H
BEGIN:VTIMEZONE
TZID:America/Los_Angeles
BEGIN:DAYLIGHT
TZOFFSETFROM:-0800
TZOFFSETTO:-0700
TZNAME:PDT
DTSTART:20140309T100000
END:DAYLIGHT
BEGIN:STANDARD
TZOFFSETFROM:-0700
TZOFFSETTO:-0800
TZNAME:PST
DTSTART:20141102T090000
END:STANDARD
BEGIN:DAYLIGHT
TZOFFSETFROM:-0800
TZOFFSETTO:-0700
TZNAME:PDT
DTSTART:20150308T100000
END:DAYLIGHT
BEGIN:STANDARD
TZOFFSETFROM:-0700
TZOFFSETTO:-0800
TZNAME:PST
DTSTART:20151101T090000
END:STANDARD
BEGIN:DAYLIGHT
TZOFFSETFROM:-0800
TZOFFSETTO:-0700
TZNAME:PDT
DTSTART:20160313T100000
END:DAYLIGHT
BEGIN:STANDARD
TZOFFSETFROM:-0700
TZOFFSETTO:-0800
TZNAME:PST
DTSTART:20161106T090000
END:STANDARD
END:VTIMEZONE
BEGIN:VEVENT
DTSTART;TZID=America/Los_Angeles:20151031T090000
DTEND;TZID=America/Los_Angeles:20151031T110000
DTSTAMP:20260424T101214
CREATED:20150925T101636Z
LAST-MODIFIED:20210825T021207Z
UID:10018884-1446282000-1446289200@www.dsj.org
SUMMARY:Detention Ministry Volunteer Training
DESCRIPTION:The next training for Detention Ministry volunteers will take place on Saturday\,   October 31\, 2015 at the Chancery from 9:00 until 11:00. \nThis session will be for new volunteers only. So if you are trying to decide if this ministry is for you\,   please come and find out! \nThe training will focus on the requirements for detention ministry\, the security procedures\, and role as ministers within this environment. \nIf you are interested in attending on this day\, please register by contacting Sister Maryann Cantlon at mcantlon@dsj.org or at (408) 983-0131.
URL:https://www.dsj.org/event/detention-ministry-volunteer-training-2/
LOCATION:Diocese of San Jose – Chancery Office\, 1150 N. First St.\, Ste. 100\, San Jose\, CA\, 95112\, United States
GEO:37.3580092;-121.906728
X-APPLE-STRUCTURED-LOCATION;VALUE=URI;X-ADDRESS=Diocese of San Jose – Chancery Office 1150 N. First St. Ste. 100 San Jose CA 95112 United States;X-APPLE-RADIUS=500;X-TITLE=1150 N. First St.\, Ste. 100:geo:-121.906728,37.3580092
END:VEVENT
BEGIN:VEVENT
DTSTART;TZID=America/Los_Angeles:20151031T110000
DTEND;TZID=America/Los_Angeles:20151031T150000
DTSTAMP:20260424T101214
CREATED:20151006T152849Z
LAST-MODIFIED:20151006T152849Z
UID:10018892-1446289200-1446303600@www.dsj.org
SUMMARY:Dia de Los Muertos
DESCRIPTION:Calvary Catholic Cemetery celebrates Dia de Los Muertos (Day of the Dead) October 31\,   2015\, 11am – 3pm. Join us for a cultural and spiritual celebration to remember deceased relatives and friends at one of San Jose’s premier Day of the Dead events! \nThis event is FREE and open to the public. * Ritual\,   Music and Dance * Free Children’s Crafts and Bounce House * Community Altar for attendees to place photos and memorabilia * Food\,   vendor arts and crafts\, face painting may be purchased * Costume parade at 11:45AM\, trick or treating \nFor more information about the event\, please contact cemeteryinfo@dsj.org or 650-428-3730 x504 \nClick here to download a flyer.
URL:https://www.dsj.org/event/dia-de-los-muertos/
LOCATION:Calvary Catholic Cemetery\, 2650 Madden Avenue\, San Jose\, CA\, 95116\, United States
ORGANIZER;CN="Catholic Cemeteries":MAILTO:cemeteryinfo@dsj.org
GEO:37.36432;-121.838848
X-APPLE-STRUCTURED-LOCATION;VALUE=URI;X-ADDRESS=Calvary Catholic Cemetery 2650 Madden Avenue San Jose CA 95116 United States;X-APPLE-RADIUS=500;X-TITLE=2650 Madden Avenue:geo:-121.838848,37.36432
END:VEVENT
END:VCALENDAR