BEGIN:VCALENDAR
VERSION:2.0
PRODID:-//Diocese of San Jose - ECPv6.15.20//NONSGML v1.0//EN
CALSCALE:GREGORIAN
METHOD:PUBLISH
X-WR-CALNAME:Diocese of San Jose
X-ORIGINAL-URL:https://www.dsj.org
X-WR-CALDESC:Events for Diocese of San Jose
REFRESH-INTERVAL;VALUE=DURATION:PT1H
X-Robots-Tag:noindex
X-PUBLISHED-TTL:PT1H
BEGIN:VTIMEZONE
TZID:America/Los_Angeles
BEGIN:DAYLIGHT
TZOFFSETFROM:-0800
TZOFFSETTO:-0700
TZNAME:PDT
DTSTART:20140309T100000
END:DAYLIGHT
BEGIN:STANDARD
TZOFFSETFROM:-0700
TZOFFSETTO:-0800
TZNAME:PST
DTSTART:20141102T090000
END:STANDARD
BEGIN:DAYLIGHT
TZOFFSETFROM:-0800
TZOFFSETTO:-0700
TZNAME:PDT
DTSTART:20150308T100000
END:DAYLIGHT
BEGIN:STANDARD
TZOFFSETFROM:-0700
TZOFFSETTO:-0800
TZNAME:PST
DTSTART:20151101T090000
END:STANDARD
BEGIN:DAYLIGHT
TZOFFSETFROM:-0800
TZOFFSETTO:-0700
TZNAME:PDT
DTSTART:20160313T100000
END:DAYLIGHT
BEGIN:STANDARD
TZOFFSETFROM:-0700
TZOFFSETTO:-0800
TZNAME:PST
DTSTART:20161106T090000
END:STANDARD
END:VTIMEZONE
BEGIN:VEVENT
DTSTART;TZID=America/Los_Angeles:20151009T150000
DTEND;TZID=America/Los_Angeles:20151009T170000
DTSTAMP:20260419T121931
CREATED:20151007T092233Z
LAST-MODIFIED:20151007T092233Z
UID:10018896-1444402800-1444410000@www.dsj.org
SUMMARY:Ethics in Journalism: Reporting on Human Trafficking
DESCRIPTION:  Join Martha Mendoza\,   a Pulitzer-Prize winning AP reporter\, for a discussion on the ethical issues that arise when reporting on human trafficking. \nMendoza will share experiences from her widely praised reporting on modern slavery on fishing vessels and in slavery hotspots\,   such as Malaysia and Thailand. Connect with leading anti-slavery organizations\, including Polaris\, Free the Slaves\,   Walk Free\, GoodWeave\, CIW\, the South Bay Coalition to End Human Trafficking\, and others as they explore questions such as how does a reporter navigate publishing a story on slaves while the slaves are still being held captive? Or should an expose on a company’s supply chain go to print despite concerns that it could impede progress? \nThese questions and more will be explored\, followed by an audience Q&A.Email katherine.carey@freetheslaves.net for more information. \nClick here to download the flyer to print and share with your contacts.
URL:https://www.dsj.org/event/ethics-in-journalism-reporting-on-human-trafficking/
LOCATION:Stanford University\, Bechtel Conference Center\, Encina Hall\, CA
GEO:36.778261;-119.4179324
END:VEVENT
BEGIN:VEVENT
DTSTART;TZID=America/Los_Angeles:20151009T170000
DTEND;TZID=America/Los_Angeles:20151009T220000
DTSTAMP:20260419T121931
CREATED:20151001T142916Z
LAST-MODIFIED:20151001T142916Z
UID:10018387-1444410000-1444428000@www.dsj.org
SUMMARY:St. Mary's Annual Country Fair
DESCRIPTION:St. Mary’s of the Immaculate Conception in downtown Los Gatos hosts its annual Country Fair every October. The event has become a much anticipated annual tradition for the entire community. \nAdmission is FREE and the event is open to everyone! Tickets for rides and food can be purchased in advanced or at the fair. \nThere is something for everyone at the Fair! Highlights: – Food & Drink booths – Carnival Rides – Games – Nightly bands – Vendor Show – Country Store – Raffles\, including a car raffle – Entertainment throughout the day – Bingo – Cake Walk – Pancake Breakfast – Petting Zoo & much more! \nSee the website for up to date information about the fair: stmarysfair.squarespace.com
URL:https://www.dsj.org/event/st-marys-annual-country-fair/
LOCATION:St. Mary of the Immaculate Conception\, 219 Bean Avenue\, Los Gatos\, CA\, United States
GEO:37.2249394;-121.9845843
X-APPLE-STRUCTURED-LOCATION;VALUE=URI;X-ADDRESS=St. Mary of the Immaculate Conception 219 Bean Avenue Los Gatos CA United States;X-APPLE-RADIUS=500;X-TITLE=219 Bean Avenue:geo:-121.9845843,37.2249394
END:VEVENT
END:VCALENDAR