BEGIN:VCALENDAR
VERSION:2.0
PRODID:-//Diocese of San Jose - ECPv6.15.20//NONSGML v1.0//EN
CALSCALE:GREGORIAN
METHOD:PUBLISH
X-WR-CALNAME:Diocese of San Jose
X-ORIGINAL-URL:https://www.dsj.org
X-WR-CALDESC:Events for Diocese of San Jose
REFRESH-INTERVAL;VALUE=DURATION:PT1H
X-Robots-Tag:noindex
X-PUBLISHED-TTL:PT1H
BEGIN:VTIMEZONE
TZID:America/Los_Angeles
BEGIN:DAYLIGHT
TZOFFSETFROM:-0800
TZOFFSETTO:-0700
TZNAME:PDT
DTSTART:20130310T100000
END:DAYLIGHT
BEGIN:STANDARD
TZOFFSETFROM:-0700
TZOFFSETTO:-0800
TZNAME:PST
DTSTART:20131103T090000
END:STANDARD
BEGIN:DAYLIGHT
TZOFFSETFROM:-0800
TZOFFSETTO:-0700
TZNAME:PDT
DTSTART:20140309T100000
END:DAYLIGHT
BEGIN:STANDARD
TZOFFSETFROM:-0700
TZOFFSETTO:-0800
TZNAME:PST
DTSTART:20141102T090000
END:STANDARD
BEGIN:DAYLIGHT
TZOFFSETFROM:-0800
TZOFFSETTO:-0700
TZNAME:PDT
DTSTART:20150308T100000
END:DAYLIGHT
BEGIN:STANDARD
TZOFFSETFROM:-0700
TZOFFSETTO:-0800
TZNAME:PST
DTSTART:20151101T090000
END:STANDARD
END:VTIMEZONE
BEGIN:VEVENT
DTSTART;TZID=America/Los_Angeles:20140301T093000
DTEND;TZID=America/Los_Angeles:20140301T123000
DTSTAMP:20260420T002403
CREATED:20131213T111823Z
LAST-MODIFIED:20131213T111823Z
UID:10018135-1393666200-1393677000@www.dsj.org
SUMMARY:Ministry to the Bereaved: Create & Sustain your Parish Ministry
DESCRIPTION:This in-depth training and enrichment series is an opportunity for staff and volunteers to focus on bereavement support in the parish setting. Your knowledge\,   skills and confidence will be enhanced by exploring topics on the grief process\, communication and facilitation skills and forming your parish plan. Activities\, reflection and prayer will be included each week. Curriculum resources will be discussed. \nDates:  4 Saturdays: February 22\, March 1\, 8 & 22 One make-up session: March 29 \nTime:  9:30am-12:30pm \nLocation:  St. Martin of Tours Parish—Community Room 200 O’Connor Drive\, San Jose\, CA 95128 \nFacilitator: Suzanne Young\, M.A. Suzanne Young is an educator\, spiritual director and former outreach coordinator for Catholic Cemeteries for the San Jose Diocese. She has created and facilitated over 40 bereavement support sessions for parishes and cemetery staff and is delighted to be teaching this six week course on creating and sustaining a ministry in Parish Bereavement Support. \nCost: $100 per person* *This fee will be returned upon completion of the training series.  All 6 sessions must be attended for the fee to be returned. \nPlease RSVP by returning registration form with payment or at cemeteryinfo@dsj.org or 650-428-3730. If RSVPing by e-mail or phone\, please submit check at the 1st session. \nClick here to download flyer and registration form.
URL:https://www.dsj.org/event/ministry-bereaved-create-sustain-parish-ministry-2/
LOCATION:St. Martin of Tours Parish – Community Room\, 200 O’Connor Drive\, San Jose\, CA\, 95128\, United States
ORGANIZER;CN="Catholic Cemeteries":MAILTO:cemeteryinfo@dsj.org
GEO:37.3252029;-121.9390127
X-APPLE-STRUCTURED-LOCATION;VALUE=URI;X-ADDRESS=St. Martin of Tours Parish – Community Room 200 O’Connor Drive San Jose CA 95128 United States;X-APPLE-RADIUS=500;X-TITLE=200 O’Connor Drive:geo:-121.9390127,37.3252029
END:VEVENT
BEGIN:VEVENT
DTSTART;TZID=America/Los_Angeles:20140301T103000
DTEND;TZID=America/Los_Angeles:20140301T123000
DTSTAMP:20260420T002403
CREATED:20140109T105629Z
LAST-MODIFIED:20140109T105629Z
UID:10018159-1393669800-1393677000@www.dsj.org
SUMMARY:Anointing of the Sick - A Healing Ritual
DESCRIPTION:Anointing of the Sick ~ One of the seven sacraments Baptized Catholics of all ages who seek recovery in body\,   mind\, and spirit. There may still be a misunderstanding that this Sacrament is solely for those on their death bed\,   but that is not the case. This Sacrament can offer strength\,   peace\, and courage to endure with grace the sufferings of illness\, as well as restoration of health according to God’s will. \nSt. Joseph Cupertino will be offering the Sacrament\, Anointing of the Sick immediately following the presentation. \nClick here to download a flyer.
URL:https://www.dsj.org/event/anointing-sick-healing-ritual/
LOCATION:St. Joseph of Cupertino\, 10110 N. DeAnza Blvd\, Cupertino\, CA\, 95014\, United States
ORGANIZER;CN="Catholic Cemeteries":MAILTO:cemeteryinfo@dsj.org
GEO:37.3242634;-122.0307695
X-APPLE-STRUCTURED-LOCATION;VALUE=URI;X-ADDRESS=St. Joseph of Cupertino 10110 N. DeAnza Blvd Cupertino CA 95014 United States;X-APPLE-RADIUS=500;X-TITLE=10110 N. DeAnza Blvd:geo:-122.0307695,37.3242634
END:VEVENT
BEGIN:VEVENT
DTSTART;TZID=America/Los_Angeles:20140301T180000
DTEND;TZID=America/Los_Angeles:20140301T230000
DTSTAMP:20260420T002403
CREATED:20140207T121349Z
LAST-MODIFIED:20140207T121349Z
UID:10017991-1393696800-1393714800@www.dsj.org
SUMMARY:Le Cirque Du St. Lawrence - Annual Auction Fundraising Dinner & Casino Night
DESCRIPTION:Come join us under the big top and enjoy an evening of food\,   drinks and some casino fun! All proceeds benefit St. Lawrence Elementary and Middle School. Click here to register. \n 
URL:https://www.dsj.org/event/le-cirque-du-st-lawrence-annual-auction-fundraising-dinner-casino-night/
LOCATION:Saint Lawrence Elementary & Middle School\, 1971 St. Lawrence Drive\, Santa Clara\, CA\, United States
GEO:37.3580106;-121.9947547
X-APPLE-STRUCTURED-LOCATION;VALUE=URI;X-ADDRESS=Saint Lawrence Elementary & Middle School 1971 St. Lawrence Drive Santa Clara CA United States;X-APPLE-RADIUS=500;X-TITLE=1971 St. Lawrence Drive:geo:-121.9947547,37.3580106
END:VEVENT
BEGIN:VEVENT
DTSTART;TZID=America/Los_Angeles:20140301T183000
DTEND;TZID=America/Los_Angeles:20140301T193000
DTSTAMP:20260420T002403
CREATED:20140224T093316Z
LAST-MODIFIED:20140224T093316Z
UID:10018009-1393698600-1393702200@www.dsj.org
SUMMARY:The Emmaus Mass - Welcoming All God's Children
DESCRIPTION:
URL:https://www.dsj.org/event/the-emmaus-mass-welcoming-all-gods-children/2014-03-01/
LOCATION:St. Martin of Tours Chapel\, 300 O’Connor Drive\, San Jose\, CA\, 95128\, United States
GEO:37.3255875;-121.9395391
X-APPLE-STRUCTURED-LOCATION;VALUE=URI;X-ADDRESS=St. Martin of Tours Chapel 300 O’Connor Drive San Jose CA 95128 United States;X-APPLE-RADIUS=500;X-TITLE=300 O’Connor Drive:geo:-121.9395391,37.3255875
END:VEVENT
END:VCALENDAR