BEGIN:VCALENDAR
VERSION:2.0
PRODID:-//Diocese of San Jose - ECPv6.15.20//NONSGML v1.0//EN
CALSCALE:GREGORIAN
METHOD:PUBLISH
X-WR-CALNAME:Diocese of San Jose
X-ORIGINAL-URL:https://www.dsj.org
X-WR-CALDESC:Events for Diocese of San Jose
REFRESH-INTERVAL;VALUE=DURATION:PT1H
X-Robots-Tag:noindex
X-PUBLISHED-TTL:PT1H
BEGIN:VTIMEZONE
TZID:America/Los_Angeles
BEGIN:DAYLIGHT
TZOFFSETFROM:-0800
TZOFFSETTO:-0700
TZNAME:PDT
DTSTART:20130310T100000
END:DAYLIGHT
BEGIN:STANDARD
TZOFFSETFROM:-0700
TZOFFSETTO:-0800
TZNAME:PST
DTSTART:20131103T090000
END:STANDARD
BEGIN:DAYLIGHT
TZOFFSETFROM:-0800
TZOFFSETTO:-0700
TZNAME:PDT
DTSTART:20140309T100000
END:DAYLIGHT
BEGIN:STANDARD
TZOFFSETFROM:-0700
TZOFFSETTO:-0800
TZNAME:PST
DTSTART:20141102T090000
END:STANDARD
BEGIN:DAYLIGHT
TZOFFSETFROM:-0800
TZOFFSETTO:-0700
TZNAME:PDT
DTSTART:20150308T100000
END:DAYLIGHT
BEGIN:STANDARD
TZOFFSETFROM:-0700
TZOFFSETTO:-0800
TZNAME:PST
DTSTART:20151101T090000
END:STANDARD
END:VTIMEZONE
BEGIN:VEVENT
DTSTART;TZID=America/Los_Angeles:20140226T180000
DTEND;TZID=America/Los_Angeles:20140226T190000
DTSTAMP:20260420T130601
CREATED:20140218T130745Z
LAST-MODIFIED:20140218T130745Z
UID:10018237-1393437600-1393441200@www.dsj.org
SUMMARY:Grief Support Group
DESCRIPTION:Facilitated by Chaplain Roger and one of the hospice agencies we work with. Meets Monthly\,   Last Wednesday\, 6:00pm-7:00pm. Open to everyone. Click here to download a flyer.
URL:https://www.dsj.org/event/grief-support-group/
LOCATION:Westmont Senior Living’s Theater\, 1160 Cochrane Road\, Morgan Hill\, CA\, 95037\, United States
GEO:37.155202;-121.647884
X-APPLE-STRUCTURED-LOCATION;VALUE=URI;X-ADDRESS=Westmont Senior Living’s Theater 1160 Cochrane Road Morgan Hill CA 95037 United States;X-APPLE-RADIUS=500;X-TITLE=1160 Cochrane Road:geo:-121.647884,37.155202
END:VEVENT
END:VCALENDAR