BEGIN:VCALENDAR
VERSION:2.0
PRODID:-//Diocese of San Jose - ECPv6.15.20//NONSGML v1.0//EN
CALSCALE:GREGORIAN
METHOD:PUBLISH
X-ORIGINAL-URL:https://www.dsj.org
X-WR-CALDESC:Events for Diocese of San Jose
REFRESH-INTERVAL;VALUE=DURATION:PT1H
X-Robots-Tag:noindex
X-PUBLISHED-TTL:PT1H
BEGIN:VTIMEZONE
TZID:America/Los_Angeles
BEGIN:DAYLIGHT
TZOFFSETFROM:-0800
TZOFFSETTO:-0700
TZNAME:PDT
DTSTART:20130310T100000
END:DAYLIGHT
BEGIN:STANDARD
TZOFFSETFROM:-0700
TZOFFSETTO:-0800
TZNAME:PST
DTSTART:20131103T090000
END:STANDARD
BEGIN:DAYLIGHT
TZOFFSETFROM:-0800
TZOFFSETTO:-0700
TZNAME:PDT
DTSTART:20140309T100000
END:DAYLIGHT
BEGIN:STANDARD
TZOFFSETFROM:-0700
TZOFFSETTO:-0800
TZNAME:PST
DTSTART:20141102T090000
END:STANDARD
BEGIN:DAYLIGHT
TZOFFSETFROM:-0800
TZOFFSETTO:-0700
TZNAME:PDT
DTSTART:20150308T100000
END:DAYLIGHT
BEGIN:STANDARD
TZOFFSETFROM:-0700
TZOFFSETTO:-0800
TZNAME:PST
DTSTART:20151101T090000
END:STANDARD
END:VTIMEZONE
BEGIN:VEVENT
DTSTART;VALUE=DATE:20140118
DTEND;VALUE=DATE:20140127
DTSTAMP:20260419T211352
CREATED:20140109T102728Z
LAST-MODIFIED:20140109T102728Z
UID:10017978-1390003200-1390780799@www.dsj.org
SUMMARY:9-Day Novena for Life
DESCRIPTION:Catholics across the country are invited to participate in a nine-day period of Prayer\,   Penance and Pilgrimage from January 18-26\, 2014 for the healing and conversion of our nation and people impacted by the culture of death. \nAdditional information on “9 Days for Life” has been posted on the USCCB website\,   including prayer\, programmatic\, and promotional resources which are being made available to encourage participation in this nationwide prayer effort. For more information on the available resources\, please visit our resources page for leaders: www.usccb.org/prolife \nThe centerpiece of this prayer effort is a simple\, youth-friendly novena with different intercessions\, brief reflections and suggested acts of reparation that can be received directly each day by email\, text message or through a new mobile application for smartphones (soon to be made available for both Android and iOS phones). For more information on subscribing through any of these means\, please visit www.9daysforlife.com.
URL:https://www.dsj.org/event/9-day-novena-life/
LOCATION:CA
END:VEVENT
BEGIN:VEVENT
DTSTART;TZID=America/Los_Angeles:20140125T090000
DTEND;TZID=America/Los_Angeles:20140125T123000
DTSTAMP:20260419T211352
CREATED:20131029T102355Z
LAST-MODIFIED:20131029T102355Z
UID:10017927-1390640400-1390653000@www.dsj.org
SUMMARY:Second Annual Mentoring Conference
DESCRIPTION:Children’s Mentoring Organizations will hold the second mentoring conference. Featuring Keynote Speaker Will Lopez of Homeboy Industries. \n \nHomeboy Industries\, Will Lopez from Jake Turner on Vimeo. \nWe will have talks and instructions on how to be a mentor. \nLight refreshments provided. \nAll are welcome. \nFor more information or to RSVP\, contact 408-218-3963 or southbaymentoring@gmail.com. \nClick here to download the flyer
URL:https://www.dsj.org/event/annual-mentoring-conference/
LOCATION:County Governement Center\, 70 West Hedding Street\, San Jose\, CA\, United States
GEO:37.3526644;-121.9037419
X-APPLE-STRUCTURED-LOCATION;VALUE=URI;X-ADDRESS=County Governement Center 70 West Hedding Street San Jose CA United States;X-APPLE-RADIUS=500;X-TITLE=70 West Hedding Street:geo:-121.9037419,37.3526644
END:VEVENT
BEGIN:VEVENT
DTSTART;TZID=America/Los_Angeles:20140125T104500
DTEND;TZID=America/Los_Angeles:20140125T121500
DTSTAMP:20260419T211352
CREATED:20140107T163334Z
LAST-MODIFIED:20140107T163334Z
UID:10017971-1390646700-1390652100@www.dsj.org
SUMMARY:Silent No More Awareness Campaign
DESCRIPTION:Georgette Forney will be here to lead the Silent No More Awareness Campaign. Their message and testimony desperately NEEDS to be heard on the West Coast! \nTo learn more about the Walk for Life\,   visit www.walkforlifewc.com/event-info/event-schedule/
URL:https://www.dsj.org/event/silent-awareness-campaign/
LOCATION:S.F. Civic Center Plaza\, 355 McAllister St.\, San Francisco\, CA\, United States
GEO:37.7803689;-122.417786
X-APPLE-STRUCTURED-LOCATION;VALUE=URI;X-ADDRESS=S.F. Civic Center Plaza 355 McAllister St. San Francisco CA United States;X-APPLE-RADIUS=500;X-TITLE=355 McAllister St.:geo:-122.417786,37.7803689
END:VEVENT
BEGIN:VEVENT
DTSTART;TZID=America/Los_Angeles:20140125T123000
DTEND;TZID=America/Los_Angeles:20140125T133000
DTSTAMP:20260419T211352
CREATED:20140107T163158Z
LAST-MODIFIED:20140107T163158Z
UID:10017970-1390653000-1390656600@www.dsj.org
SUMMARY:Walk for Life Main Event
DESCRIPTION:Speakers include: Shari Rigby\,   Grace Dulaney\, Monica Snyder\,   and Pastor Clenard Childress \nTo learn more about the Walk for Life\, visit www.walkforlifewc.com/event-info/event-schedule/
URL:https://www.dsj.org/event/walk-life-main-event/
LOCATION:S.F. Civic Center Plaza\, 355 McAllister St.\, San Francisco\, CA\, United States
GEO:37.7803689;-122.417786
X-APPLE-STRUCTURED-LOCATION;VALUE=URI;X-ADDRESS=S.F. Civic Center Plaza 355 McAllister St. San Francisco CA United States;X-APPLE-RADIUS=500;X-TITLE=355 McAllister St.:geo:-122.417786,37.7803689
END:VEVENT
END:VCALENDAR