BEGIN:VCALENDAR
VERSION:2.0
PRODID:-//Diocese of San Jose - ECPv6.15.20//NONSGML v1.0//EN
CALSCALE:GREGORIAN
METHOD:PUBLISH
X-WR-CALNAME:Diocese of San Jose
X-ORIGINAL-URL:https://www.dsj.org
X-WR-CALDESC:Events for Diocese of San Jose
REFRESH-INTERVAL;VALUE=DURATION:PT1H
X-Robots-Tag:noindex
X-PUBLISHED-TTL:PT1H
BEGIN:VTIMEZONE
TZID:America/Los_Angeles
BEGIN:DAYLIGHT
TZOFFSETFROM:-0800
TZOFFSETTO:-0700
TZNAME:PDT
DTSTART:20120311T100000
END:DAYLIGHT
BEGIN:STANDARD
TZOFFSETFROM:-0700
TZOFFSETTO:-0800
TZNAME:PST
DTSTART:20121104T090000
END:STANDARD
BEGIN:DAYLIGHT
TZOFFSETFROM:-0800
TZOFFSETTO:-0700
TZNAME:PDT
DTSTART:20130310T100000
END:DAYLIGHT
BEGIN:STANDARD
TZOFFSETFROM:-0700
TZOFFSETTO:-0800
TZNAME:PST
DTSTART:20131103T090000
END:STANDARD
BEGIN:DAYLIGHT
TZOFFSETFROM:-0800
TZOFFSETTO:-0700
TZNAME:PDT
DTSTART:20140309T100000
END:DAYLIGHT
BEGIN:STANDARD
TZOFFSETFROM:-0700
TZOFFSETTO:-0800
TZNAME:PST
DTSTART:20141102T090000
END:STANDARD
END:VTIMEZONE
BEGIN:VEVENT
DTSTART;TZID=America/Los_Angeles:20131214T100000
DTEND;TZID=America/Los_Angeles:20131214T120000
DTSTAMP:20260420T133839
CREATED:20131202T130949Z
LAST-MODIFIED:20131202T130949Z
UID:10018102-1387015200-1387022400@www.dsj.org
SUMMARY:Consolation of Grief During the Holidays
DESCRIPTION:“Life is changed\,   not ended.” St. Joseph of Cupertino and Catholic Cemeteries presents: Anniversaries and holidays often accentuate the grief and sadness we experience when a loved one dies. Fr. Chris Bennett offers us stories from scripture and from his own life to support our practices and activities that bring healing during our periods of mourning. \nRSVPs are appreciated but not necessary cemeteryinfo@dsj.org or 650-428-373. \nShare this event. Click here to download and print the flyer. \n 
URL:https://www.dsj.org/event/consolation-grief-holidays-2/
LOCATION:St. Joseph Cupertino\, 10110 N. De Anza Boulevard\, Cupertino\, CA\, United States
GEO:37.3242634;-122.0307695
X-APPLE-STRUCTURED-LOCATION;VALUE=URI;X-ADDRESS=St. Joseph Cupertino 10110 N. De Anza Boulevard Cupertino CA United States;X-APPLE-RADIUS=500;X-TITLE=10110 N. De Anza Boulevard:geo:-122.0307695,37.3242634
END:VEVENT
END:VCALENDAR