BEGIN:VCALENDAR
VERSION:2.0
PRODID:-//Diocese of San Jose - ECPv6.15.20//NONSGML v1.0//EN
CALSCALE:GREGORIAN
METHOD:PUBLISH
X-ORIGINAL-URL:https://www.dsj.org
X-WR-CALDESC:Events for Diocese of San Jose
REFRESH-INTERVAL;VALUE=DURATION:PT1H
X-Robots-Tag:noindex
X-PUBLISHED-TTL:PT1H
BEGIN:VTIMEZONE
TZID:America/Los_Angeles
BEGIN:DAYLIGHT
TZOFFSETFROM:-0800
TZOFFSETTO:-0700
TZNAME:PDT
DTSTART:20120311T100000
END:DAYLIGHT
BEGIN:STANDARD
TZOFFSETFROM:-0700
TZOFFSETTO:-0800
TZNAME:PST
DTSTART:20121104T090000
END:STANDARD
BEGIN:DAYLIGHT
TZOFFSETFROM:-0800
TZOFFSETTO:-0700
TZNAME:PDT
DTSTART:20130310T100000
END:DAYLIGHT
BEGIN:STANDARD
TZOFFSETFROM:-0700
TZOFFSETTO:-0800
TZNAME:PST
DTSTART:20131103T090000
END:STANDARD
BEGIN:DAYLIGHT
TZOFFSETFROM:-0800
TZOFFSETTO:-0700
TZNAME:PDT
DTSTART:20140309T100000
END:DAYLIGHT
BEGIN:STANDARD
TZOFFSETFROM:-0700
TZOFFSETTO:-0800
TZNAME:PST
DTSTART:20141102T090000
END:STANDARD
END:VTIMEZONE
BEGIN:VEVENT
DTSTART;TZID=America/Los_Angeles:20131210T120000
DTEND;TZID=America/Los_Angeles:20131210T120000
DTSTAMP:20260419T210321
CREATED:20131203T104920Z
LAST-MODIFIED:20131203T104920Z
UID:10018108-1386676800-1386676800@www.dsj.org
SUMMARY:Pope Francis to Launch Global Hunger Campaign
DESCRIPTION:On Tuesday\,   December 10\, 2013\, Pope Francis will launch a worldwide movement to respond to the needs of the poor and vulnerable in our midst by praying and acting to end hunger. \nAt noon local time on December 10th\, a global wave of prayer will begin on the Island of Samoa and will progress around the world in each time zone until it reaches the island again some 24 hours and more than 164 countries later. \nThe objective is to unite the voices of the Catholic community around the globe to end the scandal of world hunger and all are invited to participate. \nPlease consider praying the attached prayer at noon on December 10 wherever you are and organizing your workplace or other groups to join you. \nClick here to download the prayer.\nCampaign Prayer \nO God\, you entrusted to us the fruits of all creation so that we might care for the earth and be nourished with its bounty. \nYou sent us your Son to share our very flesh and blood and  to teach us your Law of Love. Through His death and resurrection\, we have been formed into one human family. \nJesus  showed great concern for those who had no food – even transforming five loaves and two fish into a banquet that served five thousand and many more. \nWe come before you\, O God\, conscious of our faults and failures\, but full of hope\, to share food with all members in this global family. \nThrough your wisdom\, inspire leaders of government and of business\, as well as all the world’s citizens\, to find just\, and charitable solutions to end hunger by assuring that all people enjoy the right to food. \nThus we pray\, O God\, that when we present ourselves for Divine Judgment\, we can proclaim ourselves as “One Human Family” with “Food for All”. AMEN.
URL:https://www.dsj.org/event/pope-francis-launch-global-hunger-campaign/
LOCATION:CA
END:VEVENT
BEGIN:VEVENT
DTSTART;TZID=America/Los_Angeles:20131210T190000
DTEND;TZID=America/Los_Angeles:20131210T203000
DTSTAMP:20260419T210321
CREATED:20131205T114542Z
LAST-MODIFIED:20131205T114542Z
UID:10018119-1386702000-1386707400@www.dsj.org
SUMMARY:Novena en honor a la Virgen Guadalupe
DESCRIPTION:Rosario: 7:00 PM Liturgia: 7:30 PM
URL:https://www.dsj.org/event/novena-en-honor-la-virgen-guadalupe-4/
LOCATION:Santa Maria Goretti\, 2980 Senter Rd.\, San José\, United States
GEO:37.296814;-121.835373
X-APPLE-STRUCTURED-LOCATION;VALUE=URI;X-ADDRESS=Santa Maria Goretti 2980 Senter Rd. San José United States;X-APPLE-RADIUS=500;X-TITLE=2980 Senter Rd.:geo:-121.835373,37.296814
END:VEVENT
END:VCALENDAR