BEGIN:VCALENDAR
VERSION:2.0
PRODID:-//Diocese of San Jose - ECPv6.15.20//NONSGML v1.0//EN
CALSCALE:GREGORIAN
METHOD:PUBLISH
X-ORIGINAL-URL:https://www.dsj.org
X-WR-CALDESC:Events for Diocese of San Jose
REFRESH-INTERVAL;VALUE=DURATION:PT1H
X-Robots-Tag:noindex
X-PUBLISHED-TTL:PT1H
BEGIN:VTIMEZONE
TZID:America/Los_Angeles
BEGIN:DAYLIGHT
TZOFFSETFROM:-0800
TZOFFSETTO:-0700
TZNAME:PDT
DTSTART:20120311T100000
END:DAYLIGHT
BEGIN:STANDARD
TZOFFSETFROM:-0700
TZOFFSETTO:-0800
TZNAME:PST
DTSTART:20121104T090000
END:STANDARD
BEGIN:DAYLIGHT
TZOFFSETFROM:-0800
TZOFFSETTO:-0700
TZNAME:PDT
DTSTART:20130310T100000
END:DAYLIGHT
BEGIN:STANDARD
TZOFFSETFROM:-0700
TZOFFSETTO:-0800
TZNAME:PST
DTSTART:20131103T090000
END:STANDARD
BEGIN:DAYLIGHT
TZOFFSETFROM:-0800
TZOFFSETTO:-0700
TZNAME:PDT
DTSTART:20140309T100000
END:DAYLIGHT
BEGIN:STANDARD
TZOFFSETFROM:-0700
TZOFFSETTO:-0800
TZNAME:PST
DTSTART:20141102T090000
END:STANDARD
END:VTIMEZONE
BEGIN:VEVENT
DTSTART;TZID=America/Los_Angeles:20131206T130000
DTEND;TZID=America/Los_Angeles:20131206T210000
DTSTAMP:20260419T163044
CREATED:20131029T101643Z
LAST-MODIFIED:20131029T101643Z
UID:10018074-1386334800-1386363600@www.dsj.org
SUMMARY:St. John Vianney Holiday Faire
DESCRIPTION:The annual St. John Vianney Holiday Faire is a festive and fun filled community celebration. For over 50 years the Faire has been one of the main fundraisers for the school\,   as well as proving to be a wonderful holiday shopping event for all who attend. \nThe event times vary by day. Friday\,   December 6th\, we are open from 1-9 to the general public and beginning at 11 a.m. to 1 p.m. we have special Early Bird Hours for Senior Citizens. Saturday\,   December 7th\, we are open from 8am-7pm and Sunday\, December 8th\, 8am-4pm. \nClick here for more information.
URL:https://www.dsj.org/event/st-john-vianney-holiday-faire/
LOCATION:St. John Vianney Community Center\, 4602 Hyland Avenue\, San Jose\, CA\, United States
GEO:37.3718012;-121.8262431
X-APPLE-STRUCTURED-LOCATION;VALUE=URI;X-ADDRESS=St. John Vianney Community Center 4602 Hyland Avenue San Jose CA United States;X-APPLE-RADIUS=500;X-TITLE=4602 Hyland Avenue:geo:-121.8262431,37.3718012
END:VEVENT
BEGIN:VEVENT
DTSTART;TZID=America/Los_Angeles:20131206T160000
DTEND;TZID=America/Los_Angeles:20131208T130000
DTSTAMP:20260419T163044
CREATED:20131022T161031Z
LAST-MODIFIED:20210825T163249Z
UID:10018055-1386345600-1386507600@www.dsj.org
SUMMARY:Advent Silent Retreat
DESCRIPTION:Do Something Special for Advent. Give yourself the best Christmas gift! Make a silent retreat at Vallombrosa Center in Menlo Park. We’ve set aside the weekend of Dec. 6 through Dec. 8th for individuals to prepare for Christmas by taking time out of their busy schedules to simply rest and pray in a peaceful\,   spiritual environment. Persons may make a completely private retreat or join our “Psalm 46 Retreat” which will include three conferences with an Advent theme presented by Father Patrick\, our Director. Retreatants will have an opportunity for a personal conference with Fr. Patrick if they desire. Our fee of $236.00 per person includes 2 nights in a private room with bath and six delicious meals. Special dietary needs can usually be met.\nCall 650-325-5614 to register or find us on-line at www.vallombrosa.org.
URL:https://www.dsj.org/event/advent-silent-retreat/
LOCATION:Vallombrosa Center\, 250 Oak Grove Avenue\, Menlo Park\, CA\, 94025\, United States
GEO:37.459641;-122.181369
X-APPLE-STRUCTURED-LOCATION;VALUE=URI;X-ADDRESS=Vallombrosa Center 250 Oak Grove Avenue Menlo Park CA 94025 United States;X-APPLE-RADIUS=500;X-TITLE=250 Oak Grove Avenue:geo:-122.181369,37.459641
END:VEVENT
BEGIN:VEVENT
DTSTART;TZID=America/Los_Angeles:20131206T180000
DTEND;TZID=America/Los_Angeles:20131206T200000
DTSTAMP:20260419T163044
CREATED:20131205T110825Z
LAST-MODIFIED:20131205T110825Z
UID:10017959-1386352800-1386360000@www.dsj.org
SUMMARY:Celebremos a Nuestra Señora de Guadalupe
DESCRIPTION:con nuestro \nObispo Patrick J. McGrath \nViernes 6 de Diciembre de 2013 \nBienvenida de las Procesiones 6:00 p.m. \nLiturgia 7:00 p.m. \n2020 E. San Antonio St. San José\,   CA \nNovena – Cambios
URL:https://www.dsj.org/event/celebremos-nuestra-senora-de-guadalupe/
LOCATION:Our Lady of Guadalupe\, 2020 E. San Antonio St.\, San Jose\, CA\, 95116\, United States
GEO:37.3527238;-121.8452708
X-APPLE-STRUCTURED-LOCATION;VALUE=URI;X-ADDRESS=Our Lady of Guadalupe 2020 E. San Antonio St. San Jose CA 95116 United States;X-APPLE-RADIUS=500;X-TITLE=2020 E. San Antonio St.:geo:-121.8452708,37.3527238
END:VEVENT
BEGIN:VEVENT
DTSTART;TZID=America/Los_Angeles:20131206T183000
DTEND;TZID=America/Los_Angeles:20131208T133000
DTSTAMP:20260419T163044
CREATED:20131203T105936Z
LAST-MODIFIED:20210825T163248Z
UID:10018110-1386354600-1386509400@www.dsj.org
SUMMARY:"Creating Space" Recovery Retreat for Men
DESCRIPTION:Recovery Retreat for Men by Fr. Phil Cooke\,   S.J. Life is about creating space and so is recovery. During this retreat we will take a journey through the 12 Steps paralleled with the richness of our Sacred Scripture. While diving into the depths of the Steps and Gospel\, we will create the necessary space to allow God to continue to work with us so His will can be done\, and not ours. Call (650) 917-4047 to register.
URL:https://www.dsj.org/event/creating-space-recovery-retreat-men/
LOCATION:The Jesuit Retreat Center of Los Altos\, 300 Manresa Way\, Los Altos\, CA\, 94022\, United States
GEO:37.3695774;-122.1194926
X-APPLE-STRUCTURED-LOCATION;VALUE=URI;X-ADDRESS=The Jesuit Retreat Center of Los Altos 300 Manresa Way Los Altos CA 94022 United States;X-APPLE-RADIUS=500;X-TITLE=300 Manresa Way:geo:-122.1194926,37.3695774
END:VEVENT
END:VCALENDAR